BEGIN:VCALENDAR
VERSION:2.0
PRODID:-// „Objev místa, kde se dobře pije, krásně spí a skvěle žije“  - ECPv6.15.20//NONSGML v1.0//EN
CALSCALE:GREGORIAN
METHOD:PUBLISH
X-WR-CALNAME: „Objev místa, kde se dobře pije, krásně spí a skvěle žije“ 
X-ORIGINAL-URL:https://nasejiznimorava.cz
X-WR-CALDESC:Akce na  „Objev místa, kde se dobře pije, krásně spí a skvěle žije“ 
REFRESH-INTERVAL;VALUE=DURATION:PT1H
X-Robots-Tag:noindex
X-PUBLISHED-TTL:PT1H
BEGIN:VTIMEZONE
TZID:Europe/Prague
BEGIN:DAYLIGHT
TZOFFSETFROM:+0100
TZOFFSETTO:+0200
TZNAME:CEST
DTSTART:20250330T010000
END:DAYLIGHT
BEGIN:STANDARD
TZOFFSETFROM:+0200
TZOFFSETTO:+0100
TZNAME:CET
DTSTART:20251026T010000
END:STANDARD
BEGIN:DAYLIGHT
TZOFFSETFROM:+0100
TZOFFSETTO:+0200
TZNAME:CEST
DTSTART:20260329T010000
END:DAYLIGHT
BEGIN:STANDARD
TZOFFSETFROM:+0200
TZOFFSETTO:+0100
TZNAME:CET
DTSTART:20261025T010000
END:STANDARD
BEGIN:DAYLIGHT
TZOFFSETFROM:+0100
TZOFFSETTO:+0200
TZNAME:CEST
DTSTART:20270328T010000
END:DAYLIGHT
BEGIN:STANDARD
TZOFFSETFROM:+0200
TZOFFSETTO:+0100
TZNAME:CET
DTSTART:20271031T010000
END:STANDARD
END:VTIMEZONE
BEGIN:VEVENT
DTSTART;TZID=Europe/Prague:20260416T190000
DTEND;TZID=Europe/Prague:20260416T220000
DTSTAMP:20260419T222411
CREATED:20260402T181410Z
LAST-MODIFIED:20260402T181410Z
UID:42480-1776366000-1776376800@nasejiznimorava.cz
SUMMARY:Tomík na cestách: Tuktukem z Bangkoku domů
DESCRIPTION:Tomík na cestách: Tuktukem z Bangkoku domů se uskuteční dne 2026-04-16 v 19:00 v Brno\, První Patro. \n🎟️ Koupit vstupenku \n\nNEUVĚŘITELNÁ CESTOVATELSKÁ STAND-UP PROJEKCE: TUKTUKEM Z THAJSKA AŽ NA MORAVU! \n  \nVydejte se na cestu plnou dobrodružství\, smíchu a inspirace s Tomášem Vejmolou\, známým jako Tomík na cestách! Tento mladý cestovatel vás vezme na nezapomenutelný roční roadtrip v thajské tříkolce\, která se stala nejen jeho dopravním prostředkem\, ale také společníkem na cestě dlouhé 13 000 kilometrů přes 9 zemí.  \n  \nO čem to celé bude? Představte si\, že si koupíte 35 let starý tuktuk\, nemáte žádné zkušenosti s opravami\, a přesto se vydáte na roční výpravu přes půlku světa. To přesně udělal Tomík! Na své trase projel Thajsko\, Myanmar\, Indii\, Nepál\, Írán\, Turecko\, Bulharsko\, Srbsko\, Maďarsko a po roce dorazil na Moravu.  \n  \n A co během té doby zažil?  \n– Útěky před rozzlobeným slonem v Indii.  \n– Nabídky k sňatku v exotických zemích.  \n– Nepředvídatelné situace\, poruchy a momenty\, kdy se zdálo\, že cesta skončí.  \n– Ale také neuvěřitelnou pohostinnost a krásu Íránu i další zemí.  \n  \nTomík vás s humorem a nadsázkou provede těmito zážitky\, přidá své postřehy o překonávání překážek a ukáže\, že když se chce\, tak to jde.  \n\nTento tip na kulturní akci v Brno najdete v přehledu na nasejiznimorava.cz kde na jednom místě shromažďujeme desítky dalších koncertů\, festivalů\, divadelních představení i komunitních událostí z celého regionu i z celé ČR. Přehled je přehledně řazený\, pravidelně aktualizovaný a umožní vám rychle najít přesně to\, co vás zajímá – od velkých open-air akcí až po menší lokální programy. Každý si tak snadno vybere podle svého vkusu i času. Pokud vás některá akce zaujme\, nezapomeňte si včas zajistit vstupenky; stačí kliknout na detail události a budete bezpečně přesměrováni na oficiálního prodejce vstupenek..
URL:https://nasejiznimorava.cz/event/tomik-na-cestach-tuktukem-z-bangkoku-domu/
LOCATION:První Patro\, Brno\, První Patro\, Brno\, Česká republika
CATEGORIES:Zábava
ATTACH;FMTTYPE=image/jpeg:https://nasejiznimorava.cz/wp-content/uploads/2026/04/320-defbc86c2bc14868b17d45257f7b4ad6.jpg
END:VEVENT
END:VCALENDAR