BEGIN:VCALENDAR
VERSION:2.0
PRODID:-// „Objev místa, kde se dobře pije, krásně spí a skvěle žije“  - ECPv6.15.20//NONSGML v1.0//EN
CALSCALE:GREGORIAN
METHOD:PUBLISH
X-WR-CALNAME: „Objev místa, kde se dobře pije, krásně spí a skvěle žije“ 
X-ORIGINAL-URL:https://nasejiznimorava.cz
X-WR-CALDESC:Akce na  „Objev místa, kde se dobře pije, krásně spí a skvěle žije“ 
REFRESH-INTERVAL;VALUE=DURATION:PT1H
X-Robots-Tag:noindex
X-PUBLISHED-TTL:PT1H
BEGIN:VTIMEZONE
TZID:Europe/Prague
BEGIN:DAYLIGHT
TZOFFSETFROM:+0100
TZOFFSETTO:+0200
TZNAME:CEST
DTSTART:20250330T010000
END:DAYLIGHT
BEGIN:STANDARD
TZOFFSETFROM:+0200
TZOFFSETTO:+0100
TZNAME:CET
DTSTART:20251026T010000
END:STANDARD
BEGIN:DAYLIGHT
TZOFFSETFROM:+0100
TZOFFSETTO:+0200
TZNAME:CEST
DTSTART:20260329T010000
END:DAYLIGHT
BEGIN:STANDARD
TZOFFSETFROM:+0200
TZOFFSETTO:+0100
TZNAME:CET
DTSTART:20261025T010000
END:STANDARD
BEGIN:DAYLIGHT
TZOFFSETFROM:+0100
TZOFFSETTO:+0200
TZNAME:CEST
DTSTART:20270328T010000
END:DAYLIGHT
BEGIN:STANDARD
TZOFFSETFROM:+0200
TZOFFSETTO:+0100
TZNAME:CET
DTSTART:20271031T010000
END:STANDARD
END:VTIMEZONE
BEGIN:VEVENT
DTSTART;TZID=Europe/Prague:20260509T190000
DTEND;TZID=Europe/Prague:20260509T220000
DTSTAMP:20260420T015950
CREATED:20260103T100711Z
LAST-MODIFIED:20260103T100727Z
UID:41239-1778353200-1778364000@nasejiznimorava.cz
SUMMARY:ŠESTÝ SMYSL
DESCRIPTION:ŠESTÝ SMYSL se uskuteční dne 2026-05-09 v 19:00 v Brno\, Cabaret des Péchés. \n🎟️ Koupit vstupenku \n\nŠESTÝ SMYSL — NEJVĚTŠÍ ŽENSKÁ SHOW V CABARETU DES PÉCHÉS!  \nVstupte do světa\, kde se ženské tajemství stává hlavní zbraní a fantazie realitou. Cabaret des Péchés uvádí svou dosud nejodvážnější a nejvíc sexy show: ŠESTÝ SMYSL. \nVečer plný ženských paradoxů\, tajemství a rafinovaného humoru\, který vás vtáhne do hlubin ženského myšlení – i když mu možná nikdy úplně neporozumíte. \n Těšte se na:  \n• smyslné tanečnice  \n• živý zpěv  \n• dechberoucí akrobacii  \n• svůdnou burlesku  \n• extravagantní drag show \n• interaktivní část \n• věštbu vašich osudů \n  \nBěhem večera budete mít možnost navštívit i tajemnou interaktivní část\, která vás donutí zamyslet se na důležitostí každého smyslu. Připravte se\, že ženská logika vás vtáhne do hry! \nA navíc – jen ti nejodvážnější okusí pokušení nahlédnout do budoucnosti. V ceně vstupenky je možnost setkání s věštkyní\, která vám bez zábran odkryje váš osud… pokud si troufnete. \nCelým večerem vás provede okouzlující moderátorka Daina Divad.  \n  \nŠESTÝ SMYSL není jen show — je to zážitek\, na který se nezapomíná. Připravte se na noc\, kdy zjistíte\, že ženy možná nemají vždy pravdu… ale rozhodně vždy vědí proč. \n  \nVšechny interaktivní aktivity i věštby berte\, prosím\, s nadhledem a špetkou humoru. Nejedná se o skutečné předtuchy\, ale o součást jedinečné show. \n  \nDoporučený dresscode – večerní elegance s jemným nádechem smyslnosti – tmavší barvy\, šaty\, saka\, košile nebo stylové doplňky; hlavní je cítit se příjemně a sebevědomě \nShow je určena výhradně pro publikum starší 18 let – vstup osobám mladším 18 let není povolen \nUpozornění pro divákyTato inscenace obsahuje světelné efekty\, včetně stroboskopických záblesků a rychle se měnících světelných sekvencí. U osob s fotosenzitivní epilepsií nebo zvýšenou citlivostí na intenzivní světelné podněty mohou tyto efekty vyvolat nepříznivé zdravotní reakce. Divákům\, kterých by se tato skutečnost mohla týkat\, se doporučuje zvýšená opatrnost. \n\nTento tip na kulturní akci v Brno najdete v přehledu na nasejiznimorava.cz kde na jednom místě shromažďujeme desítky dalších koncertů\, festivalů\, divadelních představení i komunitních událostí z celého regionu i z celé ČR. Přehled je přehledně řazený\, pravidelně aktualizovaný a umožní vám rychle najít přesně to\, co vás zajímá – od velkých open-air akcí až po menší lokální programy. Každý si tak snadno vybere podle svého vkusu i času. Pokud vás některá akce zaujme\, nezapomeňte si včas zajistit vstupenky; stačí kliknout na detail události a budete bezpečně přesměrováni na oficiálního prodejce vstupenek..
URL:https://nasejiznimorava.cz/event/sesty-smysl-11/
LOCATION:Cabaret des Péchés\, Brno\, Cabaret des Péchés\, Brno\, Česká republika
CATEGORIES:Zábava
ATTACH;FMTTYPE=image/jpeg:https://nasejiznimorava.cz/wp-content/uploads/2026/01/320-67f3aa61090b4bec87d39726abf83f8a.jpg
END:VEVENT
END:VCALENDAR