BEGIN:VCALENDAR
VERSION:2.0
PRODID:-// „Objev místa, kde se dobře pije, krásně spí a skvěle žije“  - ECPv6.15.20//NONSGML v1.0//EN
CALSCALE:GREGORIAN
METHOD:PUBLISH
X-WR-CALNAME: „Objev místa, kde se dobře pije, krásně spí a skvěle žije“ 
X-ORIGINAL-URL:https://nasejiznimorava.cz
X-WR-CALDESC:Akce na  „Objev místa, kde se dobře pije, krásně spí a skvěle žije“ 
REFRESH-INTERVAL;VALUE=DURATION:PT1H
X-Robots-Tag:noindex
X-PUBLISHED-TTL:PT1H
BEGIN:VTIMEZONE
TZID:Europe/Prague
BEGIN:DAYLIGHT
TZOFFSETFROM:+0100
TZOFFSETTO:+0200
TZNAME:CEST
DTSTART:20250330T010000
END:DAYLIGHT
BEGIN:STANDARD
TZOFFSETFROM:+0200
TZOFFSETTO:+0100
TZNAME:CET
DTSTART:20251026T010000
END:STANDARD
BEGIN:DAYLIGHT
TZOFFSETFROM:+0100
TZOFFSETTO:+0200
TZNAME:CEST
DTSTART:20260329T010000
END:DAYLIGHT
BEGIN:STANDARD
TZOFFSETFROM:+0200
TZOFFSETTO:+0100
TZNAME:CET
DTSTART:20261025T010000
END:STANDARD
BEGIN:DAYLIGHT
TZOFFSETFROM:+0100
TZOFFSETTO:+0200
TZNAME:CEST
DTSTART:20270328T010000
END:DAYLIGHT
BEGIN:STANDARD
TZOFFSETFROM:+0200
TZOFFSETTO:+0100
TZNAME:CET
DTSTART:20271031T010000
END:STANDARD
END:VTIMEZONE
BEGIN:VEVENT
DTSTART;TZID=Europe/Prague:20260513T190000
DTEND;TZID=Europe/Prague:20260513T220000
DTSTAMP:20260420T015200
CREATED:20251211T064725Z
LAST-MODIFIED:20251211T064735Z
UID:39824-1778698800-1778709600@nasejiznimorava.cz
SUMMARY:Adele - The show from London 2026
DESCRIPTION:Adele – The show from London 2026 se uskuteční dne 2026-05-13 v 19:00 v Brno\, Sono Centrum. \n🎟️ Koupit vstupenku \n\nZažijte výjimečný večer věnovaný jedné z největších hudebních ikon současnosti! Připravte se na strhující show v podání světově uznávané tribute kapely Adele Hometown Glory\, která vás uchvátí svou autentičností a hudební dokonalostí! \n‚Adele Tribute Hometown Glory‘ je dokonalou poctou světově proslulé a milované soulové zpěvačce Adele. Během strhujícího hodinového a půl koncertu uslyšíte nejznámější hity této šestnáctinásobné držitelky Grammy\, vítězky Zlatého glóbu a Oscara za ikonickou titulní píseň k bondovskému filmu „Skyfall“. Tato show vás přenese do světa nezapomenutelných melodií a emocí! \nShow Hometown Glory Tribute již uchvátila publikum po celém světě a nadále sbírá vynikající recenze. Nenechte si ujít jedinečnou příležitost zažít toto velkolepé hudební představení na vlastní kůži. Za doprovodu živé kapely\, která využívá nejmodernější technologie zvuku\, osvětlení a efekty\, vám přinášíme nádherně zpracovanou poctu jedné z nejvýznamnějších zpěvaček naší generace. Tato show je nezapomenutelným zážitkem\, který prostě musíte vidět! \n\nTento tip na kulturní akci v Brno najdete v přehledu na nasejiznimorava.cz kde na jednom místě shromažďujeme desítky dalších koncertů\, festivalů\, divadelních představení i komunitních událostí z celého regionu i z celé ČR. Přehled je přehledně řazený\, pravidelně aktualizovaný a umožní vám rychle najít přesně to\, co vás zajímá – od velkých open-air akcí až po menší lokální programy. Každý si tak snadno vybere podle svého vkusu i času. Pokud vás některá akce zaujme\, nezapomeňte si včas zajistit vstupenky; stačí kliknout na detail události a budete bezpečně přesměrováni na oficiálního prodejce vstupenek..
URL:https://nasejiznimorava.cz/event/adele-the-show-from-london-2026/
LOCATION:Sono Centrum\, Brno\, Sono Centrum\, Brno\, Česká republika
CATEGORIES:Koncert
ATTACH;FMTTYPE=image/jpeg:https://nasejiznimorava.cz/wp-content/uploads/2025/12/320-0f87c4bfe79c4fa0939e83c168781d45.jpg
END:VEVENT
BEGIN:VEVENT
DTSTART;TZID=Europe/Prague:20260513T190000
DTEND;TZID=Europe/Prague:20260513T220000
DTSTAMP:20260420T015200
CREATED:20251215T111232Z
LAST-MODIFIED:20251215T111232Z
UID:40412-1778698800-1778709600@nasejiznimorava.cz
SUMMARY:Petr Jablonský - Stand-up imitátor show - Brno
DESCRIPTION:Petr Jablonský – Stand-up imitátor show – Brno se uskuteční dne 2026-05-13 v 19:00 v Brno\, První Patro. \n🎟️ Koupit vstupenku \n\nPřední český imitátor a bavič Petr Jablonský přichází na pódium se svou první celovečerní Stand-up show\, která vás nenechá v klidu!  \nVstupte do světa brilantních hlasových proměn\, výrazné gestikulace\, výmluvné mimiky a vytříbeného komediálního talentu. Užijte si umění imitace v celé své kráse – naživo a naplno! \nTěšit se můžete na originální vystoupení\, ve kterém se na jevišti objeví plejáda postav z politického\, kulturního i televizního prostředí – ovšem v podání jediného člověka. Hlasy\, které dobře znáte\, zazní s takovou přesností\, že budete mít pocit\, jako by tam skutečně stáli. Chybět nebudou ani legendární filmové postavy – například slavný četník Cruchot a další hrdinové z klasických komedií\, kteří znovu ožívají díky Jablonského energii a dokonalé imitaci. \nRozehraje se šíleně zábavná show\, kde nikdo nezůstane ušetřen – a vy se budete smát od první minuty až do závěrečného potlesku. Petr si nebere servítky a jde přímo na věc. Ostrý jazyk\, přesné trefy a imitace\, které vás rozesmějí do slz. \nNekorektní humor. Desítky známých osobností. A jeden muž\, co to všechno zvládne sám. \nwww.standupshow.cz \n\nTento tip na kulturní akci v Brno najdete v přehledu na nasejiznimorava.cz kde na jednom místě shromažďujeme desítky dalších koncertů\, festivalů\, divadelních představení i komunitních událostí z celého regionu i z celé ČR. Přehled je přehledně řazený\, pravidelně aktualizovaný a umožní vám rychle najít přesně to\, co vás zajímá – od velkých open-air akcí až po menší lokální programy. Každý si tak snadno vybere podle svého vkusu i času. Pokud vás některá akce zaujme\, nezapomeňte si včas zajistit vstupenky; stačí kliknout na detail události a budete bezpečně přesměrováni na oficiálního prodejce vstupenek..
URL:https://nasejiznimorava.cz/event/petr-jablonsky-stand-up-imitator-show-brno/
LOCATION:První Patro\, Brno\, První Patro\, Brno\, Česká republika
CATEGORIES:Zábava
ATTACH;FMTTYPE=image/jpeg:https://nasejiznimorava.cz/wp-content/uploads/2025/12/320-850f9a16ff8d439999a937dcc88a216e.jpg
END:VEVENT
END:VCALENDAR