BEGIN:VCALENDAR
VERSION:2.0
PRODID:-// „Objev místa, kde se dobře pije, krásně spí a skvěle žije“  - ECPv6.15.20//NONSGML v1.0//EN
CALSCALE:GREGORIAN
METHOD:PUBLISH
X-WR-CALNAME: „Objev místa, kde se dobře pije, krásně spí a skvěle žije“ 
X-ORIGINAL-URL:https://nasejiznimorava.cz
X-WR-CALDESC:Akce na  „Objev místa, kde se dobře pije, krásně spí a skvěle žije“ 
REFRESH-INTERVAL;VALUE=DURATION:PT1H
X-Robots-Tag:noindex
X-PUBLISHED-TTL:PT1H
BEGIN:VTIMEZONE
TZID:Europe/Prague
BEGIN:DAYLIGHT
TZOFFSETFROM:+0100
TZOFFSETTO:+0200
TZNAME:CEST
DTSTART:20250330T010000
END:DAYLIGHT
BEGIN:STANDARD
TZOFFSETFROM:+0200
TZOFFSETTO:+0100
TZNAME:CET
DTSTART:20251026T010000
END:STANDARD
BEGIN:DAYLIGHT
TZOFFSETFROM:+0100
TZOFFSETTO:+0200
TZNAME:CEST
DTSTART:20260329T010000
END:DAYLIGHT
BEGIN:STANDARD
TZOFFSETFROM:+0200
TZOFFSETTO:+0100
TZNAME:CET
DTSTART:20261025T010000
END:STANDARD
BEGIN:DAYLIGHT
TZOFFSETFROM:+0100
TZOFFSETTO:+0200
TZNAME:CEST
DTSTART:20270328T010000
END:DAYLIGHT
BEGIN:STANDARD
TZOFFSETFROM:+0200
TZOFFSETTO:+0100
TZNAME:CET
DTSTART:20271031T010000
END:STANDARD
END:VTIMEZONE
BEGIN:VEVENT
DTSTART;TZID=Europe/Prague:20260516T130000
DTEND;TZID=Europe/Prague:20260516T160000
DTSTAMP:20260420T015133
CREATED:20260402T184810Z
LAST-MODIFIED:20260402T184813Z
UID:42667-1778936400-1778947200@nasejiznimorava.cz
SUMMARY:BestFEST 2026
DESCRIPTION:BestFEST 2026 se uskuteční dne 2026-05-16 v 13:00 v Brno\, Areál ČSAD. \n🎟️ Koupit vstupenku \n\nZažij rockovou jízdu na novém Open Air městském festivalu BestFEST 2026! \nPřiprav se na víkend plný energie\, kytarového drcení a nezapomenutelných riffů! Festival BestFEST 2026 přivítá fanoušky rocku a alternativní hudby v areálu ČSAD na ulici Hájecká 14\, 618 00 Brno\, kde se spojí skvělá hudba\, kamarádská atmosféra festivalový vibe. Událost na FB naleznete zde. \nPrvních 369 vstupenek za vánočních 369 Kč / lupen pouze do 25.12.1. vlna prodeje 450 Kč2. vlna prodeje 550 Kčna místě 650 Kč.    \nLine-up\, který rozproudí krev:  \n\nReflections of Karma – (IRL/AUS/CZ) Reflections of Karma\nHelmutova Stříkačka – (Brno) Helmutova Stříkačka \nGATE Crasher – (Brno) GATE Crasher\nRoman Dragoun a Futurum – (Brno) Futurum\nLoretta – (Brno) Loretta – Na bigbeat není starej nikdo\, natož ženský!\nThe Seniors – (Brno) The Seniors\nSilver Band – (Boskovice) Silver Band – Rocková Kapela\nRAKK – (Pardubice) kapela RAKK \nEvoluce – (Vyškov) Kapela Evoluce\n\n  \nZážitek\, na který nezapomeneš \nKromě koncertů tě čeká festivalová zóna s jídlem\, pitím\, a hlavně místem pro setkávání s kamarády a dalšími fanoušky. \nJsme městský festival a proto máme několik přesvědčivých důvodů\, proč fanoušci rockového festivalu mají přijet městskou hromadnou dopravou (MHD): \n1️⃣ Pohodlí bez stresu \nNemusíš řešit hledání parkování\, placení ani přejíždění mezi festivalem a městem. ​Přijedeš přímo k areálu k zastávce Hájecká z hlavního nádraží autobusem č. 47 nebo 49\, odkud je festival pěšky dostupný do 100 m. \n2️⃣ Rychlejší a předvídatelná cesta \nMHD ti umožní vyhnout se kolonám a nečekaným zdržení. Jízdní řády MHD jsou pravidelné a spolehlivé\, takže si můžeš naplánovat přesný příjezd i odjezd. \n3️⃣ Šetrné k životnímu prostředí \nJedna tramvaj nebo autobus nahradí desítky aut – méně emisí\, méně hluku a čistší ovzduší pro všechny návštěvníky i obyvatele města. \n4️⃣ Bezpečnější návrat po koncertech \nPo hudebním večeru nemusíš řídit ani hledat taxi. MHD je spolehlivá a často jezdí déle i během festivalových nocí. \n5️⃣ Festivalová atmosféra začíná už cestou \nSpolečná cesta s dalšími fanoušky může být součástí zážitku – zpívání\, povídání\, nadšení ještě před tím\, než zazní první akordy. A na festivalu si můžeš dát tolik piv\, kolik sneseš 🙂 \n\nTento tip na kulturní akci v Brno najdete v přehledu na nasejiznimorava.cz kde na jednom místě shromažďujeme desítky dalších koncertů\, festivalů\, divadelních představení i komunitních událostí z celého regionu i z celé ČR. Přehled je přehledně řazený\, pravidelně aktualizovaný a umožní vám rychle najít přesně to\, co vás zajímá – od velkých open-air akcí až po menší lokální programy. Každý si tak snadno vybere podle svého vkusu i času. Pokud vás některá akce zaujme\, nezapomeňte si včas zajistit vstupenky; stačí kliknout na detail události a budete bezpečně přesměrováni na oficiálního prodejce vstupenek..
URL:https://nasejiznimorava.cz/event/bestfest-2026/
LOCATION:Areál ČSAD\, Brno\, Areál ČSAD\, Brno\, Česká republika
CATEGORIES:Festival
ATTACH;FMTTYPE=image/jpeg:https://nasejiznimorava.cz/wp-content/uploads/2026/04/320-b701eb5c6ccd40b7b8b885c4d9793519.jpg
END:VEVENT
BEGIN:VEVENT
DTSTART;TZID=Europe/Prague:20260516T153000
DTEND;TZID=Europe/Prague:20260516T183000
DTSTAMP:20260420T015133
CREATED:20251215T115058Z
LAST-MODIFIED:20251215T115059Z
UID:40520-1778945400-1778956200@nasejiznimorava.cz
SUMMARY:Ženfest pod třešní 2026
DESCRIPTION:Ženfest pod třešní 2026 se uskuteční dne 2026-05-16 v 15:30 v Brno\, Trchova Zahrada. \n🎟️ Koupit vstupenku \n\nŽenfest pod třešní je rodinný open-air festival v Brně a zároveň oslavou ženské autorské hudební tvorby\, a to napříč hudebními žánry i věkem. Je výsledkem čiré radosti z toho\, že je na světě tolik zajímavých žen\, které dělají hudbu (a nejen ji) po svém.  \nTěšit se můžete i na doprovodný program v podobě open-air výstavy a vernisáže\, autorského čtení\, slam poetry\, výtvarné dílny či divadla pro děti.  \nNávštěvníky zveme do prostoru půvadbné Trchovy zahrady a rodinám hlásíme\, že děti do 10-ti let mají vstup zdarma. \n\nTento tip na kulturní akci v Brno najdete v přehledu na nasejiznimorava.cz kde na jednom místě shromažďujeme desítky dalších koncertů\, festivalů\, divadelních představení i komunitních událostí z celého regionu i z celé ČR. Přehled je přehledně řazený\, pravidelně aktualizovaný a umožní vám rychle najít přesně to\, co vás zajímá – od velkých open-air akcí až po menší lokální programy. Každý si tak snadno vybere podle svého vkusu i času. Pokud vás některá akce zaujme\, nezapomeňte si včas zajistit vstupenky; stačí kliknout na detail události a budete bezpečně přesměrováni na oficiálního prodejce vstupenek..
URL:https://nasejiznimorava.cz/event/zenfest-pod-tresni-2026/
LOCATION:Trchova Zahrada\, Brno\, Trchova Zahrada\, Brno\, Česká republika
CATEGORIES:Festival
ATTACH;FMTTYPE=image/jpeg:https://nasejiznimorava.cz/wp-content/uploads/2025/12/320-0ac7cd7582ca4611bc38dbadfb11f330.jpg
END:VEVENT
BEGIN:VEVENT
DTSTART;TZID=Europe/Prague:20260516T190000
DTEND;TZID=Europe/Prague:20260516T220000
DTSTAMP:20260420T015133
CREATED:20251111T134405Z
LAST-MODIFIED:20251111T134406Z
UID:37425-1778958000-1778968800@nasejiznimorava.cz
SUMMARY:ABBA SYMPHONIC SHOW 50 | Brno
DESCRIPTION:ABBA SYMPHONIC SHOW 50 | Brno se uskuteční dne 2026-05-16 v 19:00 v Brno\, Sono Centrum. \n🎟️ Koupit vstupenku \n\nABBA WORLD REVIVAL – 100% Live in Symphonic Show!!! \nKdyž se hudebníci z ABBA WORLD Revival setkají na jednom pódiu se špičkovými filharmonickými instrumentalisty\, výsledkem je nezapomenutelná hudební i vizuální show nazvaná „ABBA WORLD Revival meets Classic“. \nZazní všechny legendární hity fenomenální švédské skupiny ABBA jako: Waterloo\, Dancing Queen\, Fernando\, Chiquitita\, Mamma Mia nebo Gimme! Gimme! Gimme! a další. Písně zahrané téměř k nerozeznání od originálu a exkluzivně doplněné o unikátní symfonické aranžmá. \nZvuk je 100% živý\, bez playbacků či half-playbacků. Můžete se těšit na repliky originálních kostýmů a choreografií. Pojďte proti proudu hudebního času do světa fenoménu jménem ABBA a užijte si nezapomenutelnou show! \n\nTento tip na kulturní akci v Brno najdete v přehledu na nasejiznimorava.cz kde na jednom místě shromažďujeme desítky dalších koncertů\, festivalů\, divadelních představení i komunitních událostí z celého regionu i z celé ČR. Přehled je přehledně řazený\, pravidelně aktualizovaný a umožní vám rychle najít přesně to\, co vás zajímá – od velkých open-air akcí až po menší lokální programy. Každý si tak snadno vybere podle svého vkusu i času. Pokud vás některá akce zaujme\, nezapomeňte si včas zajistit vstupenky; stačí kliknout na detail události a budete bezpečně přesměrováni na oficiálního prodejce vstupenek..
URL:https://nasejiznimorava.cz/event/abba-symphonic-show-50-brno/
LOCATION:Sono Centrum\, Brno\, Sono Centrum\, Brno\, Česká republika
CATEGORIES:Koncert
ATTACH;FMTTYPE=image/jpeg:https://nasejiznimorava.cz/wp-content/uploads/2025/11/320-5cf84a43c0954108bc8d7ab519ae6d36.jpg
END:VEVENT
BEGIN:VEVENT
DTSTART;TZID=Europe/Prague:20260516T200000
DTEND;TZID=Europe/Prague:20260516T230000
DTSTAMP:20260420T015133
CREATED:20251129T143952Z
LAST-MODIFIED:20251129T143953Z
UID:39610-1778961600-1778972400@nasejiznimorava.cz
SUMMARY:Blue Burlesque Show
DESCRIPTION:Blue Burlesque Show se uskuteční dne 2026-05-16 v 20:00 v Brno\, Cabaret des Péchés. \n🎟️ Koupit vstupenku \n\nEmoce\, glamour\, zábava. Nezbedná\, koketní atmosféra vás bude držet na okraji vašich židlí od začátku až do konce show. \nKaždá Blue Burlesque Show je trochu jiná\, každá show je jedinečná. Jednou za měsíc máš šanci vidět nejzajímavější performerky a performery z Česka\, Polska\, Německa\, Rakouska nebo Slovenska! \nV roce 2026 vám přinášíme nový program\, taneční vstupy a nečekané rekvizity. Všechny termíny Blue Burlesque Show v Brně najdete na zoryablue.com/brno \nKromě skvělého programu na vás čekají výborné drinky\, soutěž a focení s performery. \nBěhem show si na našem burlesque stánku budete moct pořídit překrásný župánek\, plakát Burlesque your life!\, třpytivé pasties\, sex ponožky nebo knihu moderní sexuality Už budeš? \nPRO KOHO JE SHOW?Věk ani pohlaví nejsou důležité – důležité je\, že milujete kvalitní program\, skvělé drinky a zábavu plnou emocí. Mnoho lidí překvapí\, že většinu publika zpravidla tvoří ženy – ano\, ženy milují burlesku! \nShow doporučujeme pro diváky starší 15 let.    \nDRESSCODE:Dress to impress! A nebo – fantazii se meze nekladou. Na burleskní show nikdy nebudeš overdressed. \nProducentkou show je Zorya Blue – performerka\, producentka a zakladatelka Czech Burlesque School. \nshow 20:00do baru zveme už od 18:00 \n\nTento tip na kulturní akci v Brno najdete v přehledu na nasejiznimorava.cz kde na jednom místě shromažďujeme desítky dalších koncertů\, festivalů\, divadelních představení i komunitních událostí z celého regionu i z celé ČR. Přehled je přehledně řazený\, pravidelně aktualizovaný a umožní vám rychle najít přesně to\, co vás zajímá – od velkých open-air akcí až po menší lokální programy. Každý si tak snadno vybere podle svého vkusu i času. Pokud vás některá akce zaujme\, nezapomeňte si včas zajistit vstupenky; stačí kliknout na detail události a budete bezpečně přesměrováni na oficiálního prodejce vstupenek..
URL:https://nasejiznimorava.cz/event/blue-burlesque-show-8/
LOCATION:Cabaret des Péchés\, Brno\, Cabaret des Péchés\, Brno\, Česká republika
CATEGORIES:Zábava
ATTACH;FMTTYPE=image/jpeg:https://nasejiznimorava.cz/wp-content/uploads/2025/11/320-8b126dea4407462ea7711cfbe911a001.jpg
END:VEVENT
END:VCALENDAR