BEGIN:VCALENDAR
VERSION:2.0
PRODID:-// „Objev místa, kde se dobře pije, krásně spí a skvěle žije“  - ECPv6.15.20//NONSGML v1.0//EN
CALSCALE:GREGORIAN
METHOD:PUBLISH
X-ORIGINAL-URL:https://nasejiznimorava.cz
X-WR-CALDESC:Akce na  „Objev místa, kde se dobře pije, krásně spí a skvěle žije“ 
REFRESH-INTERVAL;VALUE=DURATION:PT1H
X-Robots-Tag:noindex
X-PUBLISHED-TTL:PT1H
BEGIN:VTIMEZONE
TZID:Europe/Prague
BEGIN:DAYLIGHT
TZOFFSETFROM:+0100
TZOFFSETTO:+0200
TZNAME:CEST
DTSTART:20250330T010000
END:DAYLIGHT
BEGIN:STANDARD
TZOFFSETFROM:+0200
TZOFFSETTO:+0100
TZNAME:CET
DTSTART:20251026T010000
END:STANDARD
BEGIN:DAYLIGHT
TZOFFSETFROM:+0100
TZOFFSETTO:+0200
TZNAME:CEST
DTSTART:20260329T010000
END:DAYLIGHT
BEGIN:STANDARD
TZOFFSETFROM:+0200
TZOFFSETTO:+0100
TZNAME:CET
DTSTART:20261025T010000
END:STANDARD
BEGIN:DAYLIGHT
TZOFFSETFROM:+0100
TZOFFSETTO:+0200
TZNAME:CEST
DTSTART:20270328T010000
END:DAYLIGHT
BEGIN:STANDARD
TZOFFSETFROM:+0200
TZOFFSETTO:+0100
TZNAME:CET
DTSTART:20271031T010000
END:STANDARD
END:VTIMEZONE
BEGIN:VEVENT
DTSTART;TZID=Europe/Prague:20260522T163000
DTEND;TZID=Europe/Prague:20260522T193000
DTSTAMP:20260420T015420
CREATED:20251228T070236Z
LAST-MODIFIED:20251228T070239Z
UID:41131-1779467400-1779478200@nasejiznimorava.cz
SUMMARY:PonavaFest 2026: Park Side of the Moon
DESCRIPTION:PonavaFest 2026: Park Side of the Moon se uskuteční dne 2026-05-22 v 16:30 v Brno\, Park Lužánky. \n🎟️ Koupit vstupenku \n\nPonavaFest 2026: Park Side of the Moon! \nVýjimečný hudební zážitek v Brně! \nPonavaFest již po 11. v Brně! Připravte se na tři dny hudby z celého světa. Vedle známých hvězd uslyšíte nové výjimečné objevy\, které v tuzemských lineupech běžně nenajdete. \nNa koho se můžete těšit?  \n\nSavina Yannatou & Primavera en Salonico with Lamia Bedioui\nMary Halvorson: Canis Major\nDunaj & Jana Vébrová \nPutan Club (IT-FR)\nRajtaraj\nMajkls & friends \nNixies\nPrune\nMartina Trchová & Band \nThe Naive Collective \nBladderstones + Vladimír Václavek \nDen Der Hale (SWE) \nMarcel Bárta quintet\nFilorodu\nWatersong\n\n  \nDalší program a podrobnější informace budeme postupně zveřejňovat. \n\nTento tip na kulturní akci v Brno najdete v přehledu na nasejiznimorava.cz kde na jednom místě shromažďujeme desítky dalších koncertů\, festivalů\, divadelních představení i komunitních událostí z celého regionu i z celé ČR. Přehled je přehledně řazený\, pravidelně aktualizovaný a umožní vám rychle najít přesně to\, co vás zajímá – od velkých open-air akcí až po menší lokální programy. Každý si tak snadno vybere podle svého vkusu i času. Pokud vás některá akce zaujme\, nezapomeňte si včas zajistit vstupenky; stačí kliknout na detail události a budete bezpečně přesměrováni na oficiálního prodejce vstupenek..
URL:https://nasejiznimorava.cz/event/ponavafest-2026-park-side-of-the-moon/
LOCATION:Park Lužánky\, Brno\, Park Lužánky\, Brno\, Česká republika
CATEGORIES:Festival
ATTACH;FMTTYPE=image/jpeg:https://nasejiznimorava.cz/wp-content/uploads/2025/12/320-66d13d54590340d0865f7be14c0a111d.jpg
END:VEVENT
BEGIN:VEVENT
DTSTART;TZID=Europe/Prague:20260522T190000
DTEND;TZID=Europe/Prague:20260522T220000
DTSTAMP:20260420T015420
CREATED:20251120T182325Z
LAST-MODIFIED:20251120T182326Z
UID:39175-1779476400-1779487200@nasejiznimorava.cz
SUMMARY:Martin Hranáč - CRAZY SHOW - Brno
DESCRIPTION:Martin Hranáč – CRAZY SHOW – Brno se uskuteční dne 2026-05-22 v 19:00 v Brno\, První Patro. \n🎟️ Koupit vstupenku \n\nChcete vstoupit do světa humoru a improvizace? Tak je CRAZY SHOW právě pro VÁS! Připravte se na nezapomenutelný večer plný smíchu s Martinem Hranáčem – komikem\, hercem\, číšníkem a optimistou\, který svým jedinečným smyslem pro humor baví lidi na sociálních sítích. Martinův příběh číšníka a jeho každodenní zážitky z gastronomie se stávají zábavným vyprávěním\, které osloví naprosto všechny. \nKaždé vystoupení je unikátní a plné improvizace\, protože Martin miluje improvizaci a scénáře mění v průběhu večera\, což občas vykolejí jeho sestru Štěpánku Šmídovou\, která mu dělá skvělou společnost během celé show. Všechny scénky a historky vychází z Martinových zkušeností a zážitků\, jak profesního\, tak soukromého života. Jeho humor je nekorektní\, sebeironický a nebojí se jít na hranu – právě to dělá jeho show nezapomenutelnou! \nNenechte si ujít tento jedinečný zážitek! Vstupenky v prodeji! \nPořad není vhodný mladším 15 let! \n\nTento tip na kulturní akci v Brno najdete v přehledu na nasejiznimorava.cz kde na jednom místě shromažďujeme desítky dalších koncertů\, festivalů\, divadelních představení i komunitních událostí z celého regionu i z celé ČR. Přehled je přehledně řazený\, pravidelně aktualizovaný a umožní vám rychle najít přesně to\, co vás zajímá – od velkých open-air akcí až po menší lokální programy. Každý si tak snadno vybere podle svého vkusu i času. Pokud vás některá akce zaujme\, nezapomeňte si včas zajistit vstupenky; stačí kliknout na detail události a budete bezpečně přesměrováni na oficiálního prodejce vstupenek..
URL:https://nasejiznimorava.cz/event/martin-hranac-crazy-show-brno-5/
LOCATION:První Patro\, Brno\, První Patro\, Brno\, Česká republika
CATEGORIES:Zábava
ATTACH;FMTTYPE=image/jpeg:https://nasejiznimorava.cz/wp-content/uploads/2025/11/320-cc108acde1634e229a5971e4845bc5e3.jpg
END:VEVENT
BEGIN:VEVENT
DTSTART;TZID=Europe/Prague:20260522T190000
DTEND;TZID=Europe/Prague:20260522T220000
DTSTAMP:20260420T015420
CREATED:20260103T213847Z
LAST-MODIFIED:20260103T213847Z
UID:41255-1779476400-1779487200@nasejiznimorava.cz
SUMMARY:Burlesque Tribute: Od kankánu po bizár
DESCRIPTION:Burlesque Tribute: Od kankánu po bizár se uskuteční dne 2026-05-22 v 19:00 v Brno\, Cabaret des Péchés. \n🎟️ Koupit vstupenku \n\nBURLESQUE TRIBUTE: OD KANKÁNU PO BIZÁR  \nVýpravná show\, která nemá ve světě obdoby. \nBurlesque Tribute je unikátní tříaktová podívaná\, která vás provede historií burlesky – od jejích kořenů v 19. století\, přes éru americké prohibice\, až po současnou neo-burlesku. Připravte se na večer\, kde se třpyt\, elegance\, humor i odvaha snoubí do show\, kterou jen tak někde neuvidíte. \nNaučné? Ano. Interaktivní? Rozhodně. Zábavné? Víc\, než čekáte. \nKaždý z aktů nabídne originální ztvárnění určité éry kabaretní a burleskní historie – včetně ikonických rekvizit\, autentických kostýmů a živých vystoupení. Na jevišti se objeví zpěvačky\, taneční ansámbl i performeři\, kteří vás vtáhnou nejen svými čísly\, ale i příběhem. A pozor – místy se do děje zapojí i samotné publikum. \nKostýmy inspirované ikonami burlesky a kabaretuNeočekávané momenty\, které posunou vaše představy o burlesceBurleska jako forma umění – zábavná\, odvážná\, vzdělávací \nBurlesque Tribute je oslavou minulosti i současnosti burlesky.Není to jen show. Je to zážitek. \nVIP vstupenky v prvních řadách s welcome drinkem \n  \nDoporučený dresscode – společenský nebo stylově extravagantní outfit inspirovaný kabaretem a burleskou (třpyt\, retro\, korzety\, saka\, klobouky vítány) \nShow je určena výhradně pro publikum starší 18 let – vstup osobám mladším 18 let není povolen \nUpozornění pro divákyTato inscenace obsahuje světelné efekty\, včetně stroboskopických záblesků a rychle se měnících světelných sekvencí. U osob s fotosenzitivní epilepsií nebo zvýšenou citlivostí na intenzivní světelné podněty mohou tyto efekty vyvolat nepříznivé zdravotní reakce. Divákům\, kterých by se tato skutečnost mohla týkat\, se doporučuje zvýšená opatrnost. \n\nTento tip na kulturní akci v Brno najdete v přehledu na nasejiznimorava.cz kde na jednom místě shromažďujeme desítky dalších koncertů\, festivalů\, divadelních představení i komunitních událostí z celého regionu i z celé ČR. Přehled je přehledně řazený\, pravidelně aktualizovaný a umožní vám rychle najít přesně to\, co vás zajímá – od velkých open-air akcí až po menší lokální programy. Každý si tak snadno vybere podle svého vkusu i času. Pokud vás některá akce zaujme\, nezapomeňte si včas zajistit vstupenky; stačí kliknout na detail události a budete bezpečně přesměrováni na oficiálního prodejce vstupenek..
URL:https://nasejiznimorava.cz/event/burlesque-tribute-od-kankanu-po-bizar-4/
LOCATION:Cabaret des Péchés\, Brno\, Cabaret des Péchés\, Brno\, Česká republika
CATEGORIES:Zábava
ATTACH;FMTTYPE=image/jpeg:https://nasejiznimorava.cz/wp-content/uploads/2026/01/320-cf0fdb14a25549acac90a7b484fa051a.jpg
END:VEVENT
BEGIN:VEVENT
DTSTART;TZID=Europe/Prague:20260522T190000
DTEND;TZID=Europe/Prague:20260522T220000
DTSTAMP:20260420T015420
CREATED:20260208T070826Z
LAST-MODIFIED:20260208T070828Z
UID:42037-1779476400-1779487200@nasejiznimorava.cz
SUMMARY:Travesti Divoké kočky v Brně
DESCRIPTION:Travesti Divoké kočky v Brně se uskuteční dne 2026-05-22 v 19:00 v Brno\, Dělnický dům. \n🎟️ Koupit vstupenku \n\nTravesti skupina Divoké kočky z Ostravy přijíždí v rámci svého turné se svým novým programem opět do BRNA\, kde vystoupí 22.5.2026 od 19:00 na sále dělnického domu v Brně-Židenicích.  \nCelovečerní zábavný program je plný nezapomenutelných legračních scének\, písniček\, známých zpěvaček\, krásných kostýmů\, situačního humoru a hlavně smíchu a je vhodný jak pro ženské tak pánské publikum. Jejich vystoupení se těší stálé větší oblibě a tak si každý divák přijde na své. Přijdte se sami přesvědčit\, že na travesti představení není nic špatného a v podání ostravských umělců se budete určitě dobře bavit. \nDivoké kočky jezdí se svým programem do ŽIDENIC pravidelně 2x ročně vždy v květnu a v listopadu již od roku 2010\, a proto se těší opět na úžasné místní publikum\, atmosféru a skvělý večer. Na závěr programu Vám členové souboru ukážou svou pravou tvář. \n\nTento tip na kulturní akci v Brno najdete v přehledu na nasejiznimorava.cz kde na jednom místě shromažďujeme desítky dalších koncertů\, festivalů\, divadelních představení i komunitních událostí z celého regionu i z celé ČR. Přehled je přehledně řazený\, pravidelně aktualizovaný a umožní vám rychle najít přesně to\, co vás zajímá – od velkých open-air akcí až po menší lokální programy. Každý si tak snadno vybere podle svého vkusu i času. Pokud vás některá akce zaujme\, nezapomeňte si včas zajistit vstupenky; stačí kliknout na detail události a budete bezpečně přesměrováni na oficiálního prodejce vstupenek..
URL:https://nasejiznimorava.cz/event/travesti-divoke-kocky-v-brne-2/
LOCATION:Dělnický dům\, Brno\, Dělnický dům\, Brno\, Česká republika
CATEGORIES:Zábava
ATTACH;FMTTYPE=image/jpeg:https://nasejiznimorava.cz/wp-content/uploads/2026/02/320-13a122e3565447338e50fde0b6bc2ab2-1.jpg
END:VEVENT
BEGIN:VEVENT
DTSTART;TZID=Europe/Prague:20260522T190000
DTEND;TZID=Europe/Prague:20260522T220000
DTSTAMP:20260420T015420
CREATED:20260208T070826Z
LAST-MODIFIED:20260208T070826Z
UID:42038-1779476400-1779487200@nasejiznimorava.cz
SUMMARY:Travesti Divoké kočky v Brně
DESCRIPTION:Travesti Divoké kočky v Brně se uskuteční dne 2026-05-22 v 19:00 v Brno\, Dělnický dům. \n🎟️ Koupit vstupenku \n\nTravesti skupina Divoké kočky z Ostravy přijíždí v rámci svého turné se svým novým programem opět do BRNA\, kde vystoupí 22.5.2026 od 19:00 na sále dělnického domu v Brně-Židenicích.  \nCelovečerní zábavný program je plný nezapomenutelných legračních scének\, písniček\, známých zpěvaček\, krásných kostýmů\, situačního humoru a hlavně smíchu a je vhodný jak pro ženské tak pánské publikum. Jejich vystoupení se těší stálé větší oblibě a tak si každý divák přijde na své. Přijdte se sami přesvědčit\, že na travesti představení není nic špatného a v podání ostravských umělců se budete určitě dobře bavit. \nDivoké kočky jezdí se svým programem do ŽIDENIC pravidelně 2x ročně vždy v květnu a v listopadu již od roku 2010\, a proto se těší opět na úžasné místní publikum\, atmosféru a skvělý večer. Na závěr programu Vám členové souboru ukážou svou pravou tvář. \n\nTento tip na kulturní akci v Brno najdete v přehledu na nasejiznimorava.cz kde na jednom místě shromažďujeme desítky dalších koncertů\, festivalů\, divadelních představení i komunitních událostí z celého regionu i z celé ČR. Přehled je přehledně řazený\, pravidelně aktualizovaný a umožní vám rychle najít přesně to\, co vás zajímá – od velkých open-air akcí až po menší lokální programy. Každý si tak snadno vybere podle svého vkusu i času. Pokud vás některá akce zaujme\, nezapomeňte si včas zajistit vstupenky; stačí kliknout na detail události a budete bezpečně přesměrováni na oficiálního prodejce vstupenek..
URL:https://nasejiznimorava.cz/event/travesti-divoke-kocky-v-brne-3/
LOCATION:Dělnický dům\, Brno\, Dělnický dům\, Brno\, Česká republika
CATEGORIES:Zábava
ATTACH;FMTTYPE=image/jpeg:https://nasejiznimorava.cz/wp-content/uploads/2026/02/320-13a122e3565447338e50fde0b6bc2ab2.jpg
END:VEVENT
BEGIN:VEVENT
DTSTART;TZID=Europe/Prague:20260522T200000
DTEND;TZID=Europe/Prague:20260522T230000
DTSTAMP:20260420T015420
CREATED:20260402T185359Z
LAST-MODIFIED:20260402T185400Z
UID:42691-1779480000-1779490800@nasejiznimorava.cz
SUMMARY:She Past Away (TUR)
DESCRIPTION:She Past Away (TUR) se uskuteční dne 2026-05-22 v 20:00 v Brno\, Fléda. \n🎟️ Koupit vstupenku \n\nFor EN scroll down… \nEnergický\, hypnotizující výbuch sentimentální úzkosti skrze nihilistický způsob uvažování. SHE PAST AWAY je dark wave / post-punkové duo\, které tvoří Volkan Caner (zpěv\, kytara) a Doruk Ozturkcan (bicí\, syntezátory). She Past Away experimentuje se starou/novou estetikou syntezátorové hudby ve svých kytarových skladbách a vytvořilo si vlastní zvuk\, přístup a citlivost\, které vyjadřuje minimalistickou poezií zpívanou v turečtině\, která diváky unáší na hustou\, nepřetržitou epickou cestu jak v nahrávkách\, tak při živých vystoupeních. \nShe Past Away vydali kritiky oceněné první EP „Kasvetli Kutlama“ u labelu Remoov v dubnu 2009. Po digitálním vydání debutového alba „Belirdi Gece“ v únoru 2012 podepsala kapela v roce 2013 smlouvu s Fabrika Records a krátce nato vydala „Belirdi Gece“ ve formátu LP. Album\, které obsahuje hity „Rituel“\, „Ruh“ a „Kasvetli Kutlama“\, bylo serverem post-punk.com zařazeno mezi nejlepší alba desetiletí 2010–2019. \nS vydáním svého následujícího alba „Narin Yalnızlık“ v květnu 2015 se duo etablovalo jako jedna z nejvlivnějších a nejúspěšnějších kapel definujících žánr dark-wave a zaznamenalo řadu úspěšných vystoupení po celém světě.  V prosinci 2018 podepsala kapela smlouvu s Metropolis Records a znovu vydala obě alba v Severní Americe.  \nV květnu 2019 potěšila kapela své fanoušky nádherně temným a energickým novým albem „Disko Anksiyete“\, které vyšlo u Metropolis Records a Fabrika Records. \nV květnu 2020 oslavila kapela své desáté výročí remixovým albem „X“\, které obsahuje remixy od Boy Harsher\, The Soft Moon\, Clan of Xymox\, Front 242\, Lebanon Hanover a mnoha dalších. \nV říjnu 2020 vyšlo vůbec první živé studiové album kapely s názvem „Part Time Punks Session“. \n\nTento tip na kulturní akci v Brno najdete v přehledu na nasejiznimorava.cz kde na jednom místě shromažďujeme desítky dalších koncertů\, festivalů\, divadelních představení i komunitních událostí z celého regionu i z celé ČR. Přehled je přehledně řazený\, pravidelně aktualizovaný a umožní vám rychle najít přesně to\, co vás zajímá – od velkých open-air akcí až po menší lokální programy. Každý si tak snadno vybere podle svého vkusu i času. Pokud vás některá akce zaujme\, nezapomeňte si včas zajistit vstupenky; stačí kliknout na detail události a budete bezpečně přesměrováni na oficiálního prodejce vstupenek..
URL:https://nasejiznimorava.cz/event/she-past-away-tur/
LOCATION:Fléda\, Brno\, Fléda\, Brno\, Česká republika
CATEGORIES:Koncert
ATTACH;FMTTYPE=image/jpeg:https://nasejiznimorava.cz/wp-content/uploads/2026/04/320-6be464794b4c4558bec54701fccdaab9.jpg
END:VEVENT
BEGIN:VEVENT
DTSTART;TZID=Europe/Prague:20260522T210000
DTEND;TZID=Europe/Prague:20260523T000000
DTSTAMP:20260420T015420
CREATED:20260402T181408Z
LAST-MODIFIED:20260402T181410Z
UID:42477-1779483600-1779494400@nasejiznimorava.cz
SUMMARY:Tenkrát na Západě 2\, Koncert filmové hudby s iluminacemi
DESCRIPTION:Tenkrát na Západě 2\, Koncert filmové hudby s iluminacemi se uskuteční dne 2026-05-22 v 21:00 v Brno\, Červený kostel. \n🎟️ Koupit vstupenku \n\nTenkrát na Západě 2 – koncert Moravského klavírního tria se světelnými iluminacemi \nZveme Vás na nezapomenutelný večer plný ikonických melodií z oblíbených filmů! \nNejznámější filmoví hrdinové ožijí ve velkolepě osvětleném magickém Červeném kostele. \nMimo Tenkrát na Západě Vás čekají další úžasné filmové hity. \n  \nUkázka: https://www.youtube.com/watch?v=tRxyQg4bFYw \n  \n\nTento tip na kulturní akci v Brno najdete v přehledu na nasejiznimorava.cz kde na jednom místě shromažďujeme desítky dalších koncertů\, festivalů\, divadelních představení i komunitních událostí z celého regionu i z celé ČR. Přehled je přehledně řazený\, pravidelně aktualizovaný a umožní vám rychle najít přesně to\, co vás zajímá – od velkých open-air akcí až po menší lokální programy. Každý si tak snadno vybere podle svého vkusu i času. Pokud vás některá akce zaujme\, nezapomeňte si včas zajistit vstupenky; stačí kliknout na detail události a budete bezpečně přesměrováni na oficiálního prodejce vstupenek..
URL:https://nasejiznimorava.cz/event/tenkrat-na-zapade-2-koncert-filmove-hudby-s-iluminacemi/
LOCATION:Červený kostel\, Brno\, Červený kostel\, Brno\, Česká republika
CATEGORIES:Koncert
ATTACH;FMTTYPE=image/jpeg:https://nasejiznimorava.cz/wp-content/uploads/2026/04/320-8897adb8016a48249236110181ef55c2.jpg
END:VEVENT
END:VCALENDAR