BEGIN:VCALENDAR
VERSION:2.0
PRODID:-// „Objev místa, kde se dobře pije, krásně spí a skvěle žije“  - ECPv6.15.20//NONSGML v1.0//EN
CALSCALE:GREGORIAN
METHOD:PUBLISH
X-WR-CALNAME: „Objev místa, kde se dobře pije, krásně spí a skvěle žije“ 
X-ORIGINAL-URL:https://nasejiznimorava.cz
X-WR-CALDESC:Akce na  „Objev místa, kde se dobře pije, krásně spí a skvěle žije“ 
REFRESH-INTERVAL;VALUE=DURATION:PT1H
X-Robots-Tag:noindex
X-PUBLISHED-TTL:PT1H
BEGIN:VTIMEZONE
TZID:Europe/Prague
BEGIN:DAYLIGHT
TZOFFSETFROM:+0100
TZOFFSETTO:+0200
TZNAME:CEST
DTSTART:20250330T010000
END:DAYLIGHT
BEGIN:STANDARD
TZOFFSETFROM:+0200
TZOFFSETTO:+0100
TZNAME:CET
DTSTART:20251026T010000
END:STANDARD
BEGIN:DAYLIGHT
TZOFFSETFROM:+0100
TZOFFSETTO:+0200
TZNAME:CEST
DTSTART:20260329T010000
END:DAYLIGHT
BEGIN:STANDARD
TZOFFSETFROM:+0200
TZOFFSETTO:+0100
TZNAME:CET
DTSTART:20261025T010000
END:STANDARD
BEGIN:DAYLIGHT
TZOFFSETFROM:+0100
TZOFFSETTO:+0200
TZNAME:CEST
DTSTART:20270328T010000
END:DAYLIGHT
BEGIN:STANDARD
TZOFFSETFROM:+0200
TZOFFSETTO:+0100
TZNAME:CET
DTSTART:20271031T010000
END:STANDARD
END:VTIMEZONE
BEGIN:VEVENT
DTSTART;TZID=Europe/Prague:20260523T140000
DTEND;TZID=Europe/Prague:20260523T170000
DTSTAMP:20260420T015206
CREATED:20260107T165149Z
LAST-MODIFIED:20260107T165149Z
UID:41457-1779544800-1779555600@nasejiznimorava.cz
SUMMARY:KNIHA DŽUNGLÍ I Brno
DESCRIPTION:KNIHA DŽUNGLÍ I Brno se uskuteční dne 2026-05-23 v 14:00 v Brno\, KC Semilasso. \n🎟️ Koupit vstupenku \n\nMuzikál KNIHA DŽUNGLÍ – největší rodinný zážitek roku 2026! \nOd ledna 2026 přichází do 55 měst po celé České republice překvapení pro celou rodinu! Novinka od producentů rodinných muzikálů\, jako je Popelka\, Alenka v říši divů či Vánoční loupež. \nČeká vás příběh plný emocí\, hudby\, smíchu i napětí – a to přímo ve vašem městě! \nSeznámíte se s odvážným Mauglím\, moudrým vlčím vůdcem Akélou\, ušlechtilým a statečným panterem Baghírou\, rozverným medvědem Balúem\, jehož kostým je jediný svého druhu v Evropě! Velkolepý dojem zanechá také obrovský král opic – gorila Ludvík v unikátním kostýmu. \nObrovským lákadlem je jedinečný kostým Hada KAA\, jaký jste ještě nikdy neviděli! \nO napětí se postará nelítostný tygr Šerchán\, jeho komicko-zákeřný společník hyena Tabaki\, a atmosféru odlehčí i vtipný a upovídaný papoušek a další známá zvířata. \n Spolu s projekcemi a dechberoucími vizuálními efekty se ocitnete přímo uprostřed kouzelné džungle. \nDěti se stanou součástí představení – pomohou Mauglímu zahnat Šerchána nebo najít med pro medvěda Balů\,  a společně s herci dotvářet kouzelný příběh. \nInteraktivní část vás vtáhne do děje – zvířata z džungle se objeví nejen na jevišti\, ale i mezi dětmi v hledišti\, aby si každý mohl zažít pocit\, že je součástí příběhu. \nSpeciální bonus: Každé dítě dostane ke vstupence zvířecí masku dle vlastního výběru.A po představení čeká malé diváky jedinečná možnost vyfotit se přímo na jevišti s herci v kostýmech! \n  \nTip na vánoční dárek!Darujte svým dětem a celé rodině nezapomenutelný zážitek – vstupenky na muzikál\, o kterém se bude mluvit ještě dlouho. \nToto není jen muzikál. Je to největší zážitek u vás doma\, ve vašem městě! \nPředprodej vstupenek spuštěn právě teď – kapacita je omezená.Kupte si vstupenky v síti smsticket a buďte u muzikálové události roku 2026! \n\nTento tip na kulturní akci v Brno najdete v přehledu na nasejiznimorava.cz kde na jednom místě shromažďujeme desítky dalších koncertů\, festivalů\, divadelních představení i komunitních událostí z celého regionu i z celé ČR. Přehled je přehledně řazený\, pravidelně aktualizovaný a umožní vám rychle najít přesně to\, co vás zajímá – od velkých open-air akcí až po menší lokální programy. Každý si tak snadno vybere podle svého vkusu i času. Pokud vás některá akce zaujme\, nezapomeňte si včas zajistit vstupenky; stačí kliknout na detail události a budete bezpečně přesměrováni na oficiálního prodejce vstupenek..
URL:https://nasejiznimorava.cz/event/kniha-dzungli-i-brno-2/
LOCATION:KC Semilasso\, Brno\, KC Semilasso\, Brno\, Česká republika
CATEGORIES:Divadlo
ATTACH;FMTTYPE=image/jpeg:https://nasejiznimorava.cz/wp-content/uploads/2026/01/320-00ea7b1c5453423e968631cd1243f6cf.jpg
END:VEVENT
BEGIN:VEVENT
DTSTART;TZID=Europe/Prague:20260523T170000
DTEND;TZID=Europe/Prague:20260523T200000
DTSTAMP:20260420T015206
CREATED:20260107T165021Z
LAST-MODIFIED:20260107T165021Z
UID:41454-1779555600-1779566400@nasejiznimorava.cz
SUMMARY:KNIHA DŽUNGLÍ I Brno
DESCRIPTION:KNIHA DŽUNGLÍ I Brno se uskuteční dne 2026-05-23 v 17:00 v Brno\, KC Semilasso. \n🎟️ Koupit vstupenku \n\nMuzikál KNIHA DŽUNGLÍ – největší rodinný zážitek roku 2026! \nOd ledna 2026 přichází do 55 měst po celé České republice překvapení pro celou rodinu! Novinka od producentů rodinných muzikálů\, jako je Popelka\, Alenka v říši divů či Vánoční loupež. \nČeká vás příběh plný emocí\, hudby\, smíchu i napětí – a to přímo ve vašem městě! \nSeznámíte se s odvážným Mauglím\, moudrým vlčím vůdcem Akélou\, ušlechtilým a statečným panterem Baghírou\, rozverným medvědem Balúem\, jehož kostým je jediný svého druhu v Evropě! Velkolepý dojem zanechá také obrovský král opic – gorila Ludvík v unikátním kostýmu. \nObrovským lákadlem je jedinečný kostým Hada KAA\, jaký jste ještě nikdy neviděli! \nO napětí se postará nelítostný tygr Šerchán\, jeho komicko-zákeřný společník hyena Tabaki\, a atmosféru odlehčí i vtipný a upovídaný papoušek a další známá zvířata. \n Spolu s projekcemi a dechberoucími vizuálními efekty se ocitnete přímo uprostřed kouzelné džungle. \nDěti se stanou součástí představení – pomohou Mauglímu zahnat Šerchána nebo najít med pro medvěda Balů\,  a společně s herci dotvářet kouzelný příběh. \nInteraktivní část vás vtáhne do děje – zvířata z džungle se objeví nejen na jevišti\, ale i mezi dětmi v hledišti\, aby si každý mohl zažít pocit\, že je součástí příběhu. \nSpeciální bonus: Každé dítě dostane ke vstupence zvířecí masku dle vlastního výběru.A po představení čeká malé diváky jedinečná možnost vyfotit se přímo na jevišti s herci v kostýmech! \n  \nTip na vánoční dárek!Darujte svým dětem a celé rodině nezapomenutelný zážitek – vstupenky na muzikál\, o kterém se bude mluvit ještě dlouho. \nToto není jen muzikál. Je to největší zážitek u vás doma\, ve vašem městě! \nPředprodej vstupenek spuštěn právě teď – kapacita je omezená.Kupte si vstupenky v síti smsticket a buďte u muzikálové události roku 2026! \n\nTento tip na kulturní akci v Brno najdete v přehledu na nasejiznimorava.cz kde na jednom místě shromažďujeme desítky dalších koncertů\, festivalů\, divadelních představení i komunitních událostí z celého regionu i z celé ČR. Přehled je přehledně řazený\, pravidelně aktualizovaný a umožní vám rychle najít přesně to\, co vás zajímá – od velkých open-air akcí až po menší lokální programy. Každý si tak snadno vybere podle svého vkusu i času. Pokud vás některá akce zaujme\, nezapomeňte si včas zajistit vstupenky; stačí kliknout na detail události a budete bezpečně přesměrováni na oficiálního prodejce vstupenek..
URL:https://nasejiznimorava.cz/event/kniha-dzungli-i-brno/
LOCATION:KC Semilasso\, Brno\, KC Semilasso\, Brno\, Česká republika
CATEGORIES:Divadlo
ATTACH;FMTTYPE=image/jpeg:https://nasejiznimorava.cz/wp-content/uploads/2026/01/320-fa6a98374653424f8046cdf886d76db8.jpg
END:VEVENT
BEGIN:VEVENT
DTSTART;TZID=Europe/Prague:20260523T190000
DTEND;TZID=Europe/Prague:20260523T220000
DTSTAMP:20260420T015206
CREATED:20260103T095429Z
LAST-MODIFIED:20260103T095441Z
UID:41218-1779562800-1779573600@nasejiznimorava.cz
SUMMARY:ŠESTÝ SMYSL
DESCRIPTION:ŠESTÝ SMYSL se uskuteční dne 2026-05-23 v 19:00 v Brno\, Cabaret des Péchés. \n🎟️ Koupit vstupenku \n\nŠESTÝ SMYSL — NEJVĚTŠÍ ŽENSKÁ SHOW V CABARETU DES PÉCHÉS!  \nVstupte do světa\, kde se ženské tajemství stává hlavní zbraní a fantazie realitou. Cabaret des Péchés uvádí svou dosud nejodvážnější a nejvíc sexy show: ŠESTÝ SMYSL. \nVečer plný ženských paradoxů\, tajemství a rafinovaného humoru\, který vás vtáhne do hlubin ženského myšlení – i když mu možná nikdy úplně neporozumíte. \n Těšte se na:  \n• smyslné tanečnice  \n• živý zpěv  \n• dechberoucí akrobacii  \n• svůdnou burlesku  \n• extravagantní drag show \n• interaktivní část \n• věštbu vašich osudů \n  \nBěhem večera budete mít možnost navštívit i tajemnou interaktivní část\, která vás donutí zamyslet se na důležitostí každého smyslu. Připravte se\, že ženská logika vás vtáhne do hry! \nA navíc – jen ti nejodvážnější okusí pokušení nahlédnout do budoucnosti. V ceně vstupenky je možnost setkání s věštkyní\, která vám bez zábran odkryje váš osud… pokud si troufnete. \nCelým večerem vás provede okouzlující moderátorka Daina Divad.  \n  \nŠESTÝ SMYSL není jen show — je to zážitek\, na který se nezapomíná. Připravte se na noc\, kdy zjistíte\, že ženy možná nemají vždy pravdu… ale rozhodně vždy vědí proč. \n  \nVšechny interaktivní aktivity i věštby berte\, prosím\, s nadhledem a špetkou humoru. Nejedná se o skutečné předtuchy\, ale o součást jedinečné show. \n  \nDoporučený dresscode – večerní elegance s jemným nádechem smyslnosti – tmavší barvy\, šaty\, saka\, košile nebo stylové doplňky; hlavní je cítit se příjemně a sebevědomě \nShow je určena výhradně pro publikum starší 18 let – vstup osobám mladším 18 let není povolen \nUpozornění pro divákyTato inscenace obsahuje světelné efekty\, včetně stroboskopických záblesků a rychle se měnících světelných sekvencí. U osob s fotosenzitivní epilepsií nebo zvýšenou citlivostí na intenzivní světelné podněty mohou tyto efekty vyvolat nepříznivé zdravotní reakce. Divákům\, kterých by se tato skutečnost mohla týkat\, se doporučuje zvýšená opatrnost. \n\nTento tip na kulturní akci v Brno najdete v přehledu na nasejiznimorava.cz kde na jednom místě shromažďujeme desítky dalších koncertů\, festivalů\, divadelních představení i komunitních událostí z celého regionu i z celé ČR. Přehled je přehledně řazený\, pravidelně aktualizovaný a umožní vám rychle najít přesně to\, co vás zajímá – od velkých open-air akcí až po menší lokální programy. Každý si tak snadno vybere podle svého vkusu i času. Pokud vás některá akce zaujme\, nezapomeňte si včas zajistit vstupenky; stačí kliknout na detail události a budete bezpečně přesměrováni na oficiálního prodejce vstupenek..
URL:https://nasejiznimorava.cz/event/sesty-smysl-4/
LOCATION:Cabaret des Péchés\, Brno\, Cabaret des Péchés\, Brno\, Česká republika
CATEGORIES:Zábava
ATTACH;FMTTYPE=image/jpeg:https://nasejiznimorava.cz/wp-content/uploads/2026/01/320-3def1f80a4144e4b9e8f3d43facdea6e.jpg
END:VEVENT
BEGIN:VEVENT
DTSTART;TZID=Europe/Prague:20260523T210000
DTEND;TZID=Europe/Prague:20260524T000000
DTSTAMP:20260420T015206
CREATED:20260402T180930Z
LAST-MODIFIED:20260402T180933Z
UID:42474-1779570000-1779580800@nasejiznimorava.cz
SUMMARY:James Bond v kostele 2\, Koncert filmové hudby s iluminacemi
DESCRIPTION:James Bond v kostele 2\, Koncert filmové hudby s iluminacemi se uskuteční dne 2026-05-23 v 21:00 v Brno\, Červený kostel. \n🎟️ Koupit vstupenku \n\nJames Bond v kostele 2 – koncert Moravského klavírního tria se světelnými iluminacemi \nZveme Vás na nezapomenutelný večer plný ikonických melodií z oblíbených filmů! \nNejznámější filmoví hrdinové ožijí ve velkolepě osvětleném magickém Červeném kostele.  \nMimo Jamese Bonda Vás čekají další úžasní hrdinové. \n  \n\nTento tip na kulturní akci v Brno najdete v přehledu na nasejiznimorava.cz kde na jednom místě shromažďujeme desítky dalších koncertů\, festivalů\, divadelních představení i komunitních událostí z celého regionu i z celé ČR. Přehled je přehledně řazený\, pravidelně aktualizovaný a umožní vám rychle najít přesně to\, co vás zajímá – od velkých open-air akcí až po menší lokální programy. Každý si tak snadno vybere podle svého vkusu i času. Pokud vás některá akce zaujme\, nezapomeňte si včas zajistit vstupenky; stačí kliknout na detail události a budete bezpečně přesměrováni na oficiálního prodejce vstupenek..
URL:https://nasejiznimorava.cz/event/james-bond-v-kostele-2-koncert-filmove-hudby-s-iluminacemi/
LOCATION:Červený kostel\, Brno\, Červený kostel\, Brno\, Česká republika
CATEGORIES:Koncert
ATTACH;FMTTYPE=image/jpeg:https://nasejiznimorava.cz/wp-content/uploads/2026/04/320-83d7e2b600544b6ea3e42c75010ca3b8.jpg
END:VEVENT
END:VCALENDAR