BEGIN:VCALENDAR
VERSION:2.0
PRODID:-// „Objev místa, kde se dobře pije, krásně spí a skvěle žije“  - ECPv6.15.20//NONSGML v1.0//EN
CALSCALE:GREGORIAN
METHOD:PUBLISH
X-WR-CALNAME: „Objev místa, kde se dobře pije, krásně spí a skvěle žije“ 
X-ORIGINAL-URL:https://nasejiznimorava.cz
X-WR-CALDESC:Akce na  „Objev místa, kde se dobře pije, krásně spí a skvěle žije“ 
REFRESH-INTERVAL;VALUE=DURATION:PT1H
X-Robots-Tag:noindex
X-PUBLISHED-TTL:PT1H
BEGIN:VTIMEZONE
TZID:Europe/Prague
BEGIN:DAYLIGHT
TZOFFSETFROM:+0100
TZOFFSETTO:+0200
TZNAME:CEST
DTSTART:20250330T010000
END:DAYLIGHT
BEGIN:STANDARD
TZOFFSETFROM:+0200
TZOFFSETTO:+0100
TZNAME:CET
DTSTART:20251026T010000
END:STANDARD
BEGIN:DAYLIGHT
TZOFFSETFROM:+0100
TZOFFSETTO:+0200
TZNAME:CEST
DTSTART:20260329T010000
END:DAYLIGHT
BEGIN:STANDARD
TZOFFSETFROM:+0200
TZOFFSETTO:+0100
TZNAME:CET
DTSTART:20261025T010000
END:STANDARD
BEGIN:DAYLIGHT
TZOFFSETFROM:+0100
TZOFFSETTO:+0200
TZNAME:CEST
DTSTART:20270328T010000
END:DAYLIGHT
BEGIN:STANDARD
TZOFFSETFROM:+0200
TZOFFSETTO:+0100
TZNAME:CET
DTSTART:20271031T010000
END:STANDARD
END:VTIMEZONE
BEGIN:VEVENT
DTSTART;TZID=Europe/Prague:20260530T120000
DTEND;TZID=Europe/Prague:20260530T150000
DTSTAMP:20260420T015051
CREATED:20251228T080336Z
LAST-MODIFIED:20251228T080341Z
UID:41137-1780142400-1780153200@nasejiznimorava.cz
SUMMARY:Brněnská Bouře 2026
DESCRIPTION:Brněnská Bouře 2026 se uskuteční dne 2026-05-30 v 12:00 v Brno\, Hrad Špilberk. \n🎟️ Koupit vstupenku \n\nTřetí ročník festivalu Brněnská Bouře na brněnském hradě Špilberk se opět bude otáčet do minulosti a podtitulu festivalu „Jednodenní návrat do devadesátých let“ nezústane nic dlužen. Velice chutné menu\, kterému vévodí brněnská bestie ROOT\, určitě nabídne každému fanouškovi pokrm dle jeho chuti. Kromě legendárních Root vystoupí kultovní kapely začátku devadesátých let Denet\, Disfigured Corpse\, Decay či Melancholy Pessimism. Náladotvůrci Dying Passion budou hrát jen ze svého debutu „Secretly“. A nejlepší nakonec. Dva návraty na scénu jako hrom Sad Harmony a Hypnotic Scenery. Tohle vše se odehraje na magickém místě Brna – Hradu Špilberk. Přijď i ty se na jeden den vrátit o 30 let zpět a užít si tento festival s výjmečnou atmosférou. \n\nTento tip na kulturní akci v Brno najdete v přehledu na nasejiznimorava.cz kde na jednom místě shromažďujeme desítky dalších koncertů\, festivalů\, divadelních představení i komunitních událostí z celého regionu i z celé ČR. Přehled je přehledně řazený\, pravidelně aktualizovaný a umožní vám rychle najít přesně to\, co vás zajímá – od velkých open-air akcí až po menší lokální programy. Každý si tak snadno vybere podle svého vkusu i času. Pokud vás některá akce zaujme\, nezapomeňte si včas zajistit vstupenky; stačí kliknout na detail události a budete bezpečně přesměrováni na oficiálního prodejce vstupenek..
URL:https://nasejiznimorava.cz/event/brnenska-boure-2026/
LOCATION:Hrad Špilberk\, Brno\, Hrad Špilberk\, Brno\, Česká republika
CATEGORIES:Festival
ATTACH;FMTTYPE=image/jpeg:https://nasejiznimorava.cz/wp-content/uploads/2025/12/320-30afff729bad4e86b258625d614ebe7d.jpg
END:VEVENT
BEGIN:VEVENT
DTSTART;TZID=Europe/Prague:20260530T200000
DTEND;TZID=Europe/Prague:20260530T230000
DTSTAMP:20260420T015051
CREATED:20251211T054258Z
LAST-MODIFIED:20251211T054300Z
UID:39804-1780171200-1780182000@nasejiznimorava.cz
SUMMARY:Love Me Harder 7
DESCRIPTION:Love Me Harder 7 se uskuteční dne 2026-05-30 v 20:00 v Brno\, Fléda. \n🎟️ Koupit vstupenku \n\nLove Me Harder je pro kohokoliv\, kdo chce zažít intenzivní noční zážitek v Brně za zvuku elektronické hudby. Na akci vládne liberální a sexuálně otevřená atmosféra\, dovoleno je vše\, co si budou obě strany přát a s čím budou souhlasit. Účelem akce je splnit si všechny svoje “diverse desires” a strávit tak nezapomenutelnou noc. Naším cílem je vytvořit bezpečný prostor pro zážitky odlišné od těch\, které se dějí v každodenním životě\, a umožnit tak návštěvníkům nahlédnout do alternativních způsobů myšlení a chování. Staneme se místem\, kde budete osvobozeni od společenských norem a konvencí a dostanete možnost vytvořit si svůj vlastní scénář k naplnění večera. K dispozici jsou mimo jiné i dark rooms\, kde se můžete cítit zcela volní a nemusíte se bát být odvážní. \nCelým večerem Vás budou hudebně provádět DJs a dočkáte se i explicitní show. \nLove Me Harder je akce výjimečná svou přístupností a diverzitou\, což znamená\, že vítáme lidi bez ohledu na jejich pohlaví\, sexuální orientaci\, etnický původ nebo vzhled. Naším cílem je budování komunity\, která spojuje lidi se stejným zájmem bez ohledu na sociální a kulturní rozdíly. \nJediné\, bez čeho se k nám nedostanete\, je dress code. Na Love Me Harder bude také přísně zakázáno pořizovat jakékoliv fotografie a audiovizuální záznamy. Chápeme\, že je příjemné si své zážitky dokumentovat\, v kontextu této akce to však vnímáme jako potenciální ohrožení pohodlí a soukromí všech zúčastněných. Ze stejného důvodu nebudeme mít ani žádného oficiálního fotografa. Soustředíme se na to dopřát sobě i vám intenzivní prožitek “tady a teď”\, který se vám vryje pod kůži tak hluboko\, že fotky nebudete potřebovat  \nBuďte prosím maximálně respektující\, nezapomínejte také na to hlídat si své vlastní hranice. V klubu sice vládne liberální a otevřená atmosféra\, je ale důležité brát v potaz stanovená pravidla\, která přispívají k navození pozitivní a bezpečného klimatu na akci. Pokud se cítíte ztraceni nebo máte jakýkoliv dotaz\, neváhejte se na akci přímo obrátit na organizační tým\, který bude zřetelně označen (bude upřesněno). \nCelý seznam pravidel bude také vyvěšen v prostoru akce. \n\nTento tip na kulturní akci v Brno najdete v přehledu na nasejiznimorava.cz kde na jednom místě shromažďujeme desítky dalších koncertů\, festivalů\, divadelních představení i komunitních událostí z celého regionu i z celé ČR. Přehled je přehledně řazený\, pravidelně aktualizovaný a umožní vám rychle najít přesně to\, co vás zajímá – od velkých open-air akcí až po menší lokální programy. Každý si tak snadno vybere podle svého vkusu i času. Pokud vás některá akce zaujme\, nezapomeňte si včas zajistit vstupenky; stačí kliknout na detail události a budete bezpečně přesměrováni na oficiálního prodejce vstupenek..
URL:https://nasejiznimorava.cz/event/love-me-harder-7/
LOCATION:Fléda\, Brno\, Fléda\, Brno\, Česká republika
CATEGORIES:Festival
ATTACH;FMTTYPE=image/jpeg:https://nasejiznimorava.cz/wp-content/uploads/2025/12/320-8478437a4ac442b79fb690256c3a30aa.jpg
END:VEVENT
END:VCALENDAR