BEGIN:VCALENDAR
VERSION:2.0
PRODID:-// „Objev místa, kde se dobře pije, krásně spí a skvěle žije“  - ECPv6.15.20//NONSGML v1.0//EN
CALSCALE:GREGORIAN
METHOD:PUBLISH
X-ORIGINAL-URL:https://nasejiznimorava.cz
X-WR-CALDESC:Akce na  „Objev místa, kde se dobře pije, krásně spí a skvěle žije“ 
REFRESH-INTERVAL;VALUE=DURATION:PT1H
X-Robots-Tag:noindex
X-PUBLISHED-TTL:PT1H
BEGIN:VTIMEZONE
TZID:Europe/Prague
BEGIN:DAYLIGHT
TZOFFSETFROM:+0100
TZOFFSETTO:+0200
TZNAME:CEST
DTSTART:20250330T010000
END:DAYLIGHT
BEGIN:STANDARD
TZOFFSETFROM:+0200
TZOFFSETTO:+0100
TZNAME:CET
DTSTART:20251026T010000
END:STANDARD
BEGIN:DAYLIGHT
TZOFFSETFROM:+0100
TZOFFSETTO:+0200
TZNAME:CEST
DTSTART:20260329T010000
END:DAYLIGHT
BEGIN:STANDARD
TZOFFSETFROM:+0200
TZOFFSETTO:+0100
TZNAME:CET
DTSTART:20261025T010000
END:STANDARD
BEGIN:DAYLIGHT
TZOFFSETFROM:+0100
TZOFFSETTO:+0200
TZNAME:CEST
DTSTART:20270328T010000
END:DAYLIGHT
BEGIN:STANDARD
TZOFFSETFROM:+0200
TZOFFSETTO:+0100
TZNAME:CET
DTSTART:20271031T010000
END:STANDARD
END:VTIMEZONE
BEGIN:VEVENT
DTSTART;TZID=Europe/Prague:20260422T180000
DTEND;TZID=Europe/Prague:20260422T210000
DTSTAMP:20260419T204154
CREATED:20260110T155659Z
LAST-MODIFIED:20260110T155701Z
UID:41518-1776880800-1776891600@nasejiznimorava.cz
SUMMARY:Hudba z trampíria
DESCRIPTION:Hudba z trampíria se uskuteční dne 2026-04-22 v 18:00 v Brno\, Musilka. \n🎟️ Koupit vstupenku \nTento tip na kulturní akci v Brno najdete v přehledu na nasejiznimorava.cz kde na jednom místě shromažďujeme desítky dalších koncertů\, festivalů\, divadelních představení i komunitních událostí z celého regionu i z celé ČR. Přehled je přehledně řazený\, pravidelně aktualizovaný a umožní vám rychle najít přesně to\, co vás zajímá – od velkých open-air akcí až po menší lokální programy. Každý si tak snadno vybere podle svého vkusu i času. Pokud vás některá akce zaujme\, nezapomeňte si včas zajistit vstupenky; stačí kliknout na detail události a budete bezpečně přesměrováni na oficiálního prodejce vstupenek..
URL:https://nasejiznimorava.cz/event/hudba-z-trampiria/
LOCATION:Musilka\, Brno\, Musilka\, Brno\, Česká republika
CATEGORIES:Koncert
ATTACH;FMTTYPE=image/jpeg:https://nasejiznimorava.cz/wp-content/uploads/2026/01/320-480240c448524058b4473cd258897bff.jpg
END:VEVENT
BEGIN:VEVENT
DTSTART;TZID=Europe/Prague:20260423T200000
DTEND;TZID=Europe/Prague:20260423T230000
DTSTAMP:20260419T204154
CREATED:20251129T071709Z
LAST-MODIFIED:20251129T071716Z
UID:39426-1776974400-1776985200@nasejiznimorava.cz
SUMMARY:Blue Pleasure Show V: večer věnovaný umění erotiky
DESCRIPTION:Blue Pleasure Show V: večer věnovaný umění erotiky se uskuteční dne 2026-04-23 v 20:00 v Brno\, Cabaret des Péchés. \n🎟️ Koupit vstupenku \n\nShow pro milovníky umění s nádechem erotiky a jedinečné atmosféry dekadentního večera. Výjimečný koncept Blue Pleasure Show produkuje burleska Zorya Blue. \nČeká Tě: \nProgram \n\n\nshow dominy Uniquitty Queen \n\n\nDari Sabotage – řetězy a sex-appeal \n\n\nshibari od riggerky Alex in Ropes \n\n\nfashion show NORA URBAN \n\n\nsexy zpěv Kristy Budišové \n\n\ntajemný chair dance a akrobacie od Luce with Love \n\n\nburleska Zorya Blue \n\n\n\n\nsmyslný merch a fashion stánek \n\n\nsexkvíz o sexscény \n\n\n Pro koho je show?Představení Blue Pleasure Show je stvořené pro muže a ženy\, kteří/ré mají rádi/y umění erotiky\, chtějí objevovat a přejí si strávit večer v dekadentní atmosféře plného erotické energie kabaretu. \nShow doplňují prezentace projektů týkajících se těla a intimity. \nDress code:Červená! Stačí doplněk nebo klidně i celý outfit. Na místě je dostupná šatna. \nBar je otevřen od 18h.Show začíná ve 20h. \nTěšíme se na Vás.Tým Cabaretu \n\nTento tip na kulturní akci v Brno najdete v přehledu na nasejiznimorava.cz kde na jednom místě shromažďujeme desítky dalších koncertů\, festivalů\, divadelních představení i komunitních událostí z celého regionu i z celé ČR. Přehled je přehledně řazený\, pravidelně aktualizovaný a umožní vám rychle najít přesně to\, co vás zajímá – od velkých open-air akcí až po menší lokální programy. Každý si tak snadno vybere podle svého vkusu i času. Pokud vás některá akce zaujme\, nezapomeňte si včas zajistit vstupenky; stačí kliknout na detail události a budete bezpečně přesměrováni na oficiálního prodejce vstupenek..
URL:https://nasejiznimorava.cz/event/blue-pleasure-show-v-vecer-venovany-umeni-erotiky/
LOCATION:Cabaret des Péchés\, Brno\, Cabaret des Péchés\, Brno\, Česká republika
CATEGORIES:Zábava
ATTACH;FMTTYPE=image/jpeg:https://nasejiznimorava.cz/wp-content/uploads/2025/11/320-f5be5c6f542546fe8d59375f4df95a1d.jpg
END:VEVENT
BEGIN:VEVENT
DTSTART;TZID=Europe/Prague:20260424T190000
DTEND;TZID=Europe/Prague:20260424T220000
DTSTAMP:20260419T204154
CREATED:20260111T132239Z
LAST-MODIFIED:20260111T132240Z
UID:41608-1777057200-1777068000@nasejiznimorava.cz
SUMMARY:Mafie na podpatcích
DESCRIPTION:Mafie na podpatcích se uskuteční dne 2026-04-24 v 19:00 v Brno\, Cabaret des Péchés. \n🎟️ Koupit vstupenku \n\nMafie na podpatcích: Bladed Heels \nKabaret\, co tě odrovná. \nRok 1927. Londýn. Elegance\, zločin a třpyt burlesky. V klubu plném svůdných tanečnic a podezřelých úsměvů se rozehrává příběh\, kde vysoké podpatky klapou jako výstřely a každé mrknutí oka může být poslední varování. Diváci od začátku tuší: někdo ukradl vzácný safír – a kufřík s ním se pohybuje mezi postavami… i vámi. \n\n\nMadam La Rouge – burleska s ďáblem v očích a plánem v srdci \n\n\nNebezpečný boss mafie \n\n\nA jeden večer\, kde zločin voní po parfému a šampaňském \n\n\n  \nKdy začínáme: \n\nProgram: 19:00 – 23:00 ( Bar otevřen od 18:00)\nShow: 20:00\n\n  \nCo čekat: \n\n\ncelovečerní program v mafiánském stylu  \n\n\nkabaretní show s příběhem  \n\n\ninteraktivní hry – soutěže\, bingo\, kolo osudu \n\n\ntématické kostýmy\, fotokoutek a exkluzivní koktejly pro pravé mafiány \n\n\n  \nO show: \n„Mafie na podpatcích“ je parodická kabaretní show v podobě tanečního divadla a revue\, kde se mísí humor\, svůdnost a nadsázka. Děj sleduje propracovaný příběh plný intrik\, komických zvratů a stylizovaných mafiánských postav. Každý umělec ztvárňuje vlastní roli a skrze tanec\, herectví a kabaretní čísla vtahuje diváky do světa podpatků\, kouře a gangsterské elegance. \n  \nZločin nikdy nevypadal tak svůdně! \n  \nDoporučený dresscode – gangsterská elegance ve stylu 20. let – mafiánský šmrnc\, burleskní glamour a večerní outfit\, který by obstál v londýnském podsvětí roku 1927 \nShow je určena výhradně pro publikum starší 18 let – vstup osobám mladším 18 let není povolen \nUpozornění pro divákyTato inscenace obsahuje světelné efekty\, včetně stroboskopických záblesků a rychle se měnících světelných sekvencí. U osob s fotosenzitivní epilepsií nebo zvýšenou citlivostí na intenzivní světelné podněty mohou tyto efekty vyvolat nepříznivé zdravotní reakce. Divákům\, kterých by se tato skutečnost mohla týkat\, se doporučuje zvýšená opatrnost. \n\nTento tip na kulturní akci v Brno najdete v přehledu na nasejiznimorava.cz kde na jednom místě shromažďujeme desítky dalších koncertů\, festivalů\, divadelních představení i komunitních událostí z celého regionu i z celé ČR. Přehled je přehledně řazený\, pravidelně aktualizovaný a umožní vám rychle najít přesně to\, co vás zajímá – od velkých open-air akcí až po menší lokální programy. Každý si tak snadno vybere podle svého vkusu i času. Pokud vás některá akce zaujme\, nezapomeňte si včas zajistit vstupenky; stačí kliknout na detail události a budete bezpečně přesměrováni na oficiálního prodejce vstupenek..
URL:https://nasejiznimorava.cz/event/mafie-na-podpatcich-5/
LOCATION:Cabaret des Péchés\, Brno\, Cabaret des Péchés\, Brno\, Česká republika
CATEGORIES:Zábava
ATTACH;FMTTYPE=image/jpeg:https://nasejiznimorava.cz/wp-content/uploads/2026/01/320-4bea6a4f6e264d708060de66180a3f5c.jpg
END:VEVENT
BEGIN:VEVENT
DTSTART;TZID=Europe/Prague:20260425T190000
DTEND;TZID=Europe/Prague:20260425T220000
DTSTAMP:20260419T204154
CREATED:20260103T095954Z
LAST-MODIFIED:20260103T100007Z
UID:41227-1777143600-1777154400@nasejiznimorava.cz
SUMMARY:ŠESTÝ SMYSL
DESCRIPTION:ŠESTÝ SMYSL se uskuteční dne 2026-04-25 v 19:00 v Brno\, Cabaret des Péchés. \n🎟️ Koupit vstupenku \n\nŠESTÝ SMYSL — NEJVĚTŠÍ ŽENSKÁ SHOW V CABARETU DES PÉCHÉS!  \nVstupte do světa\, kde se ženské tajemství stává hlavní zbraní a fantazie realitou. Cabaret des Péchés uvádí svou dosud nejodvážnější a nejvíc sexy show: ŠESTÝ SMYSL. \nVečer plný ženských paradoxů\, tajemství a rafinovaného humoru\, který vás vtáhne do hlubin ženského myšlení – i když mu možná nikdy úplně neporozumíte. \n Těšte se na:  \n• smyslné tanečnice  \n• živý zpěv  \n• dechberoucí akrobacii  \n• svůdnou burlesku  \n• extravagantní drag show \n• interaktivní část \n• věštbu vašich osudů \n  \nBěhem večera budete mít možnost navštívit i tajemnou interaktivní část\, která vás donutí zamyslet se na důležitostí každého smyslu. Připravte se\, že ženská logika vás vtáhne do hry! \nA navíc – jen ti nejodvážnější okusí pokušení nahlédnout do budoucnosti. V ceně vstupenky je možnost setkání s věštkyní\, která vám bez zábran odkryje váš osud… pokud si troufnete. \nCelým večerem vás provede okouzlující moderátorka Daina Divad.  \n  \nŠESTÝ SMYSL není jen show — je to zážitek\, na který se nezapomíná. Připravte se na noc\, kdy zjistíte\, že ženy možná nemají vždy pravdu… ale rozhodně vždy vědí proč. \n  \nVšechny interaktivní aktivity i věštby berte\, prosím\, s nadhledem a špetkou humoru. Nejedná se o skutečné předtuchy\, ale o součást jedinečné show. \n  \nDoporučený dresscode – večerní elegance s jemným nádechem smyslnosti – tmavší barvy\, šaty\, saka\, košile nebo stylové doplňky; hlavní je cítit se příjemně a sebevědomě \nShow je určena výhradně pro publikum starší 18 let – vstup osobám mladším 18 let není povolen \nUpozornění pro divákyTato inscenace obsahuje světelné efekty\, včetně stroboskopických záblesků a rychle se měnících světelných sekvencí. U osob s fotosenzitivní epilepsií nebo zvýšenou citlivostí na intenzivní světelné podněty mohou tyto efekty vyvolat nepříznivé zdravotní reakce. Divákům\, kterých by se tato skutečnost mohla týkat\, se doporučuje zvýšená opatrnost. \n\nTento tip na kulturní akci v Brno najdete v přehledu na nasejiznimorava.cz kde na jednom místě shromažďujeme desítky dalších koncertů\, festivalů\, divadelních představení i komunitních událostí z celého regionu i z celé ČR. Přehled je přehledně řazený\, pravidelně aktualizovaný a umožní vám rychle najít přesně to\, co vás zajímá – od velkých open-air akcí až po menší lokální programy. Každý si tak snadno vybere podle svého vkusu i času. Pokud vás některá akce zaujme\, nezapomeňte si včas zajistit vstupenky; stačí kliknout na detail události a budete bezpečně přesměrováni na oficiálního prodejce vstupenek..
URL:https://nasejiznimorava.cz/event/sesty-smysl-7/
LOCATION:Cabaret des Péchés\, Brno\, Cabaret des Péchés\, Brno\, Česká republika
CATEGORIES:Zábava
ATTACH;FMTTYPE=image/jpeg:https://nasejiznimorava.cz/wp-content/uploads/2026/01/320-fb5f7a2c7b5848298b13a4e66db7e893.jpg
END:VEVENT
BEGIN:VEVENT
DTSTART;TZID=Europe/Prague:20260430T180000
DTEND;TZID=Europe/Prague:20260430T210000
DTSTAMP:20260419T204154
CREATED:20251111T134605Z
LAST-MODIFIED:20251111T134606Z
UID:37488-1777572000-1777582800@nasejiznimorava.cz
SUMMARY:Atomic Witch Jane Pope Smokes Dope
DESCRIPTION:Atomic Witch Jane Pope Smokes Dope se uskuteční dne 2026-04-30 v 18:00 v Brno\, Dům pánů z Kunštátu. \n🎟️ Koupit vstupenku \n\nJá bych to normálně celej ten noťas hodil do koše a vysral se na to. \n\nTento tip na kulturní akci v Brno najdete v přehledu na nasejiznimorava.cz kde na jednom místě shromažďujeme desítky dalších koncertů\, festivalů\, divadelních představení i komunitních událostí z celého regionu i z celé ČR. Přehled je přehledně řazený\, pravidelně aktualizovaný a umožní vám rychle najít přesně to\, co vás zajímá – od velkých open-air akcí až po menší lokální programy. Každý si tak snadno vybere podle svého vkusu i času. Pokud vás některá akce zaujme\, nezapomeňte si včas zajistit vstupenky; stačí kliknout na detail události a budete bezpečně přesměrováni na oficiálního prodejce vstupenek..
URL:https://nasejiznimorava.cz/event/atomic-witch-jane-pope-smokes-dope/
LOCATION:Dům pánů z Kunštátu\, Brno\, Dům pánů z Kunštátu\, Brno\, Česká republika
CATEGORIES:Koncert
ATTACH;FMTTYPE=image/jpeg:https://nasejiznimorava.cz/wp-content/uploads/2025/11/320-538b1eb734d74536baf4961c2a56d459.jpg
END:VEVENT
BEGIN:VEVENT
DTSTART;TZID=Europe/Prague:20260430T181500
DTEND;TZID=Europe/Prague:20260430T211500
DTSTAMP:20260419T204154
CREATED:20260315T062605Z
LAST-MODIFIED:20260315T062607Z
UID:42401-1777572900-1777583700@nasejiznimorava.cz
SUMMARY:Deloraine a Irdorath  - Beltine v Brně
DESCRIPTION:Deloraine a Irdorath  – Beltine v Brně se uskuteční dne 2026-04-30 v 18:15 v Brno\, Sono Centrum. \n🎟️ Koupit vstupenku \n\nPaganfolková skupina Deloraine zahraje velký BELTINOVÝ koncert v sále Sono i s novou strhující ohnivou show a novými písněmi. A s perfektním zvukem i pódiem Sona. \nPřipravte se na nezapomenutelný večer s Deloraine! Na epickou výpravu do světů inspirovaných Zaklínačem\, keltskými mýty\, severskými ságami\, Středozemí a dávnými slovanskými legendami. Hudba Deloraine je víc než jen koncert – je to rituál\, oslava a divoký tanec v jednom! \nDeloraine mistrně splétají mocné vokály charismatických zpěváků s bohatým zvukem pestré škály etnických a exotických nástrojů.  Koncerty Deloraine jsou proslulé svou strhující atmosférou a vizuální podívanou. A tentokrát navíc se zcela novou show. Těšte se na pohanské tance\, tajemné rituály\, výjimečné kostýmy a na pódiu ožívající postavy jako rohatá vědma\, bůh Cernunnos či samotný Odin. Jejich vystoupení jsou nekonečným proudem energie\, který si podmanil publika na velkých evropských festivalech i vyprodaných klubových scénách. \nNenechte si ujít kapelu\, jejíž alba „Vlaštovka“ a „Srdce z kamene“ byla vyhlášena alby týdne a jejichž videoklip „Sabat“ a „Odin\, Havranů Pán“ získal mezinárodní ocenění. Přijďte zažít divoký dvouhodinový pohanský koncert\, kde se bude tančit\, zpívat a oslavovat! Hudba Deloraine je vášnivé srdce na dlani\, připravené vás vtáhnout do svého magického světa! \nJako hosté vystoupí fantastičtí pohané Irdorath. Irdorath jsou vypravěči prastarých příběhů\, jejichž hudba je jako brána do jiných světů. Připravte se na hudební rituál\, který nemá obdoby! Směs silných melodií a pagan folku. Dudy\, harfy\, violoncello i divoké rytmy bubnů vás vtáhnou do světa mýtů\, ohně a nespoutané energie. \nPLÁN VEČERA:16:45 otevření vstupu18:15 Irdorath19:45 Deloraine                                                                                                             22:00 setkání s kapelami\, podpisy fotky \nVSTUPENKY:Lístky v předprodeji na portálu smsticket.czCena v předprodeji  do 31. 12. VÁNOČNÍ SLEVA MORANY  –  650 KčCena v předprodeji  od 1. 1. 2026  –  790 Kč \n\nTento tip na kulturní akci v Brno najdete v přehledu na nasejiznimorava.cz kde na jednom místě shromažďujeme desítky dalších koncertů\, festivalů\, divadelních představení i komunitních událostí z celého regionu i z celé ČR. Přehled je přehledně řazený\, pravidelně aktualizovaný a umožní vám rychle najít přesně to\, co vás zajímá – od velkých open-air akcí až po menší lokální programy. Každý si tak snadno vybere podle svého vkusu i času. Pokud vás některá akce zaujme\, nezapomeňte si včas zajistit vstupenky; stačí kliknout na detail události a budete bezpečně přesměrováni na oficiálního prodejce vstupenek..
URL:https://nasejiznimorava.cz/event/deloraine-a-irdorath-beltine-v-brne/
LOCATION:Sono Centrum\, Brno\, Sono Centrum\, Brno\, Česká republika
CATEGORIES:Koncert
ATTACH;FMTTYPE=image/jpeg:https://nasejiznimorava.cz/wp-content/uploads/2026/03/320-e4c52458bef0464bb1a421ffbef0ce46.jpg
END:VEVENT
END:VCALENDAR