BEGIN:VCALENDAR
VERSION:2.0
PRODID:-// „Objev místa, kde se dobře pije, krásně spí a skvěle žije“  - ECPv6.15.20//NONSGML v1.0//EN
CALSCALE:GREGORIAN
METHOD:PUBLISH
X-ORIGINAL-URL:https://nasejiznimorava.cz
X-WR-CALDESC:Akce na  „Objev místa, kde se dobře pije, krásně spí a skvěle žije“ 
REFRESH-INTERVAL;VALUE=DURATION:PT1H
X-Robots-Tag:noindex
X-PUBLISHED-TTL:PT1H
BEGIN:VTIMEZONE
TZID:Europe/Prague
BEGIN:DAYLIGHT
TZOFFSETFROM:+0100
TZOFFSETTO:+0200
TZNAME:CEST
DTSTART:20250330T010000
END:DAYLIGHT
BEGIN:STANDARD
TZOFFSETFROM:+0200
TZOFFSETTO:+0100
TZNAME:CET
DTSTART:20251026T010000
END:STANDARD
BEGIN:DAYLIGHT
TZOFFSETFROM:+0100
TZOFFSETTO:+0200
TZNAME:CEST
DTSTART:20260329T010000
END:DAYLIGHT
BEGIN:STANDARD
TZOFFSETFROM:+0200
TZOFFSETTO:+0100
TZNAME:CET
DTSTART:20261025T010000
END:STANDARD
BEGIN:DAYLIGHT
TZOFFSETFROM:+0100
TZOFFSETTO:+0200
TZNAME:CEST
DTSTART:20270328T010000
END:DAYLIGHT
BEGIN:STANDARD
TZOFFSETFROM:+0200
TZOFFSETTO:+0100
TZNAME:CET
DTSTART:20271031T010000
END:STANDARD
END:VTIMEZONE
BEGIN:VEVENT
DTSTART;TZID=Europe/Prague:20260424T190000
DTEND;TZID=Europe/Prague:20260424T220000
DTSTAMP:20260419T222222
CREATED:20260107T163203Z
LAST-MODIFIED:20260107T163203Z
UID:41406-1777057200-1777068000@nasejiznimorava.cz
SUMMARY:Rockové Balady při svíčkách
DESCRIPTION:Rockové Balady při svíčkách se uskuteční dne 2026-04-24 v 19:00 v Kladno\, Kino Sokol. \n🎟️ Koupit vstupenku \n\nZažij kouzlo největších rockových hitů během jedinečného večera\, kde legendární melodie zazní v podání smyčcového kvarteta za svitu stovek svíček. \nUslyšíš skladby světově proslulých kapel jako Queen\, Metallica\, Nirvana\, Aerosmith\, Guns N’ Roses\, Led Zeppelin\, Pink Floyd\, Deep Purple\, Bon Jovi a mnoha dalších. Smyčcové aranžmá otevírá těmto klasikám zcela nové emocionální hloubky. \nTeplé světlo svíček vytváří výjimečně intimní atmosféru – čeká tě nezapomenutelný hudební zážitek. \nAkce není doporučena pro děti mladší 6 let. \n\nTento tip na kulturní akci v Kladno najdete v přehledu na nasejiznimorava.cz kde na jednom místě shromažďujeme desítky dalších koncertů\, festivalů\, divadelních představení i komunitních událostí z celého regionu i z celé ČR. Přehled je přehledně řazený\, pravidelně aktualizovaný a umožní vám rychle najít přesně to\, co vás zajímá – od velkých open-air akcí až po menší lokální programy. Každý si tak snadno vybere podle svého vkusu i času. Pokud vás některá akce zaujme\, nezapomeňte si včas zajistit vstupenky; stačí kliknout na detail události a budete bezpečně přesměrováni na oficiálního prodejce vstupenek..
URL:https://nasejiznimorava.cz/event/rockove-balady-pri-svickach/
LOCATION:Kino Sokol\, Kladno\, Kino Sokol\, Kladno\, Česká republika
CATEGORIES:Koncert
ATTACH;FMTTYPE=image/jpeg:https://nasejiznimorava.cz/wp-content/uploads/2026/01/320-a63fcc88fc4945ba8775bba09ad5311c.jpg
END:VEVENT
BEGIN:VEVENT
DTSTART;TZID=Europe/Prague:20260520T190000
DTEND;TZID=Europe/Prague:20260520T220000
DTSTAMP:20260419T222222
CREATED:20251120T182324Z
LAST-MODIFIED:20251120T182324Z
UID:39169-1779303600-1779314400@nasejiznimorava.cz
SUMMARY:Martin Hranáč - CRAZY SHOW - Kladno
DESCRIPTION:Martin Hranáč – CRAZY SHOW – Kladno se uskuteční dne 2026-05-20 v 19:00 v Kladno\, Dům kultury. \n🎟️ Koupit vstupenku \n\nChcete vstoupit do světa humoru a improvizace? Tak je CRAZY SHOW právě pro VÁS! Připravte se na nezapomenutelný večer plný smíchu s Martinem Hranáčem – komikem\, hercem\, číšníkem a optimistou\, který svým jedinečným smyslem pro humor baví lidi na sociálních sítích. Martinův příběh číšníka a jeho každodenní zážitky z gastronomie se stávají zábavným vyprávěním\, které osloví naprosto všechny. \nKaždé vystoupení je unikátní a plné improvizace\, protože Martin miluje improvizaci a scénáře mění v průběhu večera\, což občas vykolejí jeho sestru Štěpánku Šmídovou\, která mu dělá skvělou společnost během celé show. Všechny scénky a historky vychází z Martinových zkušeností a zážitků\, jak profesního\, tak soukromého života. Jeho humor je nekorektní\, sebeironický a nebojí se jít na hranu – právě to dělá jeho show nezapomenutelnou! \nNenechte si ujít tento jedinečný zážitek! Vstupenky v prodeji! \nPořad není vhodný mladším 15 let! \n\nTento tip na kulturní akci v Kladno najdete v přehledu na nasejiznimorava.cz kde na jednom místě shromažďujeme desítky dalších koncertů\, festivalů\, divadelních představení i komunitních událostí z celého regionu i z celé ČR. Přehled je přehledně řazený\, pravidelně aktualizovaný a umožní vám rychle najít přesně to\, co vás zajímá – od velkých open-air akcí až po menší lokální programy. Každý si tak snadno vybere podle svého vkusu i času. Pokud vás některá akce zaujme\, nezapomeňte si včas zajistit vstupenky; stačí kliknout na detail události a budete bezpečně přesměrováni na oficiálního prodejce vstupenek..
URL:https://nasejiznimorava.cz/event/martin-hranac-crazy-show-kladno/
LOCATION:Dům kultury\, Kladno\, Dům kultury\, Kladno\, Česká republika
CATEGORIES:Zábava
ATTACH;FMTTYPE=image/jpeg:https://nasejiznimorava.cz/wp-content/uploads/2025/11/320-01cf9c5a17b349a7af0d2fa7556f836f.jpg
END:VEVENT
BEGIN:VEVENT
DTSTART;TZID=Europe/Prague:20260610T190000
DTEND;TZID=Europe/Prague:20260610T220000
DTSTAMP:20260419T222222
CREATED:20260107T082203Z
LAST-MODIFIED:20260107T082204Z
UID:41368-1781118000-1781128800@nasejiznimorava.cz
SUMMARY:Tigran Hovakimyan - Tigran je ve městě - Kladno
DESCRIPTION:Tigran Hovakimyan – Tigran je ve městě – Kladno se uskuteční dne 2026-06-10 v 19:00 v Kladno\, Kino Sokol. \n🎟️ Koupit vstupenku \n\nTigran Hovakimyan pochází z Arménie\, mluví čtyřmi jazyky a za sebou má pestrou škálu životních i pracovních zkušeností. Než zakotvil u stand-up comedy\, vyzkoušel řadu zaměstnání a působil jako amatérský herec v dětském divadle. Právě tam se naučil vnímat publikum\, reagovat na jeho energii a přirozeně pracovat s humorem. \nZ dětského jeviště zamířil na stand-up pódia\, kde se může spolehnout jen na sebe – a to mu vyhovuje nejvíc. V roce 2026 vyráží na svou dosud největší stand-up tour napříč Českou republikou se svým speciálem Tigran je ve městě. \nČeká vás večer plný originálního humoru\, osobitých postřehů\, nečekaných point a energie\, která vás nenechá v klidu sedět! \nNa každém vystoupení se představí jako předskokan některý z českých stand-up komiků. \n\nTento tip na kulturní akci v Kladno najdete v přehledu na nasejiznimorava.cz kde na jednom místě shromažďujeme desítky dalších koncertů\, festivalů\, divadelních představení i komunitních událostí z celého regionu i z celé ČR. Přehled je přehledně řazený\, pravidelně aktualizovaný a umožní vám rychle najít přesně to\, co vás zajímá – od velkých open-air akcí až po menší lokální programy. Každý si tak snadno vybere podle svého vkusu i času. Pokud vás některá akce zaujme\, nezapomeňte si včas zajistit vstupenky; stačí kliknout na detail události a budete bezpečně přesměrováni na oficiálního prodejce vstupenek..
URL:https://nasejiznimorava.cz/event/tigran-hovakimyan-tigran-je-ve-meste-kladno/
LOCATION:Kino Sokol\, Kladno\, Kino Sokol\, Kladno\, Česká republika
CATEGORIES:Zábava
ATTACH;FMTTYPE=image/jpeg:https://nasejiznimorava.cz/wp-content/uploads/2026/01/320-e19a53ba6c5d4518bd61c5de7ff359a8.jpg
END:VEVENT
BEGIN:VEVENT
DTSTART;TZID=Europe/Prague:20261004T190000
DTEND;TZID=Europe/Prague:20261004T220000
DTSTAMP:20260419T222222
CREATED:20260314T191009Z
LAST-MODIFIED:20260314T191009Z
UID:42350-1791140400-1791151200@nasejiznimorava.cz
SUMMARY:Miloš Knor - Jiná doba - Stand-up comedy show
DESCRIPTION:Miloš Knor – Jiná doba – Stand-up comedy show se uskuteční dne 2026-10-04 v 19:00 v Kladno\, Kino Sokol. \n🎟️ Koupit vstupenku \n\nSvět se stále mění a doba je pořád jiná. Každý dnem\, hodinou\, okamžikem. Nic není jak bylo a nic nebude jak je. Humorný pohled na civilizační pokrok vám Miloš Knor ve své 90 minutové show popíše na několika příkladech. Jaký byl život bez telefonu\, stará dobrá analogová hádka a zachrání nás ekofašismus? Potřebuje auto tlačítko se snižováním výkonu? Bylo líp? Je? Bude? \nTaková je zbrusu nová Stand-up comedy show Miloše Knora.  \n!Vhodné pro všechny věkové kategorie od 18 let. I když\, teď je všechno jinak!  \nDalší Stand-up shows v Ostravě: www.standupshow.cz/stand-up-ostrava \n\nTento tip na kulturní akci v Kladno najdete v přehledu na nasejiznimorava.cz kde na jednom místě shromažďujeme desítky dalších koncertů\, festivalů\, divadelních představení i komunitních událostí z celého regionu i z celé ČR. Přehled je přehledně řazený\, pravidelně aktualizovaný a umožní vám rychle najít přesně to\, co vás zajímá – od velkých open-air akcí až po menší lokální programy. Každý si tak snadno vybere podle svého vkusu i času. Pokud vás některá akce zaujme\, nezapomeňte si včas zajistit vstupenky; stačí kliknout na detail události a budete bezpečně přesměrováni na oficiálního prodejce vstupenek..
URL:https://nasejiznimorava.cz/event/milos-knor-jina-doba-stand-up-comedy-show-2/
LOCATION:Kino Sokol\, Kladno\, Kino Sokol\, Kladno\, Česká republika
CATEGORIES:Zábava
ATTACH;FMTTYPE=image/jpeg:https://nasejiznimorava.cz/wp-content/uploads/2026/03/320-bc945c7c5cc84808a4d9768b3a61c004.jpg
END:VEVENT
BEGIN:VEVENT
DTSTART;TZID=Europe/Prague:20261007T190000
DTEND;TZID=Europe/Prague:20261007T220000
DTSTAMP:20260419T222222
CREATED:20251111T124639Z
LAST-MODIFIED:20251111T124639Z
UID:36391-1791399600-1791410400@nasejiznimorava.cz
SUMMARY:ABBA SYMPHONIC SHOW 2026 | Kladno
DESCRIPTION:ABBA SYMPHONIC SHOW 2026 | Kladno se uskuteční dne 2026-10-07 v 19:00 v Kladno\, Dům kultury. \n🎟️ Koupit vstupenku \n\nABBA WORLD REVIVAL – 100% Live in Symphonic Show!!! \nKdyž se hudebníci z ABBA WORLD Revival setkají na jednom pódiu se špičkovými filharmonickými instrumentalisty\, výsledkem je nezapomenutelná hudební i vizuální show nazvaná „ABBA WORLD Revival meets Classic“. \nZazní všechny legendární hity fenomenální švédské skupiny ABBA jako: Waterloo\, Dancing Queen\, Fernando\, Chiquitita\, Mamma Mia nebo Gimme! Gimme! Gimme! a další. Písně zahrané téměř k nerozeznání od originálu a exkluzivně doplněné o unikátní symfonické aranžmá. \nZvuk je 100% živý\, bez playbacků či half-playbacků. Můžete se těšit na repliky originálních kostýmů a choreografií. Pojďte proti proudu hudebního času do světa fenoménu jménem ABBA a užijte si nezapomenutelnou show! \n\nTento tip na kulturní akci v Kladno najdete v přehledu na nasejiznimorava.cz kde na jednom místě shromažďujeme desítky dalších koncertů\, festivalů\, divadelních představení i komunitních událostí z celého regionu i z celé ČR. Přehled je přehledně řazený\, pravidelně aktualizovaný a umožní vám rychle najít přesně to\, co vás zajímá – od velkých open-air akcí až po menší lokální programy. Každý si tak snadno vybere podle svého vkusu i času. Pokud vás některá akce zaujme\, nezapomeňte si včas zajistit vstupenky; stačí kliknout na detail události a budete bezpečně přesměrováni na oficiálního prodejce vstupenek..
URL:https://nasejiznimorava.cz/event/abba-symphonic-show-2026-kladno/
LOCATION:Dům kultury\, Kladno\, Dům kultury\, Kladno\, Česká republika
CATEGORIES:Koncert
ATTACH;FMTTYPE=image/jpeg:https://nasejiznimorava.cz/wp-content/uploads/2025/11/320-c36cb0296455491295d38f269e65995d.jpg
END:VEVENT
END:VCALENDAR