BEGIN:VCALENDAR
VERSION:2.0
PRODID:-// „Objev místa, kde se dobře pije, krásně spí a skvěle žije“  - ECPv6.15.20//NONSGML v1.0//EN
CALSCALE:GREGORIAN
METHOD:PUBLISH
X-WR-CALNAME: „Objev místa, kde se dobře pije, krásně spí a skvěle žije“ 
X-ORIGINAL-URL:https://nasejiznimorava.cz
X-WR-CALDESC:Akce na  „Objev místa, kde se dobře pije, krásně spí a skvěle žije“ 
REFRESH-INTERVAL;VALUE=DURATION:PT1H
X-Robots-Tag:noindex
X-PUBLISHED-TTL:PT1H
BEGIN:VTIMEZONE
TZID:Europe/Prague
BEGIN:DAYLIGHT
TZOFFSETFROM:+0100
TZOFFSETTO:+0200
TZNAME:CEST
DTSTART:20250330T010000
END:DAYLIGHT
BEGIN:STANDARD
TZOFFSETFROM:+0200
TZOFFSETTO:+0100
TZNAME:CET
DTSTART:20251026T010000
END:STANDARD
BEGIN:DAYLIGHT
TZOFFSETFROM:+0100
TZOFFSETTO:+0200
TZNAME:CEST
DTSTART:20260329T010000
END:DAYLIGHT
BEGIN:STANDARD
TZOFFSETFROM:+0200
TZOFFSETTO:+0100
TZNAME:CET
DTSTART:20261025T010000
END:STANDARD
BEGIN:DAYLIGHT
TZOFFSETFROM:+0100
TZOFFSETTO:+0200
TZNAME:CEST
DTSTART:20270328T010000
END:DAYLIGHT
BEGIN:STANDARD
TZOFFSETFROM:+0200
TZOFFSETTO:+0100
TZNAME:CET
DTSTART:20271031T010000
END:STANDARD
END:VTIMEZONE
BEGIN:VEVENT
DTSTART;TZID=Europe/Prague:20260411T190000
DTEND;TZID=Europe/Prague:20260411T220000
DTSTAMP:20260419T183140
CREATED:20260402T175707Z
LAST-MODIFIED:20260402T175709Z
UID:42438-1775934000-1775944800@nasejiznimorava.cz
SUMMARY:Filharmonie Hradec Králové\, Jiří Vodička - housle
DESCRIPTION:Filharmonie Hradec Králové\, Jiří Vodička – housle se uskuteční dne 2026-04-11 v 19:00 v Česká Třebová\, Kulturní centrum. \n🎟️ Koupit vstupenku \n\nZahajovací koncert Bennewitz festivalu 2026. \nFilharmonie Hradec Králové uvede pod taktovkou dirigenta Jiřího Habarta večer plný energie\, melodické krásy a italského temperamentu. Koncert otevře slavná předehra k Rossiniho opeře Straka zlodějka. Hlavním hostem večera je Jiří Vodička\, jeden z nejvýraznějších českých houslistů současnosti. Publikum uslyší v jeho podání Houslový koncert g moll Maxe Brucha\, dílo milované publikem pro svou zpěvnost\, lyrickou krásu i virtuózní nároky. Program vyvrcholí Mendelssohnovou „Italskou“ symfonií\, inspirovanou skladatelovou cestou po slunném jihu. Symfonie září radostí\, lehkostí a jižanskou vitalitou – od okouzlujícího úvodu až k ohnivému finále ve formě svižného saltarella. \nProgram: \nG. Rossini – Straka Zlodějka\, předehra M. Bruch – houslový koncert č. 1 g moll\, op. 26 \nF. Mendelssohn – Symfonie A-dur op.\, 90 „Italská“ \nDirigent: Jiří Habart \nPředprodej vstupenek na www.kcct.cz\, v Městském muzeu (Klácelova 11)\, v kanceláři Kulturního centra (Nádražní 397) a 1 hodinu před začátkem u pokladny. \n\nTento tip na kulturní akci v Česká Třebová najdete v přehledu na nasejiznimorava.cz kde na jednom místě shromažďujeme desítky dalších koncertů\, festivalů\, divadelních představení i komunitních událostí z celého regionu i z celé ČR. Přehled je přehledně řazený\, pravidelně aktualizovaný a umožní vám rychle najít přesně to\, co vás zajímá – od velkých open-air akcí až po menší lokální programy. Každý si tak snadno vybere podle svého vkusu i času. Pokud vás některá akce zaujme\, nezapomeňte si včas zajistit vstupenky; stačí kliknout na detail události a budete bezpečně přesměrováni na oficiálního prodejce vstupenek..
URL:https://nasejiznimorava.cz/event/filharmonie-hradec-kralove-jiri-vodicka-housle/
LOCATION:Kulturní centrum\, Česká Třebová\, Kulturní centrum\, Česká Třebová\, Česká republika
CATEGORIES:Festival
ATTACH;FMTTYPE=image/jpeg:https://nasejiznimorava.cz/wp-content/uploads/2026/04/320-7ca8c706c1c04932aec83697daf0199c.jpg
END:VEVENT
END:VCALENDAR