BEGIN:VCALENDAR
VERSION:2.0
PRODID:-// „Objev místa, kde se dobře pije, krásně spí a skvěle žije“  - ECPv6.15.20//NONSGML v1.0//EN
CALSCALE:GREGORIAN
METHOD:PUBLISH
X-ORIGINAL-URL:https://nasejiznimorava.cz
X-WR-CALDESC:Akce na  „Objev místa, kde se dobře pije, krásně spí a skvěle žije“ 
REFRESH-INTERVAL;VALUE=DURATION:PT1H
X-Robots-Tag:noindex
X-PUBLISHED-TTL:PT1H
BEGIN:VTIMEZONE
TZID:Europe/Prague
BEGIN:DAYLIGHT
TZOFFSETFROM:+0100
TZOFFSETTO:+0200
TZNAME:CEST
DTSTART:20250330T010000
END:DAYLIGHT
BEGIN:STANDARD
TZOFFSETFROM:+0200
TZOFFSETTO:+0100
TZNAME:CET
DTSTART:20251026T010000
END:STANDARD
BEGIN:DAYLIGHT
TZOFFSETFROM:+0100
TZOFFSETTO:+0200
TZNAME:CEST
DTSTART:20260329T010000
END:DAYLIGHT
BEGIN:STANDARD
TZOFFSETFROM:+0200
TZOFFSETTO:+0100
TZNAME:CET
DTSTART:20261025T010000
END:STANDARD
BEGIN:DAYLIGHT
TZOFFSETFROM:+0100
TZOFFSETTO:+0200
TZNAME:CEST
DTSTART:20270328T010000
END:DAYLIGHT
BEGIN:STANDARD
TZOFFSETFROM:+0200
TZOFFSETTO:+0100
TZNAME:CET
DTSTART:20271031T010000
END:STANDARD
END:VTIMEZONE
BEGIN:VEVENT
DTSTART;TZID=Europe/Prague:20260413T190000
DTEND;TZID=Europe/Prague:20260413T220000
DTSTAMP:20260419T183448
CREATED:20260402T175709Z
LAST-MODIFIED:20260402T175710Z
UID:42441-1776106800-1776117600@nasejiznimorava.cz
SUMMARY:Belfiato Quintet
DESCRIPTION:Belfiato Quintet se uskuteční dne 2026-04-13 v 19:00 v Česká Třebová\, Malá scéna. \n🎟️ Koupit vstupenku \n\nKomorní soubor Belfiato Quintet s programem nazvaným Bestiář. \nČlenové kvintetu jsou hráči předních orchestrů: Oto Reiprich\, Jan Souček\, Jiří Javůrek\, Jan Hudeček a Kateřina Javůrková \nPředprodej vstupenek na www.kcct.cz\, v Městském muzeu (Klácelova 11)\, v kanceláři Kulturního centra (Nádražní 397) a 1 hodinu před začátkem u pokladny. \n\nTento tip na kulturní akci v Česká Třebová najdete v přehledu na nasejiznimorava.cz kde na jednom místě shromažďujeme desítky dalších koncertů\, festivalů\, divadelních představení i komunitních událostí z celého regionu i z celé ČR. Přehled je přehledně řazený\, pravidelně aktualizovaný a umožní vám rychle najít přesně to\, co vás zajímá – od velkých open-air akcí až po menší lokální programy. Každý si tak snadno vybere podle svého vkusu i času. Pokud vás některá akce zaujme\, nezapomeňte si včas zajistit vstupenky; stačí kliknout na detail události a budete bezpečně přesměrováni na oficiálního prodejce vstupenek..
URL:https://nasejiznimorava.cz/event/belfiato-quintet/
LOCATION:Malá scéna\, Česká Třebová\, Malá scéna\, Česká Třebová\, Česká republika
CATEGORIES:Festival
ATTACH;FMTTYPE=image/jpeg:https://nasejiznimorava.cz/wp-content/uploads/2026/04/320-397e3149982f43d0a7c17f7d100e28d2.jpg
END:VEVENT
END:VCALENDAR