BEGIN:VCALENDAR
VERSION:2.0
PRODID:-// „Objev místa, kde se dobře pije, krásně spí a skvěle žije“  - ECPv6.15.20//NONSGML v1.0//EN
CALSCALE:GREGORIAN
METHOD:PUBLISH
X-ORIGINAL-URL:https://nasejiznimorava.cz
X-WR-CALDESC:Akce na  „Objev místa, kde se dobře pije, krásně spí a skvěle žije“ 
REFRESH-INTERVAL;VALUE=DURATION:PT1H
X-Robots-Tag:noindex
X-PUBLISHED-TTL:PT1H
BEGIN:VTIMEZONE
TZID:Europe/Prague
BEGIN:DAYLIGHT
TZOFFSETFROM:+0100
TZOFFSETTO:+0200
TZNAME:CEST
DTSTART:20250330T010000
END:DAYLIGHT
BEGIN:STANDARD
TZOFFSETFROM:+0200
TZOFFSETTO:+0100
TZNAME:CET
DTSTART:20251026T010000
END:STANDARD
BEGIN:DAYLIGHT
TZOFFSETFROM:+0100
TZOFFSETTO:+0200
TZNAME:CEST
DTSTART:20260329T010000
END:DAYLIGHT
BEGIN:STANDARD
TZOFFSETFROM:+0200
TZOFFSETTO:+0100
TZNAME:CET
DTSTART:20261025T010000
END:STANDARD
BEGIN:DAYLIGHT
TZOFFSETFROM:+0100
TZOFFSETTO:+0200
TZNAME:CEST
DTSTART:20270328T010000
END:DAYLIGHT
BEGIN:STANDARD
TZOFFSETFROM:+0200
TZOFFSETTO:+0100
TZNAME:CET
DTSTART:20271031T010000
END:STANDARD
END:VTIMEZONE
BEGIN:VEVENT
DTSTART;TZID=Europe/Prague:20260415T190000
DTEND;TZID=Europe/Prague:20260415T220000
DTSTAMP:20260419T183443
CREATED:20251111T132149Z
LAST-MODIFIED:20251111T132149Z
UID:36995-1776279600-1776290400@nasejiznimorava.cz
SUMMARY:NÁSTROJ ANDĚLŮ I SMRTI
DESCRIPTION:NÁSTROJ ANDĚLŮ I SMRTI se uskuteční dne 2026-04-15 v 19:00 v Brno\, Besední dům. \n🎟️ Koupit vstupenku \n\nPROGRAM: \nJohann Sebastian Bach: transkripce koncertů pro sólovou flétnu. \n  \nSOLI: \nMichaela Koudelková – flétny\, Dagmar Valentová – housle \n  \nVirtuózní sólový recitál Michaely Koudelkové představí Johanna Sebastiana Bacha v netradičním světle. Zazní transkripce jeho slavných instrumentálních koncertů pro sólovou flétnu\, které odhalí melodickou invenci a polyfonní mistrovství tohoto barokního génia. \n\nTento tip na kulturní akci v Brno najdete v přehledu na nasejiznimorava.cz kde na jednom místě shromažďujeme desítky dalších koncertů\, festivalů\, divadelních představení i komunitních událostí z celého regionu i z celé ČR. Přehled je přehledně řazený\, pravidelně aktualizovaný a umožní vám rychle najít přesně to\, co vás zajímá – od velkých open-air akcí až po menší lokální programy. Každý si tak snadno vybere podle svého vkusu i času. Pokud vás některá akce zaujme\, nezapomeňte si včas zajistit vstupenky; stačí kliknout na detail události a budete bezpečně přesměrováni na oficiálního prodejce vstupenek..
URL:https://nasejiznimorava.cz/event/nastroj-andelu-i-smrti/
LOCATION:Besední dům\, Brno\, Besední dům\, Brno\, Česká republika
CATEGORIES:Koncert
ATTACH;FMTTYPE=image/jpeg:https://nasejiznimorava.cz/wp-content/uploads/2025/11/320-0b2c5b58e57d466fa49b1c8e6c17c5d4.jpg
END:VEVENT
BEGIN:VEVENT
DTSTART;TZID=Europe/Prague:20260415T200000
DTEND;TZID=Europe/Prague:20260415T230000
DTSTAMP:20260419T183443
CREATED:20251111T133632Z
LAST-MODIFIED:20251111T133634Z
UID:37267-1776283200-1776294000@nasejiznimorava.cz
SUMMARY:Souboj Klavírů ve Žďáře nad Sázavou
DESCRIPTION:Souboj Klavírů ve Žďáře nad Sázavou se uskuteční dne 2026-04-15 v 20:00 v Žďár nad Sázavou\, Dům Kultury. \n🎟️ Koupit vstupenku \n\nZveme vás na jedinečný koncert dvou výjimečných klavíristů a hudebních skladatelů – Ondřeje Brzobohatého a Ondřeje Brouska! Tito celoživotní přátelé spojí své hudební mistrovství na pódiu v Domě kultury ve Žďáře nad Sázavou! Přijďte si užít večer plný virtuózní klavírní hry a nezapomenutelných melodií! \nJak by zněla „Osudová“\, kdyby byl Beethoven optimista? Proč pláčeme při banálním filmovém dialogu? Co je to „nevhodná“ hudba? Že se u klasické hudby nedá pořádně zasmát? Může mít „Souboj klavírů“ vítěze? \nNa tyto otázky vám stylově odpoví duo Brousek – Brzobohatý\, které připravilo nezapomenutelný večer plný hudebních vtipů s dvěma klavíry. \n\nTento tip na kulturní akci v Žďár nad Sázavou najdete v přehledu na nasejiznimorava.cz kde na jednom místě shromažďujeme desítky dalších koncertů\, festivalů\, divadelních představení i komunitních událostí z celého regionu i z celé ČR. Přehled je přehledně řazený\, pravidelně aktualizovaný a umožní vám rychle najít přesně to\, co vás zajímá – od velkých open-air akcí až po menší lokální programy. Každý si tak snadno vybere podle svého vkusu i času. Pokud vás některá akce zaujme\, nezapomeňte si včas zajistit vstupenky; stačí kliknout na detail události a budete bezpečně přesměrováni na oficiálního prodejce vstupenek..
URL:https://nasejiznimorava.cz/event/souboj-klaviru-ve-zdare-nad-sazavou/
LOCATION:Dům Kultury\, Žďár nad Sázavou\, Dům Kultury\, Žďár nad Sázavou\, Česká republika
CATEGORIES:Koncert
ATTACH;FMTTYPE=image/jpeg:https://nasejiznimorava.cz/wp-content/uploads/2025/11/320-0534d049f2de4f08a44ab7dadb8ef2a6.jpg
END:VEVENT
END:VCALENDAR