BEGIN:VCALENDAR
VERSION:2.0
PRODID:-// „Objev místa, kde se dobře pije, krásně spí a skvěle žije“  - ECPv6.15.20//NONSGML v1.0//EN
CALSCALE:GREGORIAN
METHOD:PUBLISH
X-WR-CALNAME: „Objev místa, kde se dobře pije, krásně spí a skvěle žije“ 
X-ORIGINAL-URL:https://nasejiznimorava.cz
X-WR-CALDESC:Akce na  „Objev místa, kde se dobře pije, krásně spí a skvěle žije“ 
REFRESH-INTERVAL;VALUE=DURATION:PT1H
X-Robots-Tag:noindex
X-PUBLISHED-TTL:PT1H
BEGIN:VTIMEZONE
TZID:Europe/Prague
BEGIN:DAYLIGHT
TZOFFSETFROM:+0100
TZOFFSETTO:+0200
TZNAME:CEST
DTSTART:20250330T010000
END:DAYLIGHT
BEGIN:STANDARD
TZOFFSETFROM:+0200
TZOFFSETTO:+0100
TZNAME:CET
DTSTART:20251026T010000
END:STANDARD
BEGIN:DAYLIGHT
TZOFFSETFROM:+0100
TZOFFSETTO:+0200
TZNAME:CEST
DTSTART:20260329T010000
END:DAYLIGHT
BEGIN:STANDARD
TZOFFSETFROM:+0200
TZOFFSETTO:+0100
TZNAME:CET
DTSTART:20261025T010000
END:STANDARD
BEGIN:DAYLIGHT
TZOFFSETFROM:+0100
TZOFFSETTO:+0200
TZNAME:CEST
DTSTART:20270328T010000
END:DAYLIGHT
BEGIN:STANDARD
TZOFFSETFROM:+0200
TZOFFSETTO:+0100
TZNAME:CET
DTSTART:20271031T010000
END:STANDARD
END:VTIMEZONE
BEGIN:VEVENT
DTSTART;TZID=Europe/Prague:20260419T183000
DTEND;TZID=Europe/Prague:20260419T213000
DTSTAMP:20260419T163213
CREATED:20251222T194504Z
LAST-MODIFIED:20251222T194505Z
UID:41029-1776623400-1776634200@nasejiznimorava.cz
SUMMARY:Světová hudba pro 4 saxofony a zpěv
DESCRIPTION:Světová hudba pro 4 saxofony a zpěv se uskuteční dne 2026-04-19 v 18:30 v Pardubice\, Evangelický kostel . \n🎟️ Koupit vstupenku \n\nPojďte si užít zbrusu nový program pro 4 saxofony a zpěv v dramaturgicky pestrém koncertu od klasiky\, přes swing a jazz až k moderní hudbě\, včetně aranží písniček Beatles do Evangelického kostela v Pardubicích\, který může být temperován ohřevem z lavic. \n  \nSaxofonové kvarteto FOUR + ONEPetr RANDÍK – soprán saxofon\, Zdeněk ZADRAŽIL – alt saxofon\,Tomáš PUDIVÍTR – tenor saxofon\, Vít DĚDIČ – baryton saxofona Andrea KAŇKOVÁ – zpěv \nPROGRAM:A. VIVALDI – Jaro ze Čtyř ročních období (v úpravě pro saxofony)A. DVOŘÁK – Largo z NovosvětskéE. MORRICONE – Tenkrát na západěJ. KANDER – New York\, New YorkL. COHEN – HallelujahJ. JEŽEK – Bugatti StepG. GERSHWIN – I got rhytmBEATLES – Eleanor RigbyBEATLES – IMAGINEBEATLES – Can´t buy me loveQUEEN – Crazy Little Think Called LoveB. STREISAND – MEMORYW. HOUSTON – I will always love youB. STREISAND – Tell HimB. LISTON – BrazilB. Mc FERRIN – Don´t Worry Be HappyF. SINATRA – My Wayzměna programu a účinkujících vyhrazena\, délka cca 65 minut \n\nTento tip na kulturní akci v Pardubice najdete v přehledu na nasejiznimorava.cz kde na jednom místě shromažďujeme desítky dalších koncertů\, festivalů\, divadelních představení i komunitních událostí z celého regionu i z celé ČR. Přehled je přehledně řazený\, pravidelně aktualizovaný a umožní vám rychle najít přesně to\, co vás zajímá – od velkých open-air akcí až po menší lokální programy. Každý si tak snadno vybere podle svého vkusu i času. Pokud vás některá akce zaujme\, nezapomeňte si včas zajistit vstupenky; stačí kliknout na detail události a budete bezpečně přesměrováni na oficiálního prodejce vstupenek..
URL:https://nasejiznimorava.cz/event/svetova-hudba-pro-4-saxofony-a-zpev-2/
LOCATION:Evangelický kostel \, Pardubice\, Evangelický kostel \, Pardubice\, Česká republika
CATEGORIES:Koncert
ATTACH;FMTTYPE=image/jpeg:https://nasejiznimorava.cz/wp-content/uploads/2025/12/320-fbbbbcb1f76a4e2dbf2098dcee9ba603.jpg
END:VEVENT
BEGIN:VEVENT
DTSTART;TZID=Europe/Prague:20260422T190000
DTEND;TZID=Europe/Prague:20260422T220000
DTSTAMP:20260419T163213
CREATED:20251113T074735Z
LAST-MODIFIED:20251113T074740Z
UID:39127-1776884400-1776895200@nasejiznimorava.cz
SUMMARY:Hudba Harryho Pottera při svíčkách | Hodonín
DESCRIPTION:Hudba Harryho Pottera při svíčkách | Hodonín se uskuteční dne 2026-04-22 v 19:00 v Hodonín\, Dům kultury. \n🎟️ Koupit vstupenku \n\nNenechte si ujít večer plný magické hudby\, kde zazní ty nejznámější melodie a písně ze všech filmů Harryho Pottera. Světlo stovky svíček vytvoří nezapomenutelnou atmosféru koncertu. \nProgram v jedinečném klavírním provedení představuje výběr filmových skladeb od pětinásobného oscarového skladatele Johna Williamse společně s díly Patricka Doyla\, Nicolase Hoopera a Alexandra Desplata\, držitele Oscara\, a nabízí to nejlepší z hudby Harryho Pottera. \nTento magický koncert nabídne víc než jen hudbu; stovky svíček rozzáří prostor a přidají na tajemné atmosféře plné mystiky a kouzel. \nMůžete se těšit na známé melodie a písně z filmů Harryho Pottera\, upravené pro klavírní koncert a to v podání předního českého klavíristy Alexandra Starého. \nV rámci Evropské tour alternují také: František Panáček a Lucie Kubátová.  \nAkce je přístupná od 12 let. Každý účastník musí předložit platnou vstupenku  zakoupenou výhradně v síti smsticket. \n  \n\nTento tip na kulturní akci v Hodonín najdete v přehledu na nasejiznimorava.cz kde na jednom místě shromažďujeme desítky dalších koncertů\, festivalů\, divadelních představení i komunitních událostí z celého regionu i z celé ČR. Přehled je přehledně řazený\, pravidelně aktualizovaný a umožní vám rychle najít přesně to\, co vás zajímá – od velkých open-air akcí až po menší lokální programy. Každý si tak snadno vybere podle svého vkusu i času. Pokud vás některá akce zaujme\, nezapomeňte si včas zajistit vstupenky; stačí kliknout na detail události a budete bezpečně přesměrováni na oficiálního prodejce vstupenek..
URL:https://nasejiznimorava.cz/event/hudba-harryho-pottera-pri-svickach-hodonin/
LOCATION:Dům kultury\, Hodonín\, Dům kultury\, Hodonín\, Česká republika
CATEGORIES:Koncert
ATTACH;FMTTYPE=image/jpeg:https://nasejiznimorava.cz/wp-content/uploads/2025/11/320-081e20518f324a689234558d14bb36ea.jpg
END:VEVENT
BEGIN:VEVENT
DTSTART;TZID=Europe/Prague:20260422T190000
DTEND;TZID=Europe/Prague:20260422T220000
DTSTAMP:20260419T163213
CREATED:20260402T184227Z
LAST-MODIFIED:20260402T184228Z
UID:42649-1776884400-1776895200@nasejiznimorava.cz
SUMMARY:Smetanovo trio a Anna Paulová
DESCRIPTION:Smetanovo trio a Anna Paulová se uskuteční dne 2026-04-22 v 19:00 v Česká Třebová\, Kulturní centrum. \n🎟️ Koupit vstupenku \n\nSmetanovo trio\, založené legendárním klavíristou Josefem Páleníčkem\, patří k nejvýznamnějším českým komorním souborům současnosti. Na tradici špičkového interpretačního umění navazují dnešní členové – klavíristka Jitka Čechová\, houslistka Markéta Janoušková a violoncellista Jan Páleníček – kteří spojují mimořádné sólistické kvality s dokonalou souhrou. Soubor je laureátem řady ocenění doma i v zahraničí\, mj. prestižních BBC Music Magazine Awards či francouzské ceny Diapason d’Or\, a od roku 2024 působí jako rezidenční soubor proslulé londýnské Wigmore Hall. Trio pravidelně vystupuje na předních českých festivalech (Pražské jaro\, Moravský podzim\, Lípa Musica) i na světových pódiích v Evropě\, USA\, Japonsku či Jižní Americe. Jeho nahrávky pro Supraphon jsou oceňovány kritiky pro brilantní techniku\, výrazovou hloubku a mimořádnou interpretační souhru. \nProgram :  \nJoseph Haydn – Klavírní trio G dur č. 39 „All Ongarese“ Andante Poco adagio Finale. Rondo all’Ongarese Jan Dušek – premiéra – Trio věnováno Smetanovu triu Bohuslav Martinů – Klavírní trio d moll H. 327 Allegro Andante Allegro  \nohn – Bartholdy – Klavírní trio c moll\, č. 2 op. 66 Allegro energico e con fuoco Andante espressivo Scherzo: Molto allegro quasi presto Finale: Allegro appassionato \nPředprodej vstupenek na www.kcct.cz\, v Městském muzeu (Klácelova 11)\, v kanceláři Kulturního centra (Nádražní 397) a 1 hodinu před začátkem u pokladny. \n\nTento tip na kulturní akci v Česká Třebová najdete v přehledu na nasejiznimorava.cz kde na jednom místě shromažďujeme desítky dalších koncertů\, festivalů\, divadelních představení i komunitních událostí z celého regionu i z celé ČR. Přehled je přehledně řazený\, pravidelně aktualizovaný a umožní vám rychle najít přesně to\, co vás zajímá – od velkých open-air akcí až po menší lokální programy. Každý si tak snadno vybere podle svého vkusu i času. Pokud vás některá akce zaujme\, nezapomeňte si včas zajistit vstupenky; stačí kliknout na detail události a budete bezpečně přesměrováni na oficiálního prodejce vstupenek..
URL:https://nasejiznimorava.cz/event/smetanovo-trio-a-anna-paulova/
LOCATION:Kulturní centrum\, Česká Třebová\, Kulturní centrum\, Česká Třebová\, Česká republika
CATEGORIES:Koncert
ATTACH;FMTTYPE=image/jpeg:https://nasejiznimorava.cz/wp-content/uploads/2026/04/320-ac6a63a6182b4bc5a61dfd33285f7fe8.jpg
END:VEVENT
BEGIN:VEVENT
DTSTART;TZID=Europe/Prague:20260423T190000
DTEND;TZID=Europe/Prague:20260423T220000
DTSTAMP:20260419T163213
CREATED:20251129T063247Z
LAST-MODIFIED:20251129T063248Z
UID:39364-1776970800-1776981600@nasejiznimorava.cz
SUMMARY:Filmová hudba Hanse Zimmera při svíčkách
DESCRIPTION:Filmová hudba Hanse Zimmera při svíčkách se uskuteční dne 2026-04-23 v 19:00 v Hradec Králové\, Petrof Gallery. \n🎟️ Koupit vstupenku \n\nKoncert filmové hudby Hanse Zimmera při svíčkách! \nNenechte si ujít nezapomenutelný večer plný nejkrásnější filmové hudby\, během kterého zazní melodie jednoho z nejvýznamnějších skladatelů filmové hudby na světě\, Hanse Zimmera\, v podání mezinárodně uznávaného pianisty Alexandra Starého. Záře stovek svíček vytvoří nezapomenutelnou atmosféru koncertu. \nHans Zimmer je známý svou emocionální a dojemnou filmovou hudbou\, která dokonale podtrhuje děj na plátně. Během své téměř čtyřicetileté kariéry vytvořil ikonické soundtracky k mnoha slavným filmům\, jako jsou Gladiátor\, Počátek\, Interstellar\, Piráti z Karibiku\, Lví král a mnoho dalších. Jeho kompozice si získaly srdce milionů fanoušků po celém světě a jeho koncerty vyprodávají nejprestižnější koncertní sály. \nTento výjimečný koncert nabízí mnohem více než jen hudbu. Stovky mihotajících se svíček rozzáří celý prostor a vytvoří tajemnou a magickou atmosféru. Každá z nich přispěje k vytvoření nezapomenutelného hudebního zážitku. \nV rámci Evropské tour alternují také: František Panáček a Lucie Kubátová.  \nAkce je přístupná od 12 let. Každý účastník musí předložit platnou vstupenku  zakoupenou výhradně v síti smsticket. \n\nTento tip na kulturní akci v Hradec Králové najdete v přehledu na nasejiznimorava.cz kde na jednom místě shromažďujeme desítky dalších koncertů\, festivalů\, divadelních představení i komunitních událostí z celého regionu i z celé ČR. Přehled je přehledně řazený\, pravidelně aktualizovaný a umožní vám rychle najít přesně to\, co vás zajímá – od velkých open-air akcí až po menší lokální programy. Každý si tak snadno vybere podle svého vkusu i času. Pokud vás některá akce zaujme\, nezapomeňte si včas zajistit vstupenky; stačí kliknout na detail události a budete bezpečně přesměrováni na oficiálního prodejce vstupenek..
URL:https://nasejiznimorava.cz/event/filmova-hudba-hanse-zimmera-pri-svickach-8/
LOCATION:Petrof Gallery\, Hradec Králové\, Petrof Gallery\, Hradec Králové\, Česká republika
CATEGORIES:Koncert
ATTACH;FMTTYPE=image/jpeg:https://nasejiznimorava.cz/wp-content/uploads/2025/11/320-a4a4fa1e0bdf4b219eabf799e249ef00.jpg
END:VEVENT
BEGIN:VEVENT
DTSTART;TZID=Europe/Prague:20260423T190000
DTEND;TZID=Europe/Prague:20260423T220000
DTSTAMP:20260419T163213
CREATED:20251206T215718Z
LAST-MODIFIED:20251206T215720Z
UID:39748-1776970800-1776981600@nasejiznimorava.cz
SUMMARY:Vysočina sobě - Skvosty romantismu
DESCRIPTION:Vysočina sobě – Skvosty romantismu se uskuteční dne 2026-04-23 v 19:00 v Jihlava\, DKO. \n🎟️ Koupit vstupenku \n\nKoncertní agentura ARS/KONCERT\, spol. s r.o. uvádí: \nKoncert Filharmonie Brno – Brahms\, Dvořák\, Schubert a Liszt. \nProgram: Johannes Brahms (Variace na Haydnovo téma op. 56)\, Antonín Dvořák (Slovanská rapsodie č. 1 D dur op. 45)\, Franz Schubert (Rosamunda\, předehra)\, Ferenc Liszt (Preludia\, symfonická báseň) \nVystupující: Filharmonie Brno \nDirigent: Robert Kružík \nKoncert moderuje: Jaromír Javůrek \n\nTento tip na kulturní akci v Jihlava najdete v přehledu na nasejiznimorava.cz kde na jednom místě shromažďujeme desítky dalších koncertů\, festivalů\, divadelních představení i komunitních událostí z celého regionu i z celé ČR. Přehled je přehledně řazený\, pravidelně aktualizovaný a umožní vám rychle najít přesně to\, co vás zajímá – od velkých open-air akcí až po menší lokální programy. Každý si tak snadno vybere podle svého vkusu i času. Pokud vás některá akce zaujme\, nezapomeňte si včas zajistit vstupenky; stačí kliknout na detail události a budete bezpečně přesměrováni na oficiálního prodejce vstupenek..
URL:https://nasejiznimorava.cz/event/vysocina-sobe-skvosty-romantismu/
LOCATION:DKO\, Jihlava\, DKO\, Jihlava\, Česká republika
CATEGORIES:Koncert
ATTACH;FMTTYPE=image/jpeg:https://nasejiznimorava.cz/wp-content/uploads/2025/12/320-b21299832958448bab1502b954c1db1f.jpg
END:VEVENT
BEGIN:VEVENT
DTSTART;TZID=Europe/Prague:20260424T190000
DTEND;TZID=Europe/Prague:20260424T220000
DTSTAMP:20260419T163213
CREATED:20260111T102030Z
LAST-MODIFIED:20260111T102054Z
UID:41568-1777057200-1777068000@nasejiznimorava.cz
SUMMARY:Hudba Bridgerton při svíčkách
DESCRIPTION:Hudba Bridgerton při svíčkách se uskuteční dne 2026-04-24 v 19:00 v Opava\, kostel sv. Václava. \n🎟️ Koupit vstupenku \n\nNenechte si ujít večer plný romantiky a elegance\, kde zazní ty nejznámější melodie a písně z oblíbeného seriálu Bridgerton. Světlo stovky svíček vytvoří okouzlující atmosféru koncertu. \nProgram v jedinečném provedení smyčcového kvarteta představí výběr hudebních skladeb z tohoto populárního seriálu\, inspirovaných klasickými díly i moderními popovými melodiemi\, které si získaly srdce diváků po celém světě. \nTento koncert nabídne víc než jen hudbu; stovky svíček rozzáří prostor a vytvoří atmosféru plnou noblesy\, romantiky a neodolatelného kouzla historické doby. \nAkce je přístupná od 12 let. Každý účastník musí předložit platnou vstupenku  zakoupenou výhradně v síti smsticket. \n\nTento tip na kulturní akci v Opava najdete v přehledu na nasejiznimorava.cz kde na jednom místě shromažďujeme desítky dalších koncertů\, festivalů\, divadelních představení i komunitních událostí z celého regionu i z celé ČR. Přehled je přehledně řazený\, pravidelně aktualizovaný a umožní vám rychle najít přesně to\, co vás zajímá – od velkých open-air akcí až po menší lokální programy. Každý si tak snadno vybere podle svého vkusu i času. Pokud vás některá akce zaujme\, nezapomeňte si včas zajistit vstupenky; stačí kliknout na detail události a budete bezpečně přesměrováni na oficiálního prodejce vstupenek..
URL:https://nasejiznimorava.cz/event/hudba-bridgerton-pri-svickach-26/
LOCATION:kostel sv. Václava\, Opava\, kostel sv. Václava\, Opava\, Česká republika
CATEGORIES:Koncert
ATTACH;FMTTYPE=image/jpeg:https://nasejiznimorava.cz/wp-content/uploads/2026/01/320-647bcb293440416ea89988e720cd484e.jpg
END:VEVENT
BEGIN:VEVENT
DTSTART;TZID=Europe/Prague:20260428T190000
DTEND;TZID=Europe/Prague:20260428T220000
DTSTAMP:20260419T163213
CREATED:20260107T163758Z
LAST-MODIFIED:20260107T163759Z
UID:41427-1777402800-1777413600@nasejiznimorava.cz
SUMMARY:Hudba Coldplay při svíčkách
DESCRIPTION:Hudba Coldplay při svíčkách se uskuteční dne 2026-04-28 v 19:00 v Kadaň\, KZ Orfeum. \n🎟️ Koupit vstupenku \n\nNenechte si ujít večer plný energie a emocí\, kde zazní ty největší hity britské kapely Coldplay. Světlo stovky svíček vytvoří nezapomenutelnou atmosféru tohoto jedinečného koncertu. \nProgram v podání smyčcového kvarteta nabídne výběr těch nejznámějších skladeb Coldplay\, včetně hitů jako „Fix You“\, „Yellow“ či „Viva La Vida“\, které si získaly srdce fanoušků po celém světě. \nTento koncert přinese víc než jen hudbu; stovky svíček rozzáří prostor a vytvoří atmosféru plnou emocí\, melancholie a nezapomenutelných melodií\, které vás vezmou na hudební cestu s Coldplay. \nAkce je přístupná od 12 let. Každý účastník musí předložit platnou vstupenku  zakoupenou výhradně v síti smsticket. \n\nTento tip na kulturní akci v Kadaň najdete v přehledu na nasejiznimorava.cz kde na jednom místě shromažďujeme desítky dalších koncertů\, festivalů\, divadelních představení i komunitních událostí z celého regionu i z celé ČR. Přehled je přehledně řazený\, pravidelně aktualizovaný a umožní vám rychle najít přesně to\, co vás zajímá – od velkých open-air akcí až po menší lokální programy. Každý si tak snadno vybere podle svého vkusu i času. Pokud vás některá akce zaujme\, nezapomeňte si včas zajistit vstupenky; stačí kliknout na detail události a budete bezpečně přesměrováni na oficiálního prodejce vstupenek..
URL:https://nasejiznimorava.cz/event/hudba-coldplay-pri-svickach-14/
LOCATION:KZ Orfeum\, Kadaň\, KZ Orfeum\, Kadaň\, Česká republika
CATEGORIES:Koncert
ATTACH;FMTTYPE=image/jpeg:https://nasejiznimorava.cz/wp-content/uploads/2026/01/320-d02806e213c942e39e670f57192571ef.jpg
END:VEVENT
BEGIN:VEVENT
DTSTART;TZID=Europe/Prague:20260428T190000
DTEND;TZID=Europe/Prague:20260428T220000
DTSTAMP:20260419T163213
CREATED:20260110T114241Z
LAST-MODIFIED:20260110T114244Z
UID:41496-1777402800-1777413600@nasejiznimorava.cz
SUMMARY:Koncert filmové hudby Hanse Zimmera
DESCRIPTION:Koncert filmové hudby Hanse Zimmera se uskuteční dne 2026-04-28 v 19:00 v Praha\, Divadlo Broadway. \n🎟️ Koupit vstupenku \n\nPřipravte se na jedinečný večer\, který vás zavede do světa nejikoničtější filmové hudby. Divadlo Broadway v Praze přivítá symfonický orchestr Grande Orchestra\, který představí mistrovská díla slavného skladatele Hansa Zimmera v rámci exkluzivního koncertu. \nTento koncert je povinností pro všechny milovníky filmové hudby! Přijďte si užít nezapomenutelný večer plný emocí a hudebních skvostů\, které definovaly moderní kinematografii. \nHans Zimmer je německý hudební skladatel\, který se proslavil díky své práci na filmových soundtrackech. Je známý svou schopností přinést intenzitu a emocionální hloubku do filmového vyprávění prostřednictvím hudby. Mezi jeho nejúspěšnější filmy patří Počátek\, Interstellar\, Duna či Gladiátor\, které získaly srdce publika po celém světě. Zimmerova tvorba mu vynesla řadu ocenění\, včetně dvou oscarů\, tří zlatých glóbů\, čtyř Grammy – celkem 37 ocenění. \nNenechte si ujít tuto jedinečnou příležitost prožít hudbu Hansa Zimmera naživo v podání skvělého orchestru GRANDE ORCHESTRA! Vstupenky jsou již v prodeji. Zajistěte si svá místa a připravte se na hudební zážitek\, který nikdy nezapomenete. \nAkce je přístupná od 12 let. Každý účastník musí předložit platnou vstupenku  zakoupenou výhradně v síti smsticket. \n\nTento tip na kulturní akci v Praha najdete v přehledu na nasejiznimorava.cz kde na jednom místě shromažďujeme desítky dalších koncertů\, festivalů\, divadelních představení i komunitních událostí z celého regionu i z celé ČR. Přehled je přehledně řazený\, pravidelně aktualizovaný a umožní vám rychle najít přesně to\, co vás zajímá – od velkých open-air akcí až po menší lokální programy. Každý si tak snadno vybere podle svého vkusu i času. Pokud vás některá akce zaujme\, nezapomeňte si včas zajistit vstupenky; stačí kliknout na detail události a budete bezpečně přesměrováni na oficiálního prodejce vstupenek..
URL:https://nasejiznimorava.cz/event/koncert-filmove-hudby-hanse-zimmera-4/
LOCATION:Divadlo Broadway\, Praha\, Divadlo Broadway\, Praha\, Česká republika
CATEGORIES:Koncert
ATTACH;FMTTYPE=image/jpeg:https://nasejiznimorava.cz/wp-content/uploads/2026/01/320-32cdd702c3a44599b36ac194256aed43.jpg
END:VEVENT
BEGIN:VEVENT
DTSTART;TZID=Europe/Prague:20260428T190000
DTEND;TZID=Europe/Prague:20260428T220000
DTSTAMP:20260419T163213
CREATED:20260402T185351Z
LAST-MODIFIED:20260402T185358Z
UID:42685-1777402800-1777413600@nasejiznimorava.cz
SUMMARY:Závěrečný koncert – Camerata Janáček s hosty
DESCRIPTION:Závěrečný koncert – Camerata Janáček s hosty se uskuteční dne 2026-04-28 v 19:00 v Česká Třebová\, Kulturní centrum. \n🎟️ Koupit vstupenku \n\nZávěr Bennewitz Festivalu nám přinese večer plný barev\, virtuozity a silných hudebních příběhů v podání Cameraty Janáček a dvou výrazných českých sólistů – violoncellisty Petra Nouzovského a violistky Kristýny Fialové. Koncert otevře Telemannův Koncert G dur TWV 51:G9\, svěží a hravé dílo\, které vyniká lehkostí barokní melodiky i kontrasty mezi poklidnými a živými větami. Následovat budou Variace na rokokové téma op. 33 Petra Iljiče Čajkovského – jedno z nejkrásnějších děl romantického repertoáru pro violoncello. Sólista Petr Nouzovský zde provede posluchače jemně vyzdobeným rokokovým světem. Po přestávce se můžete těšit na jedinečné spojení violy a violoncella v Koncertu e moll op. 88 Maxe Brucha. Tento koncert patří k nejvýraznějším dílům romantické literatury pro toto nástrojové obsazení – hudba je emotivní\, širokodechá\, místy dramatická\, jindy intimní. Dialog mezi manželským duem Kristýnou Fialovou a Petrem Nouzovským slibuje fascinující hudební souhru i působivé komorní momenty. Večer zakončí Suita pro smyčce Leoše Janáčka – mladistvé\, energické a melodicky neobyčejně svěží dílo. Janáčkova hudba zde dýchá radostí\, spontánností a charakteristickou moravskou zpěvností. Je to ideální tečka za festivalem: česká hudba\, upřímná\, osobitá a plná života. \nProgram: \nTelemann – Koncert G-dur TWV 51:G9 Largo Allegro Andante Presto P. I. Čajkovskij – Variace na rokokové téma\, op. 33 \nMax Bruch – Koncert pro violu a violoncello e-moll op.88 Andante con moto Allegro moderato \nPředprodej vstupenek na www.kcct.cz\, v Městském muzeu (Klácelova 11)\, v kanceláři Kulturního centra (Nádražní 397) a 1 hodinu před začátkem u pokladny. \n\nTento tip na kulturní akci v Česká Třebová najdete v přehledu na nasejiznimorava.cz kde na jednom místě shromažďujeme desítky dalších koncertů\, festivalů\, divadelních představení i komunitních událostí z celého regionu i z celé ČR. Přehled je přehledně řazený\, pravidelně aktualizovaný a umožní vám rychle najít přesně to\, co vás zajímá – od velkých open-air akcí až po menší lokální programy. Každý si tak snadno vybere podle svého vkusu i času. Pokud vás některá akce zaujme\, nezapomeňte si včas zajistit vstupenky; stačí kliknout na detail události a budete bezpečně přesměrováni na oficiálního prodejce vstupenek..
URL:https://nasejiznimorava.cz/event/zaverecny-koncert-camerata-janacek-s-hosty/
LOCATION:Kulturní centrum\, Česká Třebová\, Kulturní centrum\, Česká Třebová\, Česká republika
CATEGORIES:Koncert
ATTACH;FMTTYPE=image/jpeg:https://nasejiznimorava.cz/wp-content/uploads/2026/04/320-138a5ccbc4274b048c55ebe797d62fa2.jpg
END:VEVENT
BEGIN:VEVENT
DTSTART;TZID=Europe/Prague:20260429T190000
DTEND;TZID=Europe/Prague:20260429T220000
DTSTAMP:20260419T163213
CREATED:20260110T113654Z
LAST-MODIFIED:20260110T113657Z
UID:41479-1777489200-1777500000@nasejiznimorava.cz
SUMMARY:Hudba Coldplay při svíčkách
DESCRIPTION:Hudba Coldplay při svíčkách se uskuteční dne 2026-04-29 v 19:00 v Jičín\, Masarykovo divadlo. \n🎟️ Koupit vstupenku \n\nNenechte si ujít večer plný energie a emocí\, kde zazní ty největší hity britské kapely Coldplay. Světlo stovky svíček vytvoří nezapomenutelnou atmosféru tohoto jedinečného koncertu. \nProgram v podání smyčcového kvarteta nabídne výběr těch nejznámějších skladeb Coldplay\, včetně hitů jako „Fix You“\, „Yellow“ či „Viva La Vida“\, které si získaly srdce fanoušků po celém světě. \nTento koncert přinese víc než jen hudbu; stovky svíček rozzáří prostor a vytvoří atmosféru plnou emocí\, melancholie a nezapomenutelných melodií\, které vás vezmou na hudební cestu s Coldplay. \nAkce je přístupná od 12 let. Každý účastník musí předložit platnou vstupenku  zakoupenou výhradně v síti smsticket. \n\nTento tip na kulturní akci v Jičín najdete v přehledu na nasejiznimorava.cz kde na jednom místě shromažďujeme desítky dalších koncertů\, festivalů\, divadelních představení i komunitních událostí z celého regionu i z celé ČR. Přehled je přehledně řazený\, pravidelně aktualizovaný a umožní vám rychle najít přesně to\, co vás zajímá – od velkých open-air akcí až po menší lokální programy. Každý si tak snadno vybere podle svého vkusu i času. Pokud vás některá akce zaujme\, nezapomeňte si včas zajistit vstupenky; stačí kliknout na detail události a budete bezpečně přesměrováni na oficiálního prodejce vstupenek..
URL:https://nasejiznimorava.cz/event/hudba-coldplay-pri-svickach-15/
LOCATION:Masarykovo divadlo\, Jičín\, Masarykovo divadlo\, Jičín\, Česká republika
CATEGORIES:Koncert
ATTACH;FMTTYPE=image/jpeg:https://nasejiznimorava.cz/wp-content/uploads/2026/01/320-7a83d34dfa1f451b976a584b512b2a8a.jpg
END:VEVENT
BEGIN:VEVENT
DTSTART;TZID=Europe/Prague:20260429T200000
DTEND;TZID=Europe/Prague:20260429T230000
DTSTAMP:20260419T163213
CREATED:20251111T133631Z
LAST-MODIFIED:20251111T133632Z
UID:37260-1777492800-1777503600@nasejiznimorava.cz
SUMMARY:Souboj Klavírů v Karlových Varech
DESCRIPTION:Souboj Klavírů v Karlových Varech se uskuteční dne 2026-04-29 v 20:00 v Karlovy Vary\, Grandhotel AMBASSADOR Národní Dům. \n🎟️ Koupit vstupenku \n\nZveme vás na jedinečný koncert dvou výjimečných klavíristů a hudebních skladatelů – Ondřeje Brzobohatého a Ondřeje Brouska! Tito celoživotní přátelé spojí své hudební mistrovství na pódiu v Karlových Varech ! Přijďte si užít večer plný virtuózní klavírní hry a nezapomenutelných melodií! \nJak by zněla „Osudová“\, kdyby byl Beethoven optimista? Proč pláčeme při banálním filmovém dialogu? Co je to „nevhodná“ hudba? Že se u klasické hudby nedá pořádně zasmát? Může mít „Souboj klavírů“ vítěze? \nNa tyto otázky vám stylově odpoví duo Brousek – Brzobohatý\, které připravilo nezapomenutelný večer plný hudebních vtipů s dvěma klavíry. \n\nTento tip na kulturní akci v Karlovy Vary najdete v přehledu na nasejiznimorava.cz kde na jednom místě shromažďujeme desítky dalších koncertů\, festivalů\, divadelních představení i komunitních událostí z celého regionu i z celé ČR. Přehled je přehledně řazený\, pravidelně aktualizovaný a umožní vám rychle najít přesně to\, co vás zajímá – od velkých open-air akcí až po menší lokální programy. Každý si tak snadno vybere podle svého vkusu i času. Pokud vás některá akce zaujme\, nezapomeňte si včas zajistit vstupenky; stačí kliknout na detail události a budete bezpečně přesměrováni na oficiálního prodejce vstupenek..
URL:https://nasejiznimorava.cz/event/souboj-klaviru-v-karlovych-varech/
LOCATION:Grandhotel AMBASSADOR Národní Dům\, Karlovy Vary\, Grandhotel AMBASSADOR Národní Dům\, Karlovy Vary\, Česká republika
CATEGORIES:Koncert
ATTACH;FMTTYPE=image/jpeg:https://nasejiznimorava.cz/wp-content/uploads/2025/11/320-0f5d971b5c404954ad9ad10881f54ad8.jpg
END:VEVENT
BEGIN:VEVENT
DTSTART;TZID=Europe/Prague:20260430T190000
DTEND;TZID=Europe/Prague:20260430T220000
DTSTAMP:20260419T163213
CREATED:20260130T154537Z
LAST-MODIFIED:20260130T154539Z
UID:42005-1777575600-1777586400@nasejiznimorava.cz
SUMMARY:Ludovico Einaudi Music | Slavkov
DESCRIPTION:Ludovico Einaudi Music | Slavkov se uskuteční dne 2026-04-30 v 19:00 v Slavkov u Brna\, Zámek Slavkov – historický sál. \n🎟️ Koupit vstupenku \n\nNenechte si ujít nezapomenutelný večer krásné hudby\, kde zazní melodie jednoho z nejlepších pianistů a skladatelů na světe\, Ludovica Einaudiho v podání předního českého klavíristy Tomáše Vrány. \nEinaudi je známý svými jednoduchými\, ale strašidelně krásnými minimalistickými díly pro klavír a ohromující filmovou hudbou. Za téměř třicet let své činnosti vydal řadu alb\, která se dostala na přední příčky poslechovosti\, vyprodává nejprestižnější koncertní sály po celém světě a jeho hudba zazněla v mnoha slavných filmech (Nedotknutelní\, Doktor Živago\, To je Anglie\, Nomadland a další). \nTento jedinečný koncert nabídne více než jen hudbu. Symfonie třpytivých svíček rozsvítí celý prostor a přidá na mystičnu a kouzlu večera. Každá svíčka přispěje k vytvoření kouzelného prostředí\, které dokonale doplní hudební zážitek. \nV rámci Evropské tour alternují také: Alexandr Starý a Lucie Kubátová.  \nAkce je přístupná od 12 let. Každý účastník musí předložit platnou vstupenku  zakoupenou výhradně v síti smsticket. \n\nTento tip na kulturní akci v Slavkov u Brna najdete v přehledu na nasejiznimorava.cz kde na jednom místě shromažďujeme desítky dalších koncertů\, festivalů\, divadelních představení i komunitních událostí z celého regionu i z celé ČR. Přehled je přehledně řazený\, pravidelně aktualizovaný a umožní vám rychle najít přesně to\, co vás zajímá – od velkých open-air akcí až po menší lokální programy. Každý si tak snadno vybere podle svého vkusu i času. Pokud vás některá akce zaujme\, nezapomeňte si včas zajistit vstupenky; stačí kliknout na detail události a budete bezpečně přesměrováni na oficiálního prodejce vstupenek..
URL:https://nasejiznimorava.cz/event/ludovico-einaudi-music-slavkov/
LOCATION:Zámek Slavkov – historický sál\, Slavkov u Brna\, Zámek Slavkov - historický sál\, Slavkov u Brna\, Česká republika
CATEGORIES:Koncert
ATTACH;FMTTYPE=image/jpeg:https://nasejiznimorava.cz/wp-content/uploads/2026/01/320-0d0ffade6f4f4967bcae246fb3fb1b25.jpg
END:VEVENT
END:VCALENDAR