BEGIN:VCALENDAR
VERSION:2.0
PRODID:-// „Objev místa, kde se dobře pije, krásně spí a skvěle žije“  - ECPv6.15.20//NONSGML v1.0//EN
CALSCALE:GREGORIAN
METHOD:PUBLISH
X-WR-CALNAME: „Objev místa, kde se dobře pije, krásně spí a skvěle žije“ 
X-ORIGINAL-URL:https://nasejiznimorava.cz
X-WR-CALDESC:Akce na  „Objev místa, kde se dobře pije, krásně spí a skvěle žije“ 
REFRESH-INTERVAL;VALUE=DURATION:PT1H
X-Robots-Tag:noindex
X-PUBLISHED-TTL:PT1H
BEGIN:VTIMEZONE
TZID:Europe/Prague
BEGIN:DAYLIGHT
TZOFFSETFROM:+0100
TZOFFSETTO:+0200
TZNAME:CEST
DTSTART:20250330T010000
END:DAYLIGHT
BEGIN:STANDARD
TZOFFSETFROM:+0200
TZOFFSETTO:+0100
TZNAME:CET
DTSTART:20251026T010000
END:STANDARD
BEGIN:DAYLIGHT
TZOFFSETFROM:+0100
TZOFFSETTO:+0200
TZNAME:CEST
DTSTART:20260329T010000
END:DAYLIGHT
BEGIN:STANDARD
TZOFFSETFROM:+0200
TZOFFSETTO:+0100
TZNAME:CET
DTSTART:20261025T010000
END:STANDARD
BEGIN:DAYLIGHT
TZOFFSETFROM:+0100
TZOFFSETTO:+0200
TZNAME:CEST
DTSTART:20270328T010000
END:DAYLIGHT
BEGIN:STANDARD
TZOFFSETFROM:+0200
TZOFFSETTO:+0100
TZNAME:CET
DTSTART:20271031T010000
END:STANDARD
END:VTIMEZONE
BEGIN:VEVENT
DTSTART;TZID=Europe/Prague:20260420T190000
DTEND;TZID=Europe/Prague:20260420T220000
DTSTAMP:20260419T222347
CREATED:20251113T092026Z
LAST-MODIFIED:20251113T092027Z
UID:39148-1776711600-1776722400@nasejiznimorava.cz
SUMMARY:Martin Hranáč - CRAZY SHOW - Jihlava
DESCRIPTION:Martin Hranáč – CRAZY SHOW – Jihlava se uskuteční dne 2026-04-20 v 19:00 v Jihlava\, DKO. \n🎟️ Koupit vstupenku \n\nChcete vstoupit do světa humoru a improvizace? Tak je CRAZY SHOW právě pro VÁS! Připravte se na nezapomenutelný večer plný smíchu s Martinem Hranáčem – komikem\, hercem\, číšníkem a optimistou\, který svým jedinečným smyslem pro humor baví lidi na sociálních sítích. Martinův příběh číšníka a jeho každodenní zážitky z gastronomie se stávají zábavným vyprávěním\, které osloví naprosto všechny. \nKaždé vystoupení je unikátní a plné improvizace\, protože Martin miluje improvizaci a scénáře mění v průběhu večera\, což občas vykolejí jeho sestru Štěpánku Šmídovou\, která mu dělá skvělou společnost během celé show. Všechny scénky a historky vychází z Martinových zkušeností a zážitků\, jak profesního\, tak soukromého života. Jeho humor je nekorektní\, sebeironický a nebojí se jít na hranu – právě to dělá jeho show nezapomenutelnou! \nNenechte si ujít tento jedinečný zážitek! Vstupenky v prodeji! \nPořad není vhodný mladším 15 let! \n\nTento tip na kulturní akci v Jihlava najdete v přehledu na nasejiznimorava.cz kde na jednom místě shromažďujeme desítky dalších koncertů\, festivalů\, divadelních představení i komunitních událostí z celého regionu i z celé ČR. Přehled je přehledně řazený\, pravidelně aktualizovaný a umožní vám rychle najít přesně to\, co vás zajímá – od velkých open-air akcí až po menší lokální programy. Každý si tak snadno vybere podle svého vkusu i času. Pokud vás některá akce zaujme\, nezapomeňte si včas zajistit vstupenky; stačí kliknout na detail události a budete bezpečně přesměrováni na oficiálního prodejce vstupenek..
URL:https://nasejiznimorava.cz/event/martin-hranac-crazy-show-jihlava-2/
LOCATION:DKO\, Jihlava\, DKO\, Jihlava\, Česká republika
CATEGORIES:Zábava
ATTACH;FMTTYPE=image/jpeg:https://nasejiznimorava.cz/wp-content/uploads/2025/11/320-ef455d7e53894feda79eee53b363f496.jpg
END:VEVENT
BEGIN:VEVENT
DTSTART;TZID=Europe/Prague:20260423T190000
DTEND;TZID=Europe/Prague:20260423T220000
DTSTAMP:20260419T222347
CREATED:20251206T215718Z
LAST-MODIFIED:20251206T215720Z
UID:39748-1776970800-1776981600@nasejiznimorava.cz
SUMMARY:Vysočina sobě - Skvosty romantismu
DESCRIPTION:Vysočina sobě – Skvosty romantismu se uskuteční dne 2026-04-23 v 19:00 v Jihlava\, DKO. \n🎟️ Koupit vstupenku \n\nKoncertní agentura ARS/KONCERT\, spol. s r.o. uvádí: \nKoncert Filharmonie Brno – Brahms\, Dvořák\, Schubert a Liszt. \nProgram: Johannes Brahms (Variace na Haydnovo téma op. 56)\, Antonín Dvořák (Slovanská rapsodie č. 1 D dur op. 45)\, Franz Schubert (Rosamunda\, předehra)\, Ferenc Liszt (Preludia\, symfonická báseň) \nVystupující: Filharmonie Brno \nDirigent: Robert Kružík \nKoncert moderuje: Jaromír Javůrek \n\nTento tip na kulturní akci v Jihlava najdete v přehledu na nasejiznimorava.cz kde na jednom místě shromažďujeme desítky dalších koncertů\, festivalů\, divadelních představení i komunitních událostí z celého regionu i z celé ČR. Přehled je přehledně řazený\, pravidelně aktualizovaný a umožní vám rychle najít přesně to\, co vás zajímá – od velkých open-air akcí až po menší lokální programy. Každý si tak snadno vybere podle svého vkusu i času. Pokud vás některá akce zaujme\, nezapomeňte si včas zajistit vstupenky; stačí kliknout na detail události a budete bezpečně přesměrováni na oficiálního prodejce vstupenek..
URL:https://nasejiznimorava.cz/event/vysocina-sobe-skvosty-romantismu/
LOCATION:DKO\, Jihlava\, DKO\, Jihlava\, Česká republika
CATEGORIES:Koncert
ATTACH;FMTTYPE=image/jpeg:https://nasejiznimorava.cz/wp-content/uploads/2025/12/320-b21299832958448bab1502b954c1db1f.jpg
END:VEVENT
BEGIN:VEVENT
DTSTART;TZID=Europe/Prague:20260424T190000
DTEND;TZID=Europe/Prague:20260424T220000
DTSTAMP:20260419T222347
CREATED:20251111T133630Z
LAST-MODIFIED:20251111T133631Z
UID:37257-1777057200-1777068000@nasejiznimorava.cz
SUMMARY:Václav Noid Bárta a Bek Bek Clan
DESCRIPTION:Václav Noid Bárta a Bek Bek Clan se uskuteční dne 2026-04-24 v 19:00 v Jihlava\, DKO. \n🎟️ Koupit vstupenku \n\nVáclav NOID Bárta v Jihlavě! \nOd prvních kroků s kapelami Dolores Clan\, Noid Crew a Dymytry\, přes divadelní svět muzikálů až po jeho současnou sólovou tvorbu. Přijďte si projít dvacetiletou hudební cestu Václava NOIDA Bárty – charizmatického zpěváka\, autora filmové hudby a jedinečného hlasu české hudební scény. \nNa co se můžete těšit?Během večera zazní jak jeho autorské skladby\, tak i oblíbené převzaté songy\, které skvěle doplní energii a atmosféru celého koncertu. Tento výjimečný večer přinese nálož skvělé muziky\, pohody a neuvěřitelné energie\, která vás strhne! \nZažijte hudební show\, na kterou se nezapomíná! \n\nTento tip na kulturní akci v Jihlava najdete v přehledu na nasejiznimorava.cz kde na jednom místě shromažďujeme desítky dalších koncertů\, festivalů\, divadelních představení i komunitních událostí z celého regionu i z celé ČR. Přehled je přehledně řazený\, pravidelně aktualizovaný a umožní vám rychle najít přesně to\, co vás zajímá – od velkých open-air akcí až po menší lokální programy. Každý si tak snadno vybere podle svého vkusu i času. Pokud vás některá akce zaujme\, nezapomeňte si včas zajistit vstupenky; stačí kliknout na detail události a budete bezpečně přesměrováni na oficiálního prodejce vstupenek..
URL:https://nasejiznimorava.cz/event/vaclav-noid-barta-a-bek-bek-clan-9/
LOCATION:DKO\, Jihlava\, DKO\, Jihlava\, Česká republika
CATEGORIES:Koncert
ATTACH;FMTTYPE=image/jpeg:https://nasejiznimorava.cz/wp-content/uploads/2025/11/320-50d68eb1cd6d4b4da92dc53f3646ce86.jpg
END:VEVENT
BEGIN:VEVENT
DTSTART;TZID=Europe/Prague:20260521T190000
DTEND;TZID=Europe/Prague:20260521T220000
DTSTAMP:20260419T222347
CREATED:20251211T053815Z
LAST-MODIFIED:20251211T053822Z
UID:39757-1779390000-1779400800@nasejiznimorava.cz
SUMMARY:Vysočina sobě - Z Prahy až do New Yorku
DESCRIPTION:Vysočina sobě – Z Prahy až do New Yorku se uskuteční dne 2026-05-21 v 19:00 v Jihlava\, DKO. \n🎟️ Koupit vstupenku \n\nKoncertní agentura ARS/KONCERT\, spol. s r.o. uvádí: \nKoncert Symfonického orchestru Českého rozhlasu – Mozart\, Dvořák. \nProgram: W. A. Mozart (Symfonie č. 38 D dur KV 504 „Pražská“)\, Antonín Dvořák (Symfonie č. 9 e moll op. 95 „Z Nového světa“) \nVystupující: Symfonický orchestr Českého rozhlasu \nDirigentka: Alena Hron \nKoncert moderuje: Jaromír Javůrek \n\nTento tip na kulturní akci v Jihlava najdete v přehledu na nasejiznimorava.cz kde na jednom místě shromažďujeme desítky dalších koncertů\, festivalů\, divadelních představení i komunitních událostí z celého regionu i z celé ČR. Přehled je přehledně řazený\, pravidelně aktualizovaný a umožní vám rychle najít přesně to\, co vás zajímá – od velkých open-air akcí až po menší lokální programy. Každý si tak snadno vybere podle svého vkusu i času. Pokud vás některá akce zaujme\, nezapomeňte si včas zajistit vstupenky; stačí kliknout na detail události a budete bezpečně přesměrováni na oficiálního prodejce vstupenek..
URL:https://nasejiznimorava.cz/event/vysocina-sobe-z-prahy-az-do-new-yorku/
LOCATION:DKO\, Jihlava\, DKO\, Jihlava\, Česká republika
CATEGORIES:Koncert
ATTACH;FMTTYPE=image/jpeg:https://nasejiznimorava.cz/wp-content/uploads/2025/12/320-29adb323e0fc438ca9925032ea8a6063.jpg
END:VEVENT
BEGIN:VEVENT
DTSTART;TZID=Europe/Prague:20260620T120000
DTEND;TZID=Europe/Prague:20260620T150000
DTSTAMP:20260419T222347
CREATED:20260402T183928Z
LAST-MODIFIED:20260402T183930Z
UID:42607-1781956800-1781967600@nasejiznimorava.cz
SUMMARY:Březfest – Hard Open Air Jihlava\, Březinovy Sady
DESCRIPTION:Březfest – Hard Open Air Jihlava\, Březinovy Sady se uskuteční dne 2026-06-20 v 12:00 v Jihlava\, Amfiteátr. \n🎟️ Koupit vstupenku \n\nBřezfest není jen festival – je to komunita\, prostor pro svobodu projevu a scénický zážitek\, kde se hudba propojuje s vizuálním uměním. Atmosféra pod širým nebem\, řinčení nástrojů\, energie publika a extáze z vystoupení tvoří jádro tohoto jedinečného dne. \nNa pódiu se představí legendární XIII Století\, zahraniční hvězdy Induction (DE)\, In Sanity (DE)\, Moyra (PL) a domácí stálice Dark Gamballe. Program doplní další kapely\, které společně vytvoří pestrý mix od gothic rocku po moderní metal. \nČeká vás hudba\, která se neprožívá jen ušima\, ale celým tělem. Festivalová atmosféra s občerstvením\, pivem\, drinky a stánky s merchem. Trh s CD a vinylovými deskami\, doprovodný program a vizuální show. \n\nBřezfest II – zažijte energii\, vášeň a sílu tvrdé hudby v srdci Vysočiny!\n\n\nTento tip na kulturní akci v Jihlava najdete v přehledu na nasejiznimorava.cz kde na jednom místě shromažďujeme desítky dalších koncertů\, festivalů\, divadelních představení i komunitních událostí z celého regionu i z celé ČR. Přehled je přehledně řazený\, pravidelně aktualizovaný a umožní vám rychle najít přesně to\, co vás zajímá – od velkých open-air akcí až po menší lokální programy. Každý si tak snadno vybere podle svého vkusu i času. Pokud vás některá akce zaujme\, nezapomeňte si včas zajistit vstupenky; stačí kliknout na detail události a budete bezpečně přesměrováni na oficiálního prodejce vstupenek..
URL:https://nasejiznimorava.cz/event/brezfest-hard-open-air-jihlava-brezinovy-sady/
LOCATION:Amfiteátr\, Jihlava\, Amfiteátr\, Jihlava\, Česká republika
CATEGORIES:Festival
ATTACH;FMTTYPE=image/jpeg:https://nasejiznimorava.cz/wp-content/uploads/2026/04/320-310acc7212c5440f90c3a1756cae4881.jpg
END:VEVENT
END:VCALENDAR