BEGIN:VCALENDAR
VERSION:2.0
PRODID:-// „Objev místa, kde se dobře pije, krásně spí a skvěle žije“  - ECPv6.15.20//NONSGML v1.0//EN
CALSCALE:GREGORIAN
METHOD:PUBLISH
X-WR-CALNAME: „Objev místa, kde se dobře pije, krásně spí a skvěle žije“ 
X-ORIGINAL-URL:https://nasejiznimorava.cz
X-WR-CALDESC:Akce na  „Objev místa, kde se dobře pije, krásně spí a skvěle žije“ 
REFRESH-INTERVAL;VALUE=DURATION:PT1H
X-Robots-Tag:noindex
X-PUBLISHED-TTL:PT1H
BEGIN:VTIMEZONE
TZID:Europe/Prague
BEGIN:DAYLIGHT
TZOFFSETFROM:+0100
TZOFFSETTO:+0200
TZNAME:CEST
DTSTART:20250330T010000
END:DAYLIGHT
BEGIN:STANDARD
TZOFFSETFROM:+0200
TZOFFSETTO:+0100
TZNAME:CET
DTSTART:20251026T010000
END:STANDARD
BEGIN:DAYLIGHT
TZOFFSETFROM:+0100
TZOFFSETTO:+0200
TZNAME:CEST
DTSTART:20260329T010000
END:DAYLIGHT
BEGIN:STANDARD
TZOFFSETFROM:+0200
TZOFFSETTO:+0100
TZNAME:CET
DTSTART:20261025T010000
END:STANDARD
BEGIN:DAYLIGHT
TZOFFSETFROM:+0100
TZOFFSETTO:+0200
TZNAME:CEST
DTSTART:20270328T010000
END:DAYLIGHT
BEGIN:STANDARD
TZOFFSETFROM:+0200
TZOFFSETTO:+0100
TZNAME:CET
DTSTART:20271031T010000
END:STANDARD
END:VTIMEZONE
BEGIN:VEVENT
DTSTART;TZID=Europe/Prague:20260304T190000
DTEND;TZID=Europe/Prague:20260304T220000
DTSTAMP:20260421T140158
CREATED:20251215T115059Z
LAST-MODIFIED:20251215T115059Z
UID:40528-1772650800-1772661600@nasejiznimorava.cz
SUMMARY:Hudba Bridgerton při svíčkách
DESCRIPTION:Hudba Bridgerton při svíčkách se uskuteční dne 2026-03-04 v 19:00 v Liberec\, Kulturní centrum VRATISLAVICE 101010. \n🎟️ Koupit vstupenku \n\nNenechte si ujít večer plný romantiky a elegance\, kde zazní ty nejznámější melodie a písně z oblíbeného seriálu Bridgerton. Světlo stovky svíček vytvoří okouzlující atmosféru koncertu. \nProgram v jedinečném provedení smyčcového kvarteta představí výběr hudebních skladeb z tohoto populárního seriálu\, inspirovaných klasickými díly i moderními popovými melodiemi\, které si získaly srdce diváků po celém světě. \nTento koncert nabídne víc než jen hudbu; stovky svíček rozzáří prostor a vytvoří atmosféru plnou noblesy\, romantiky a neodolatelného kouzla historické doby. \nAkce je přístupná od 12 let. Každý účastník musí předložit platnou vstupenku  zakoupenou výhradně v síti smsticket. \n\nTento tip na kulturní akci v Liberec najdete v přehledu na nasejiznimorava.cz kde na jednom místě shromažďujeme desítky dalších koncertů\, festivalů\, divadelních představení i komunitních událostí z celého regionu i z celé ČR. Přehled je přehledně řazený\, pravidelně aktualizovaný a umožní vám rychle najít přesně to\, co vás zajímá – od velkých open-air akcí až po menší lokální programy. Každý si tak snadno vybere podle svého vkusu i času. Pokud vás některá akce zaujme\, nezapomeňte si včas zajistit vstupenky; stačí kliknout na detail události a budete bezpečně přesměrováni na oficiálního prodejce vstupenek..
URL:https://nasejiznimorava.cz/event/hudba-bridgerton-pri-svickach-14/
LOCATION:Kulturní centrum VRATISLAVICE 101010\, Liberec\, Kulturní centrum VRATISLAVICE 101010\, Liberec\, Česká republika
CATEGORIES:Koncert
ATTACH;FMTTYPE=image/jpeg:https://nasejiznimorava.cz/wp-content/uploads/2025/12/320-1980934dc1e3497988d393b55264a6d1.jpg
END:VEVENT
BEGIN:VEVENT
DTSTART;TZID=Europe/Prague:20260304T190000
DTEND;TZID=Europe/Prague:20260304T220000
DTSTAMP:20260421T140158
CREATED:20260226T180934Z
LAST-MODIFIED:20260226T180934Z
UID:42290-1772650800-1772661600@nasejiznimorava.cz
SUMMARY:Na Zlatém jezeře v Liberci
DESCRIPTION:Na Zlatém jezeře v Liberci se uskuteční dne 2026-03-04 v 19:00 v Liberec\, Dům Kultury. \n🎟️ Koupit vstupenku \n\nRomantická komedie upřímně dojímá i baví. \nV kouzelném prostředí na březích Zlatého jezera tráví léto starší manželé. Věčně brblající\, nepraktický a naschvál i doopravdy zapomínající profesor v penzi Normen a jeho chápající žena Ethel\, starající se o muže i domácnost s neutuchajícím půvabem a noblesou. Příjezd dcery Chelseay s partnerem a jeho tvrdohlavým synkem Billym pomůže Normenovi vystoupit náhle z letargie a všechny zaskočí svým příkladem: Vždycky je čas za život\, i ten nejobyčejnější\, začít se znovu prát. \nHrají:Simona StašováLadislav Frej / Jan VlasákJaromír Nosek / Karel Zima / Radim KalvodaVasil Fridrich / Jan Teplý ml.Marika ProcházkováJakub Jan Černý / Filip Antonio / Michal Pazderka / Kryštof Zapletal / Jan Dlouhý / Jiří Dlouhý \nPříběh s ojedinělou partiturou pro herecké výkony zákonitě  nemohl uniknout rovněž pozornosti filmařů. Světovou popularitu předlohy ve filmu režiséra Marka Rydella NA ZLATÉM JEZEŘE (On Golden Ponds)\, který byl natočen v roce 1981\, umocnily výkony Henryho Fondy (Norman Thayer) a Katherine Hepburnové (Ethel Thayerová)\, odměněné spolu se scénářem OSCARY. Ve filmu hrála i Jane Fondová (Chelsea). \nAutor: Ernest ThompsonRežie: Vladimír StrniskoPřeklad: Kateřina HilskáInscenace Agentury Harlekýn. \n\nTento tip na kulturní akci v Liberec najdete v přehledu na nasejiznimorava.cz kde na jednom místě shromažďujeme desítky dalších koncertů\, festivalů\, divadelních představení i komunitních událostí z celého regionu i z celé ČR. Přehled je přehledně řazený\, pravidelně aktualizovaný a umožní vám rychle najít přesně to\, co vás zajímá – od velkých open-air akcí až po menší lokální programy. Každý si tak snadno vybere podle svého vkusu i času. Pokud vás některá akce zaujme\, nezapomeňte si včas zajistit vstupenky; stačí kliknout na detail události a budete bezpečně přesměrováni na oficiálního prodejce vstupenek..
URL:https://nasejiznimorava.cz/event/na-zlatem-jezere-v-liberci/
LOCATION:Dům Kultury\, Liberec\, Dům Kultury\, Liberec\, Česká republika
CATEGORIES:Divadlo
ATTACH;FMTTYPE=image/jpeg:https://nasejiznimorava.cz/wp-content/uploads/2026/02/320-c319d91d3dec40b7938f8aeaf4552bf3.jpg
END:VEVENT
BEGIN:VEVENT
DTSTART;TZID=Europe/Prague:20260310T190000
DTEND;TZID=Europe/Prague:20260310T220000
DTSTAMP:20260421T140158
CREATED:20251206T081122Z
LAST-MODIFIED:20251206T081126Z
UID:39695-1773169200-1773180000@nasejiznimorava.cz
SUMMARY:Kecy & Politika – živě!
DESCRIPTION:Kecy & Politika – živě! se uskuteční dne 2026-03-10 v 19:00 v Liberec\, Club Warehouse. \n🎟️ Koupit vstupenku \n\nKecy & Politika – živě! \nPřijďte si užít večer plný otevřené debaty\, nadhledu a humoru o tom\, co hýbe českou politikou i společností. \nNa pódiu vás čekají autoři populárního podcastu Bohumil Pečinka a Petros Michopulos\, kteří se nebojí říct věci na rovinu – s nadsázkou\, vtipem i špetkou sarkasmu. \nPřijďte diskutovat\, smát se a podívat se na politiku trochu jinýma očima. \n\nTento tip na kulturní akci v Liberec najdete v přehledu na nasejiznimorava.cz kde na jednom místě shromažďujeme desítky dalších koncertů\, festivalů\, divadelních představení i komunitních událostí z celého regionu i z celé ČR. Přehled je přehledně řazený\, pravidelně aktualizovaný a umožní vám rychle najít přesně to\, co vás zajímá – od velkých open-air akcí až po menší lokální programy. Každý si tak snadno vybere podle svého vkusu i času. Pokud vás některá akce zaujme\, nezapomeňte si včas zajistit vstupenky; stačí kliknout na detail události a budete bezpečně přesměrováni na oficiálního prodejce vstupenek..
URL:https://nasejiznimorava.cz/event/kecy-politika-zive/
LOCATION:Club Warehouse\, Liberec\, Club Warehouse\, Liberec\, Česká republika
CATEGORIES:Zábava
ATTACH;FMTTYPE=image/jpeg:https://nasejiznimorava.cz/wp-content/uploads/2025/12/320-55d9a945d812453b9d8436ed45a9acaa.jpg
END:VEVENT
BEGIN:VEVENT
DTSTART;TZID=Europe/Prague:20260314T190000
DTEND;TZID=Europe/Prague:20260314T220000
DTSTAMP:20260421T140158
CREATED:20251222T194156Z
LAST-MODIFIED:20251222T194156Z
UID:41003-1773514800-1773525600@nasejiznimorava.cz
SUMMARY:Blaze Bayley: Performing Silicon Messiah & Iron Maiden
DESCRIPTION:Blaze Bayley: Performing Silicon Messiah & Iron Maiden se uskuteční dne 2026-03-14 v 19:00 v Liberec\, Bunkr Rock Club. \n🎟️ Koupit vstupenku \n\nJe to už více jak 25 let od debutového alba Silicon Messiah\, kterým Blaze Bayley odstartoval svou skvělou sólovou kariéru po tom\, co byl odejít z Iron Maiden.   \nSilicon Messiah z roku 2000 je velmi kladně hodnocená deska hudebními kritiky\, a ještě více ceněna metalovými fanoušky\, z nichž někteří dodnes album považují vůbec za nejlepší.  \nPojďme si společně užít skladby jako The Lunch\, Ghost In The Machine\, Identity či nepřekonatelnou Stare At The Sun a další. \nJako support se představí kapela Abused & Neglected\, která v minulosti již s Blaze Bayley pódium sdílela. V roce 2026 nahraje své páté album Latex Unisex a v Liberci bude kladen důraz především na materiál z něj. \nU tohoto nesmíš chybět! \n\nTento tip na kulturní akci v Liberec najdete v přehledu na nasejiznimorava.cz kde na jednom místě shromažďujeme desítky dalších koncertů\, festivalů\, divadelních představení i komunitních událostí z celého regionu i z celé ČR. Přehled je přehledně řazený\, pravidelně aktualizovaný a umožní vám rychle najít přesně to\, co vás zajímá – od velkých open-air akcí až po menší lokální programy. Každý si tak snadno vybere podle svého vkusu i času. Pokud vás některá akce zaujme\, nezapomeňte si včas zajistit vstupenky; stačí kliknout na detail události a budete bezpečně přesměrováni na oficiálního prodejce vstupenek..
URL:https://nasejiznimorava.cz/event/blaze-bayley-performing-silicon-messiah-iron-maiden/
LOCATION:Bunkr Rock Club\, Liberec\, Bunkr Rock Club\, Liberec\, Česká republika
CATEGORIES:Koncert
ATTACH;FMTTYPE=image/jpeg:https://nasejiznimorava.cz/wp-content/uploads/2025/12/320-c22a4dbdfbe64a5381e993605e38dd81.jpg
END:VEVENT
END:VCALENDAR