BEGIN:VCALENDAR
VERSION:2.0
PRODID:-// „Objev místa, kde se dobře pije, krásně spí a skvěle žije“  - ECPv6.15.20//NONSGML v1.0//EN
CALSCALE:GREGORIAN
METHOD:PUBLISH
X-ORIGINAL-URL:https://nasejiznimorava.cz
X-WR-CALDESC:Akce na  „Objev místa, kde se dobře pije, krásně spí a skvěle žije“ 
REFRESH-INTERVAL;VALUE=DURATION:PT1H
X-Robots-Tag:noindex
X-PUBLISHED-TTL:PT1H
BEGIN:VTIMEZONE
TZID:Europe/Prague
BEGIN:DAYLIGHT
TZOFFSETFROM:+0100
TZOFFSETTO:+0200
TZNAME:CEST
DTSTART:20250330T010000
END:DAYLIGHT
BEGIN:STANDARD
TZOFFSETFROM:+0200
TZOFFSETTO:+0100
TZNAME:CET
DTSTART:20251026T010000
END:STANDARD
BEGIN:DAYLIGHT
TZOFFSETFROM:+0100
TZOFFSETTO:+0200
TZNAME:CEST
DTSTART:20260329T010000
END:DAYLIGHT
BEGIN:STANDARD
TZOFFSETFROM:+0200
TZOFFSETTO:+0100
TZNAME:CET
DTSTART:20261025T010000
END:STANDARD
BEGIN:DAYLIGHT
TZOFFSETFROM:+0100
TZOFFSETTO:+0200
TZNAME:CEST
DTSTART:20270328T010000
END:DAYLIGHT
BEGIN:STANDARD
TZOFFSETFROM:+0200
TZOFFSETTO:+0100
TZNAME:CET
DTSTART:20271031T010000
END:STANDARD
END:VTIMEZONE
BEGIN:VEVENT
DTSTART;TZID=Europe/Prague:20260417T190000
DTEND;TZID=Europe/Prague:20260417T220000
DTSTAMP:20260421T140734
CREATED:20260107T165020Z
LAST-MODIFIED:20260107T165020Z
UID:41447-1776452400-1776463200@nasejiznimorava.cz
SUMMARY:LUNETIC & HOLKI v Liberci!
DESCRIPTION:LUNETIC & HOLKI v Liberci! se uskuteční dne 2026-04-17 v 19:00 v Liberec\, Dům Kultury. \n🎟️ Koupit vstupenku \n\nLUNETIC & HOLKI – legendární 90’s show v Liberci! \nPřijď si užít nezapomenutý večer plný hitů\, emocí a nostalgie!Dvě ikony české popové scény – Lunetic a Holki – společně na jednom pódiu!Zazní všechny slavné písně\, které znáš zpaměti: Ať je hudba tvůj lék\, Máma\, Křídla motýlí\, Pro tebe\, Už mi nevolej a mnoho dalších. \nJeden večer\, dvě legendy\, stovky fanoušků a atmosféra\, kterou musíš zažít naživo! \nPátek 17. dubna 2026Dům kultury\, LiberecZačátek v 19:00 \n\nTento tip na kulturní akci v Liberec najdete v přehledu na nasejiznimorava.cz kde na jednom místě shromažďujeme desítky dalších koncertů\, festivalů\, divadelních představení i komunitních událostí z celého regionu i z celé ČR. Přehled je přehledně řazený\, pravidelně aktualizovaný a umožní vám rychle najít přesně to\, co vás zajímá – od velkých open-air akcí až po menší lokální programy. Každý si tak snadno vybere podle svého vkusu i času. Pokud vás některá akce zaujme\, nezapomeňte si včas zajistit vstupenky; stačí kliknout na detail události a budete bezpečně přesměrováni na oficiálního prodejce vstupenek..
URL:https://nasejiznimorava.cz/event/lunetic-holki-v-liberci/
LOCATION:Dům Kultury\, Liberec\, Dům Kultury\, Liberec\, Česká republika
CATEGORIES:Koncert
ATTACH;FMTTYPE=image/jpeg:https://nasejiznimorava.cz/wp-content/uploads/2026/01/320-b4cb0bf654744aaaadf2377b1ff69ba2.jpg
END:VEVENT
END:VCALENDAR