BEGIN:VCALENDAR
VERSION:2.0
PRODID:-// „Objev místa, kde se dobře pije, krásně spí a skvěle žije“  - ECPv6.15.20//NONSGML v1.0//EN
CALSCALE:GREGORIAN
METHOD:PUBLISH
X-ORIGINAL-URL:https://nasejiznimorava.cz
X-WR-CALDESC:Akce na  „Objev místa, kde se dobře pije, krásně spí a skvěle žije“ 
REFRESH-INTERVAL;VALUE=DURATION:PT1H
X-Robots-Tag:noindex
X-PUBLISHED-TTL:PT1H
BEGIN:VTIMEZONE
TZID:Europe/Prague
BEGIN:DAYLIGHT
TZOFFSETFROM:+0100
TZOFFSETTO:+0200
TZNAME:CEST
DTSTART:20250330T010000
END:DAYLIGHT
BEGIN:STANDARD
TZOFFSETFROM:+0200
TZOFFSETTO:+0100
TZNAME:CET
DTSTART:20251026T010000
END:STANDARD
BEGIN:DAYLIGHT
TZOFFSETFROM:+0100
TZOFFSETTO:+0200
TZNAME:CEST
DTSTART:20260329T010000
END:DAYLIGHT
BEGIN:STANDARD
TZOFFSETFROM:+0200
TZOFFSETTO:+0100
TZNAME:CET
DTSTART:20261025T010000
END:STANDARD
BEGIN:DAYLIGHT
TZOFFSETFROM:+0100
TZOFFSETTO:+0200
TZNAME:CEST
DTSTART:20270328T010000
END:DAYLIGHT
BEGIN:STANDARD
TZOFFSETFROM:+0200
TZOFFSETTO:+0100
TZNAME:CET
DTSTART:20271031T010000
END:STANDARD
END:VTIMEZONE
BEGIN:VEVENT
DTSTART;TZID=Europe/Prague:20260620T160000
DTEND;TZID=Europe/Prague:20260620T190000
DTSTAMP:20260421T112913
CREATED:20260111T101913Z
LAST-MODIFIED:20260111T101946Z
UID:41549-1781971200-1781982000@nasejiznimorava.cz
SUMMARY:Heřmaňák Fest
DESCRIPTION:Heřmaňák Fest  se uskuteční dne 2026-06-20 v 16:00 v Velké Meziříčí\, Dolní Heřmanice. \n🎟️ Koupit vstupenku \n\nHeřmaňákfest je menší rockový open air festival\, pořádaný partou dobrovolníků v  samém srdci Vysočiny. Za sebou máme již dva ročníky a na každém z nich se představily čtyři rockové kapely. \nPřípravy na letošní ročník jsou již v plném proudu. Představí se vám kapely jako Jacker’s\, Černá\, Gate Crasher a Doga.  \nFestival je určený pro všechny věkové kategorie a příznivce rockové hudby. \n\nTento tip na kulturní akci v Velké Meziříčí najdete v přehledu na nasejiznimorava.cz kde na jednom místě shromažďujeme desítky dalších koncertů\, festivalů\, divadelních představení i komunitních událostí z celého regionu i z celé ČR. Přehled je přehledně řazený\, pravidelně aktualizovaný a umožní vám rychle najít přesně to\, co vás zajímá – od velkých open-air akcí až po menší lokální programy. Každý si tak snadno vybere podle svého vkusu i času. Pokud vás některá akce zaujme\, nezapomeňte si včas zajistit vstupenky; stačí kliknout na detail události a budete bezpečně přesměrováni na oficiálního prodejce vstupenek..
URL:https://nasejiznimorava.cz/event/hermanak-fest/
LOCATION:Dolní Heřmanice\, Velké Meziříčí\, Dolní Heřmanice\, Velké Meziříčí\, Česká republika
CATEGORIES:Festival
ATTACH;FMTTYPE=image/jpeg:https://nasejiznimorava.cz/wp-content/uploads/2026/01/320-9dd66d62a9e546c981989a2c42060028.jpg
END:VEVENT
BEGIN:VEVENT
DTSTART;TZID=Europe/Prague:20260704T130000
DTEND;TZID=Europe/Prague:20260704T160000
DTSTAMP:20260421T112913
CREATED:20251129T075051Z
LAST-MODIFIED:20251129T075054Z
UID:39490-1783170000-1783180800@nasejiznimorava.cz
SUMMARY:Krak'n'roll Abused Monkey Fest
DESCRIPTION:Krak’n’roll Abused Monkey Fest  se uskuteční dne 2026-07-04 v 13:00 v Praha\, MusicClub Modrá Vopice. \n🎟️ Koupit vstupenku \n\n4.7.2026 proběhne vůbec první ročník festivalu Krak’n’roll Abused Monkey Fest\, na kterém spojí síly pět kapel české scény! \nHlavní hvězdou festivalu nebude nikdo jiný než stálice české scény kapela Forrest Jump s nekomromisní energií a emocemi! \nDále se můžete těšit na dravou kombinaci moderního metalu v podobě Abused & Neglected\,  stylově pestré a neotřelé Kervežekson\, intenzivní Cruel Company či progresive metalocorové Halo Of The Sun. \nCelá akce se uskuteční ve venkovním areálu Modré Vopice. \nDatum 4.7.2026 si zapiš do kalendáře a nenech si tuhle metalovu párty ujít!   \nPrvní vlna vstupenek: 320\,- \nDruhá vlna vstupenek: 400\,- \nVstupné na místě: 450\,- \n\nTento tip na kulturní akci v Praha najdete v přehledu na nasejiznimorava.cz kde na jednom místě shromažďujeme desítky dalších koncertů\, festivalů\, divadelních představení i komunitních událostí z celého regionu i z celé ČR. Přehled je přehledně řazený\, pravidelně aktualizovaný a umožní vám rychle najít přesně to\, co vás zajímá – od velkých open-air akcí až po menší lokální programy. Každý si tak snadno vybere podle svého vkusu i času. Pokud vás některá akce zaujme\, nezapomeňte si včas zajistit vstupenky; stačí kliknout na detail události a budete bezpečně přesměrováni na oficiálního prodejce vstupenek..
URL:https://nasejiznimorava.cz/event/kraknroll-abused-monkey-fest-2/
LOCATION:MusicClub Modrá Vopice\, Praha\, MusicClub Modrá Vopice\, Praha\, Česká republika
CATEGORIES:Festival
ATTACH;FMTTYPE=image/jpeg:https://nasejiznimorava.cz/wp-content/uploads/2025/11/320-1b7bbfe69f4e4d6eabeb085a7919ef30.jpg
END:VEVENT
BEGIN:VEVENT
DTSTART;TZID=Europe/Prague:20260704T130000
DTEND;TZID=Europe/Prague:20260704T160000
DTSTAMP:20260421T112913
CREATED:20251129T075051Z
LAST-MODIFIED:20251129T075054Z
UID:39491-1783170000-1783180800@nasejiznimorava.cz
SUMMARY:Krak'n'roll Abused Monkey Fest
DESCRIPTION:Krak’n’roll Abused Monkey Fest  se uskuteční dne 2026-07-04 v 13:00 v Praha\, MusicClub Modrá Vopice. \n🎟️ Koupit vstupenku \n\n4.7.2026 proběhne vůbec první ročník festivalu Krak’n’roll Abused Monkey Fest\, na kterém spojí síly pět kapel české scény! \nHlavní hvězdou festivalu nebude nikdo jiný než stálice české scény kapela Forrest Jump s nekomromisní energií a emocemi! \nDále se můžete těšit na dravou kombinaci moderního metalu v podobě Abused & Neglected\,  stylově pestré a neotřelé Kervežekson\, intenzivní Cruel Company či progresive metalocorové Halo Of The Sun. \nCelá akce se uskuteční ve venkovním areálu Modré Vopice. \nDatum 4.7.2026 si zapiš do kalendáře a nenech si tuhle metalovu párty ujít!   \nPrvní vlna vstupenek: 320\,- \nDruhá vlna vstupenek: 400\,- \nVstupné na místě: 450\,- \n\nTento tip na kulturní akci v Praha najdete v přehledu na nasejiznimorava.cz kde na jednom místě shromažďujeme desítky dalších koncertů\, festivalů\, divadelních představení i komunitních událostí z celého regionu i z celé ČR. Přehled je přehledně řazený\, pravidelně aktualizovaný a umožní vám rychle najít přesně to\, co vás zajímá – od velkých open-air akcí až po menší lokální programy. Každý si tak snadno vybere podle svého vkusu i času. Pokud vás některá akce zaujme\, nezapomeňte si včas zajistit vstupenky; stačí kliknout na detail události a budete bezpečně přesměrováni na oficiálního prodejce vstupenek..
URL:https://nasejiznimorava.cz/event/kraknroll-abused-monkey-fest/
LOCATION:MusicClub Modrá Vopice\, Praha\, MusicClub Modrá Vopice\, Praha\, Česká republika
CATEGORIES:Festival
ATTACH;FMTTYPE=image/jpeg:https://nasejiznimorava.cz/wp-content/uploads/2025/11/320-1b7bbfe69f4e4d6eabeb085a7919ef30-1.jpg
END:VEVENT
BEGIN:VEVENT
DTSTART;TZID=Europe/Prague:20260704T140000
DTEND;TZID=Europe/Prague:20260704T170000
DTSTAMP:20260421T112913
CREATED:20251111T125126Z
LAST-MODIFIED:20251111T125126Z
UID:36513-1783173600-1783184400@nasejiznimorava.cz
SUMMARY:BENNYFEST
DESCRIPTION:BENNYFEST se uskuteční dne 2026-07-04 v 14:00 v Kdyně\, Fotbalové hřiště na kobyle. \n🎟️ Koupit vstupenku \n\nPrvní ročník BENNYFESTU. \nSuper muzika\, super kapely\, přijď si užít akci! \n\nTento tip na kulturní akci v Kdyně najdete v přehledu na nasejiznimorava.cz kde na jednom místě shromažďujeme desítky dalších koncertů\, festivalů\, divadelních představení i komunitních událostí z celého regionu i z celé ČR. Přehled je přehledně řazený\, pravidelně aktualizovaný a umožní vám rychle najít přesně to\, co vás zajímá – od velkých open-air akcí až po menší lokální programy. Každý si tak snadno vybere podle svého vkusu i času. Pokud vás některá akce zaujme\, nezapomeňte si včas zajistit vstupenky; stačí kliknout na detail události a budete bezpečně přesměrováni na oficiálního prodejce vstupenek..
URL:https://nasejiznimorava.cz/event/bennyfest/
LOCATION:Fotbalové hřiště na kobyle\, Kdyně\, Fotbalové hřiště na kobyle\, Kdyně\, Česká republika
CATEGORIES:Festival
ATTACH;FMTTYPE=image/jpeg:https://nasejiznimorava.cz/wp-content/uploads/2025/11/320-fcc9c66d8ac8455f90b7bc6939d48db0.jpg
END:VEVENT
BEGIN:VEVENT
DTSTART;TZID=Europe/Prague:20260705T103000
DTEND;TZID=Europe/Prague:20260705T133000
DTSTAMP:20260421T112913
CREATED:20251111T132917Z
LAST-MODIFIED:20251111T132917Z
UID:37144-1783247400-1783258200@nasejiznimorava.cz
SUMMARY:DŘEVOROCKFEST 2026
DESCRIPTION:DŘEVOROCKFEST 2026 se uskuteční dne 2026-07-05 v 10:30 v Dřevohostice\, Zámecká zahrada. \n🎟️ Koupit vstupenku \n\nVítejte na maximálně rychlém předprodeji vsupenek.  \nDřevorockfest 2026 se uskuteční 5. července 2026! \nPro 21. ročník rockového open-air festivalu jsme uvařili line-up napráskaný tou nejlepší tuzemskou rockovou a metalovou muzikou. \n\nTento tip na kulturní akci v Dřevohostice najdete v přehledu na nasejiznimorava.cz kde na jednom místě shromažďujeme desítky dalších koncertů\, festivalů\, divadelních představení i komunitních událostí z celého regionu i z celé ČR. Přehled je přehledně řazený\, pravidelně aktualizovaný a umožní vám rychle najít přesně to\, co vás zajímá – od velkých open-air akcí až po menší lokální programy. Každý si tak snadno vybere podle svého vkusu i času. Pokud vás některá akce zaujme\, nezapomeňte si včas zajistit vstupenky; stačí kliknout na detail události a budete bezpečně přesměrováni na oficiálního prodejce vstupenek..
URL:https://nasejiznimorava.cz/event/drevorockfest-2026/
LOCATION:Zámecká zahrada\, Dřevohostice\, Zámecká zahrada\, Dřevohostice\, Česká republika
CATEGORIES:Festival
ATTACH;FMTTYPE=image/jpeg:https://nasejiznimorava.cz/wp-content/uploads/2025/11/320-9848f0c898a44bd1bfa3b9ea5ac1c1d9.jpg
END:VEVENT
BEGIN:VEVENT
DTSTART;TZID=Europe/Prague:20260731T163000
DTEND;TZID=Europe/Prague:20260731T193000
DTSTAMP:20260421T112913
CREATED:20251111T154646Z
LAST-MODIFIED:20251111T154647Z
UID:37734-1785515400-1785526200@nasejiznimorava.cz
SUMMARY:Beseda u Bigbítu 2026
DESCRIPTION:Beseda u Bigbítu 2026 se uskuteční dne 2026-07-31 v 16:30 v Tasov\, Topolový hájek. \n🎟️ Koupit vstupenku \n\n33. ročník (nejen) hudebního festivalu v krásném prostředí areálu Topolového hájku v Tasově u Veselí nad Moravou. 2 scény\, 3 dny\, 50 dramaturgických položek \n\nTento tip na kulturní akci v Tasov najdete v přehledu na nasejiznimorava.cz kde na jednom místě shromažďujeme desítky dalších koncertů\, festivalů\, divadelních představení i komunitních událostí z celého regionu i z celé ČR. Přehled je přehledně řazený\, pravidelně aktualizovaný a umožní vám rychle najít přesně to\, co vás zajímá – od velkých open-air akcí až po menší lokální programy. Každý si tak snadno vybere podle svého vkusu i času. Pokud vás některá akce zaujme\, nezapomeňte si včas zajistit vstupenky; stačí kliknout na detail události a budete bezpečně přesměrováni na oficiálního prodejce vstupenek..
URL:https://nasejiznimorava.cz/event/beseda-u-bigbitu-2026/
LOCATION:Topolový hájek\, Tasov\, Topolový hájek\, Tasov\, Česká republika
CATEGORIES:Festival
ATTACH;FMTTYPE=image/jpeg:https://nasejiznimorava.cz/wp-content/uploads/2025/11/320-90ec9b643da94b98b3714f333dce929d.jpg
END:VEVENT
BEGIN:VEVENT
DTSTART;TZID=Europe/Prague:20260807T120000
DTEND;TZID=Europe/Prague:20260807T150000
DTSTAMP:20260421T112913
CREATED:20260402T183430Z
LAST-MODIFIED:20260402T183433Z
UID:42531-1786104000-1786114800@nasejiznimorava.cz
SUMMARY:Slavnosti piva KAMÍNKA KEMP Roštín 2026
DESCRIPTION:Slavnosti piva KAMÍNKA KEMP Roštín 2026 se uskuteční dne 2026-08-07 v 12:00 v Roštín\, Areál Kamínka. \n🎟️ Koupit vstupenku \n\nLegendární festival Slavnosti piva KAMÍNKA se vrací v plné své síle! Kempový areál na kopci nad Roštínem opět ožije živou hudbou a širokým výběrem piva ze všech koutů České republiky. \nPostaráme se o to\, aby tento festivalový návrat stál za to! Kapely postupně zveřejníme\, rozhodně se máme na co těšit! \n\nTento tip na kulturní akci v Roštín najdete v přehledu na nasejiznimorava.cz kde na jednom místě shromažďujeme desítky dalších koncertů\, festivalů\, divadelních představení i komunitních událostí z celého regionu i z celé ČR. Přehled je přehledně řazený\, pravidelně aktualizovaný a umožní vám rychle najít přesně to\, co vás zajímá – od velkých open-air akcí až po menší lokální programy. Každý si tak snadno vybere podle svého vkusu i času. Pokud vás některá akce zaujme\, nezapomeňte si včas zajistit vstupenky; stačí kliknout na detail události a budete bezpečně přesměrováni na oficiálního prodejce vstupenek..
URL:https://nasejiznimorava.cz/event/slavnosti-piva-kaminka-kemp-rostin-2026/
LOCATION:Areál Kamínka\, Roštín\, Areál Kamínka\, Roštín\, Česká republika
CATEGORIES:Festival
ATTACH;FMTTYPE=image/jpeg:https://nasejiznimorava.cz/wp-content/uploads/2026/04/320-a186fe9d235d49f69023586ddadd0d01.jpg
END:VEVENT
BEGIN:VEVENT
DTSTART;TZID=Europe/Prague:20260815T193000
DTEND;TZID=Europe/Prague:20260815T223000
DTSTAMP:20260421T112913
CREATED:20260402T184356Z
LAST-MODIFIED:20260402T184358Z
UID:42658-1786822200-1786833000@nasejiznimorava.cz
SUMMARY:XIII.  STOLETÍ
DESCRIPTION:XIII.  STOLETÍ se uskuteční dne 2026-08-15 v 19:30 v Hradec Králové\, Letní areál U Letců. \n🎟️ Koupit vstupenku \n\nXIII. století je česká hudební skupina. Svou hudbu charakterizuje jako gothic rock a podle rozhovorů s frontmanem Petrem Štěpánem se XIII. století distancuje od jakéhokoliv spojování s tvorbou či zaměřením skupin označujících se jako „metalgotické“\, „doomgotické“\, apod.. Vznikla roku 1990 z punkové kapely HNF (Hrdinové nové fronty) a své první album Amulet vydali o dva roky později. Tato skupina je populární také v Polsku. V různých obměnách sestavy doposud natočila a vydala 10 řadových alb\, 2 záznamy koncertů (Nocturno\, Live in Berlin) a tři kompilace (Karneval\, 2CD Ritual\, 3CD Horizont události). Album Horizont události obsahuje mimo skladeb skupiny a nových skladeb Faust a Bohové na strojích i skladatelskou tvorbu Petra Štěpána – scénickou hudbu k divadelním hrám a elektronický projekt Hindenburg. U příležitosti oslav výročí pětadvaceti let fungování XIII. století 5. února 2016 vydalo studiové album s názvem Intacto. Dle slov Petra Štěpána by mělo Intacto být poslední studiovou deskou skupiny. 21. října 2016 vyšel desetialbový box\, pojmenovaný Pandora. Exkluzivně k jeho vydání skupina v červnu téhož roku dodatečně ve studiu natočila dvě nové\, bonusové skladby- Nový věk temnoty a Evropa. \n\nTento tip na kulturní akci v Hradec Králové najdete v přehledu na nasejiznimorava.cz kde na jednom místě shromažďujeme desítky dalších koncertů\, festivalů\, divadelních představení i komunitních událostí z celého regionu i z celé ČR. Přehled je přehledně řazený\, pravidelně aktualizovaný a umožní vám rychle najít přesně to\, co vás zajímá – od velkých open-air akcí až po menší lokální programy. Každý si tak snadno vybere podle svého vkusu i času. Pokud vás některá akce zaujme\, nezapomeňte si včas zajistit vstupenky; stačí kliknout na detail události a budete bezpečně přesměrováni na oficiálního prodejce vstupenek..
URL:https://nasejiznimorava.cz/event/xiii-stoleti/
LOCATION:Letní areál U Letců\, Hradec Králové\, Letní areál U Letců\, Hradec Králové\, Česká republika
CATEGORIES:Koncert
ATTACH;FMTTYPE=image/jpeg:https://nasejiznimorava.cz/wp-content/uploads/2026/04/320-da46e5efe8de4c95b7c55d4c10d8aa7d.jpg
END:VEVENT
BEGIN:VEVENT
DTSTART;TZID=Europe/Prague:20260815T200000
DTEND;TZID=Europe/Prague:20260815T230000
DTSTAMP:20260421T112913
CREATED:20251123T105847Z
LAST-MODIFIED:20251123T105848Z
UID:39248-1786824000-1786834800@nasejiznimorava.cz
SUMMARY:Morčata na útěku v Háječku :)
DESCRIPTION:Morčata na útěku v Háječku 🙂 se uskuteční dne 2026-08-15 v 20:00 v Heřmaničky\, Háječek – letní parket. \n🎟️ Koupit vstupenku \n\n!! MORČATA NA ÚTĚKU přijedou do Heřmaniček !! \nMorčata na útěku je brněnská rock-metalová hudební skupina fungující od roku 2004. Jejich tvorba je založena na parodování populárních českých i zahraničních populárních písní vlastními texty. Na svá alba ale zpravidla vkládají i nějaké původní písně (jejich kompilaci Vlastní vály vydali roku 2013). \nV textech Morčata používají hrubý jazyk včetně silně vulgárních výrazů. Častá je fekální\, hospodská nebo sexuální tematika.V jejich rané tvorbě se často vyskytovaly zmínky o lidech\, kteří navštěvovali teď již zavřenou brněnskou hospodu Black Diamond\, a o jejich zážitcích. \nJako předkapela zahraje mladá\, ambiciózní skupina – Pozitivní Mládež.  \nVstupné:v předprodeji: 450\,-na místě: 550\,- \n\nTento tip na kulturní akci v Heřmaničky najdete v přehledu na nasejiznimorava.cz kde na jednom místě shromažďujeme desítky dalších koncertů\, festivalů\, divadelních představení i komunitních událostí z celého regionu i z celé ČR. Přehled je přehledně řazený\, pravidelně aktualizovaný a umožní vám rychle najít přesně to\, co vás zajímá – od velkých open-air akcí až po menší lokální programy. Každý si tak snadno vybere podle svého vkusu i času. Pokud vás některá akce zaujme\, nezapomeňte si včas zajistit vstupenky; stačí kliknout na detail události a budete bezpečně přesměrováni na oficiálního prodejce vstupenek..
URL:https://nasejiznimorava.cz/event/morcata-na-uteku-v-hajecku/
LOCATION:Háječek – letní parket\, Heřmaničky\, Háječek - letní parket\, Heřmaničky\, Česká republika
CATEGORIES:Koncert
ATTACH;FMTTYPE=image/jpeg:https://nasejiznimorava.cz/wp-content/uploads/2025/11/320-ac73644b17ad43b89f2e5b11eabc7a0e.jpg
END:VEVENT
BEGIN:VEVENT
DTSTART;TZID=Europe/Prague:20260822T130000
DTEND;TZID=Europe/Prague:20260822T160000
DTSTAMP:20260421T112913
CREATED:20251111T134407Z
LAST-MODIFIED:20251111T134408Z
UID:37435-1787403600-1787414400@nasejiznimorava.cz
SUMMARY:Rock For Your Shock Vol.5
DESCRIPTION:Rock For Your Shock Vol.5 se uskuteční dne 2026-08-22 v 13:00 v Prostějov\, Zámek Prostějov. \n🎟️ Koupit vstupenku \n\nPřátelé a fanoušci! Ročník 2026 je již páty a to je důvod k oslavě!  Pět let uteklo jako voda a my budeme rádi\, když se na tuhle půlkulatinovou metalovou párty připojíte!  Festival již tradičně proběhne v prostorách zámku Prostějov 22.8.2026. \nNebudeme chodit kolem horké kaše. Ku příležitosti jubilejního ročníků jsme pro vás připravili kapely se skvělými metalovými zpěvačkami. Tyhle hrdinky metalu nejsou jen krásnými ozdobami\, ale předeším skutečný symbol ženské síly. \nPo 13 letech se do České republiky vrací italská upíří legenda Theatres Des Vampires\, která pojede své tour ke třiceti letům existence. Další energickou kapelou  z Itálie je nu metalová Exilia! Zástupci klasického poctivého hard rockou je kapela Vulvarine z Rakouska\, která je složena pouze z žen. Od našich slovenských sousedů dorazí uskupení Royal Question. Za česko dorazí Emerald Shine a samozřejmě zde vystoupí Abused & Neglected a také S.O.P. Poslední dvě zmíněné kapely budou jediné\, ve kterých se mikrofonu chopí muži a celý festival odstartují a ukončí. \nVYSTUPUJÍCÍ \nTheatres Des Vampires (ITA) \nExilia (ITA) \nVulvarine (AUT) \nEmerald Shine (CZ) \nRoyal Question (SK) \nAbused & Neglected (CZ) \nS.O.P. (CZ) \n  \n\nTento tip na kulturní akci v Prostějov najdete v přehledu na nasejiznimorava.cz kde na jednom místě shromažďujeme desítky dalších koncertů\, festivalů\, divadelních představení i komunitních událostí z celého regionu i z celé ČR. Přehled je přehledně řazený\, pravidelně aktualizovaný a umožní vám rychle najít přesně to\, co vás zajímá – od velkých open-air akcí až po menší lokální programy. Každý si tak snadno vybere podle svého vkusu i času. Pokud vás některá akce zaujme\, nezapomeňte si včas zajistit vstupenky; stačí kliknout na detail události a budete bezpečně přesměrováni na oficiálního prodejce vstupenek..
URL:https://nasejiznimorava.cz/event/rock-for-your-shock-vol-5/
LOCATION:Zámek Prostějov\, Prostějov\, Zámek Prostějov\, Prostějov\, Česká republika
CATEGORIES:Festival
ATTACH;FMTTYPE=image/jpeg:https://nasejiznimorava.cz/wp-content/uploads/2025/11/320-cce58c808a204f53bbf0a7be81ef92a4.jpg
END:VEVENT
BEGIN:VEVENT
DTSTART;TZID=Europe/Prague:20260919T150000
DTEND;TZID=Europe/Prague:20260919T180000
DTSTAMP:20260421T112913
CREATED:20251222T193633Z
LAST-MODIFIED:20251222T193635Z
UID:40957-1789830000-1789840800@nasejiznimorava.cz
SUMMARY:Metal Gurmán Fest vol.2
DESCRIPTION:Metal Gurmán Fest vol.2 se uskuteční dne 2026-09-19 v 15:00 v Pardubice\, Music Club Žlutý pes. \n🎟️ Koupit vstupenku \n\nMetal Grumán Fest – festival pro opravdové fajnšmekry!Žánrová hostina plná metalu v různých podobách. Žádné kompromisy\, jen pořádná porce hudby pro ty\, co si chtějí vychutnat všechno od A do Z.  \n\nTento tip na kulturní akci v Pardubice najdete v přehledu na nasejiznimorava.cz kde na jednom místě shromažďujeme desítky dalších koncertů\, festivalů\, divadelních představení i komunitních událostí z celého regionu i z celé ČR. Přehled je přehledně řazený\, pravidelně aktualizovaný a umožní vám rychle najít přesně to\, co vás zajímá – od velkých open-air akcí až po menší lokální programy. Každý si tak snadno vybere podle svého vkusu i času. Pokud vás některá akce zaujme\, nezapomeňte si včas zajistit vstupenky; stačí kliknout na detail události a budete bezpečně přesměrováni na oficiálního prodejce vstupenek..
URL:https://nasejiznimorava.cz/event/metal-gurman-fest-vol-2/
LOCATION:Music Club Žlutý pes\, Pardubice\, Music Club Žlutý pes\, Pardubice\, Česká republika
CATEGORIES:Festival
ATTACH;FMTTYPE=image/jpeg:https://nasejiznimorava.cz/wp-content/uploads/2025/12/320-b4833bb0e255403f9a3dec49fc0a39e1.jpg
END:VEVENT
BEGIN:VEVENT
DTSTART;TZID=Europe/Prague:20261125T190000
DTEND;TZID=Europe/Prague:20261125T220000
DTSTAMP:20260421T112913
CREATED:20260404T063913Z
LAST-MODIFIED:20260404T063914Z
UID:42779-1795633200-1795644000@nasejiznimorava.cz
SUMMARY:TUBLATANKA - Litoměřice
DESCRIPTION:TUBLATANKA – Litoměřice se uskuteční dne 2026-11-25 v 19:00 v Litoměřice\, Kulturní dům. \n🎟️ Koupit vstupenku \n\nPRVNÍ VLNA VYPRODÁNA! \nDRUHÁ VLNA BĚŽÍ.. \n  \nTUBLATANKA \nSkupina sa začala formovať na jeseň v roku 1982\, kedy Maťo Ďurinda (vl. menom Martin Ďurinda) študent prvého ročníka Farmaceutickej fakulty U.K. sa prostredníctvom kamaráta Temerafa zoznámil vo vinárni Veľkí Františkáni s bubeníkom Jurajom Černým\, študentom VŠMU odbor dokumentárna réžia\, ktorý vtedy už mal za sebou niekoľko vystúpení so známou zábavovou big beatovou skupinou YPS. \nV prvom rozhovore pri vínnych strikoch si padli do oka…  \n… a dnes už se těšíme na jejich koncert u Vás! \n\nTento tip na kulturní akci v Litoměřice najdete v přehledu na nasejiznimorava.cz kde na jednom místě shromažďujeme desítky dalších koncertů\, festivalů\, divadelních představení i komunitních událostí z celého regionu i z celé ČR. Přehled je přehledně řazený\, pravidelně aktualizovaný a umožní vám rychle najít přesně to\, co vás zajímá – od velkých open-air akcí až po menší lokální programy. Každý si tak snadno vybere podle svého vkusu i času. Pokud vás některá akce zaujme\, nezapomeňte si včas zajistit vstupenky; stačí kliknout na detail události a budete bezpečně přesměrováni na oficiálního prodejce vstupenek..
URL:https://nasejiznimorava.cz/event/tublatanka-litomerice/
LOCATION:Kulturní dům\, Litoměřice\, Kulturní dům\, Litoměřice\, Česká republika
CATEGORIES:Koncert
ATTACH;FMTTYPE=image/jpeg:https://nasejiznimorava.cz/wp-content/uploads/2026/04/320-08977523d597448d8a3e0bc7ad0e81e4.jpg
END:VEVENT
END:VCALENDAR