BEGIN:VCALENDAR
VERSION:2.0
PRODID:-// „Objev místa, kde se dobře pije, krásně spí a skvěle žije“  - ECPv6.15.20//NONSGML v1.0//EN
CALSCALE:GREGORIAN
METHOD:PUBLISH
X-WR-CALNAME: „Objev místa, kde se dobře pije, krásně spí a skvěle žije“ 
X-ORIGINAL-URL:https://nasejiznimorava.cz
X-WR-CALDESC:Akce na  „Objev místa, kde se dobře pije, krásně spí a skvěle žije“ 
REFRESH-INTERVAL;VALUE=DURATION:PT1H
X-Robots-Tag:noindex
X-PUBLISHED-TTL:PT1H
BEGIN:VTIMEZONE
TZID:Europe/Prague
BEGIN:DAYLIGHT
TZOFFSETFROM:+0100
TZOFFSETTO:+0200
TZNAME:CEST
DTSTART:20250330T010000
END:DAYLIGHT
BEGIN:STANDARD
TZOFFSETFROM:+0200
TZOFFSETTO:+0100
TZNAME:CET
DTSTART:20251026T010000
END:STANDARD
BEGIN:DAYLIGHT
TZOFFSETFROM:+0100
TZOFFSETTO:+0200
TZNAME:CEST
DTSTART:20260329T010000
END:DAYLIGHT
BEGIN:STANDARD
TZOFFSETFROM:+0200
TZOFFSETTO:+0100
TZNAME:CET
DTSTART:20261025T010000
END:STANDARD
BEGIN:DAYLIGHT
TZOFFSETFROM:+0100
TZOFFSETTO:+0200
TZNAME:CEST
DTSTART:20270328T010000
END:DAYLIGHT
BEGIN:STANDARD
TZOFFSETFROM:+0200
TZOFFSETTO:+0100
TZNAME:CET
DTSTART:20271031T010000
END:STANDARD
END:VTIMEZONE
BEGIN:VEVENT
DTSTART;TZID=Europe/Prague:20260513T190000
DTEND;TZID=Europe/Prague:20260513T220000
DTSTAMP:20260421T230837
CREATED:20260211T100317Z
LAST-MODIFIED:20260211T100317Z
UID:42163-1778698800-1778709600@nasejiznimorava.cz
SUMMARY:ŠVANCI SHOW - JÁ SU JÁ - Mladá Boleslav
DESCRIPTION:ŠVANCI SHOW – JÁ SU JÁ – Mladá Boleslav se uskuteční dne 2026-05-13 v 19:00 v Mladá Boleslav\, Dům kultury. \n🎟️ Koupit vstupenku \n\nNová zábavná show „JÁ SU JÁ“ vyráží na TOUR po celé České republice. \nČekají vás vtipné historky\, od kariéry fotbalisty\, velkolepé rozlučky za Lužánkami\, návštěv různých zábavních pořadů\, až po účast v reality show Survivor. Dále se těšte na prostor pro otázky na tělo\, autogramiádu\, focení a mnoho dalšího. \nJak moc dobře mě znáš? Jak vypadá můj život po kariéře fotbalisty? Chceš znát více informací o reality show Surviror? \nNejen to se dozvíš ve zbrusu nové zábavné show „JÁ SU JÁ“. \nPřijď se podívat a užít si legraci\, popovídat si s legendou fotbalu\, moderátorem\, bavičem a dát si třeba fotku\, nebo si nechat cokoliv podepsat. \nPořad není vhodný mladším 15 let! \n\nTento tip na kulturní akci v Mladá Boleslav najdete v přehledu na nasejiznimorava.cz kde na jednom místě shromažďujeme desítky dalších koncertů\, festivalů\, divadelních představení i komunitních událostí z celého regionu i z celé ČR. Přehled je přehledně řazený\, pravidelně aktualizovaný a umožní vám rychle najít přesně to\, co vás zajímá – od velkých open-air akcí až po menší lokální programy. Každý si tak snadno vybere podle svého vkusu i času. Pokud vás některá akce zaujme\, nezapomeňte si včas zajistit vstupenky; stačí kliknout na detail události a budete bezpečně přesměrováni na oficiálního prodejce vstupenek..
URL:https://nasejiznimorava.cz/event/svanci-show-ja-su-ja-mlada-boleslav/
LOCATION:Dům kultury\, Mladá Boleslav\, Dům kultury\, Mladá Boleslav\, Česká republika
CATEGORIES:Zábava
ATTACH;FMTTYPE=image/jpeg:https://nasejiznimorava.cz/wp-content/uploads/2026/02/320-67d67e3f2cb0424e940cab6c66f0125d.jpg
END:VEVENT
END:VCALENDAR