BEGIN:VCALENDAR
VERSION:2.0
PRODID:-// „Objev místa, kde se dobře pije, krásně spí a skvěle žije“  - ECPv6.15.20//NONSGML v1.0//EN
CALSCALE:GREGORIAN
METHOD:PUBLISH
X-ORIGINAL-URL:https://nasejiznimorava.cz
X-WR-CALDESC:Akce na  „Objev místa, kde se dobře pije, krásně spí a skvěle žije“ 
REFRESH-INTERVAL;VALUE=DURATION:PT1H
X-Robots-Tag:noindex
X-PUBLISHED-TTL:PT1H
BEGIN:VTIMEZONE
TZID:Europe/Prague
BEGIN:DAYLIGHT
TZOFFSETFROM:+0100
TZOFFSETTO:+0200
TZNAME:CEST
DTSTART:20240331T010000
END:DAYLIGHT
BEGIN:STANDARD
TZOFFSETFROM:+0200
TZOFFSETTO:+0100
TZNAME:CET
DTSTART:20241027T010000
END:STANDARD
BEGIN:DAYLIGHT
TZOFFSETFROM:+0100
TZOFFSETTO:+0200
TZNAME:CEST
DTSTART:20250330T010000
END:DAYLIGHT
BEGIN:STANDARD
TZOFFSETFROM:+0200
TZOFFSETTO:+0100
TZNAME:CET
DTSTART:20251026T010000
END:STANDARD
BEGIN:DAYLIGHT
TZOFFSETFROM:+0100
TZOFFSETTO:+0200
TZNAME:CEST
DTSTART:20260329T010000
END:DAYLIGHT
BEGIN:STANDARD
TZOFFSETFROM:+0200
TZOFFSETTO:+0100
TZNAME:CET
DTSTART:20261025T010000
END:STANDARD
BEGIN:DAYLIGHT
TZOFFSETFROM:+0100
TZOFFSETTO:+0200
TZNAME:CEST
DTSTART:20270328T010000
END:DAYLIGHT
BEGIN:STANDARD
TZOFFSETFROM:+0200
TZOFFSETTO:+0100
TZNAME:CET
DTSTART:20271031T010000
END:STANDARD
END:VTIMEZONE
BEGIN:VEVENT
DTSTART;TZID=Europe/Prague:20260421T190000
DTEND;TZID=Europe/Prague:20260421T220000
DTSTAMP:20260421T200314
CREATED:20251113T092027Z
LAST-MODIFIED:20251113T092028Z
UID:39151-1776798000-1776808800@nasejiznimorava.cz
SUMMARY:Martin Hranáč - CRAZY SHOW - Mladá Boleslav
DESCRIPTION:Martin Hranáč – CRAZY SHOW – Mladá Boleslav se uskuteční dne 2026-04-21 v 19:00 v Mladá Boleslav\, Dům kultury. \n🎟️ Koupit vstupenku \n\nChcete vstoupit do světa humoru a improvizace? Tak je CRAZY SHOW právě pro VÁS! Připravte se na nezapomenutelný večer plný smíchu s Martinem Hranáčem – komikem\, hercem\, číšníkem a optimistou\, který svým jedinečným smyslem pro humor baví lidi na sociálních sítích. Martinův příběh číšníka a jeho každodenní zážitky z gastronomie se stávají zábavným vyprávěním\, které osloví naprosto všechny. \nKaždé vystoupení je unikátní a plné improvizace\, protože Martin miluje improvizaci a scénáře mění v průběhu večera\, což občas vykolejí jeho sestru Štěpánku Šmídovou\, která mu dělá skvělou společnost během celé show. Všechny scénky a historky vychází z Martinových zkušeností a zážitků\, jak profesního\, tak soukromého života. Jeho humor je nekorektní\, sebeironický a nebojí se jít na hranu – právě to dělá jeho show nezapomenutelnou! \nNenechte si ujít tento jedinečný zážitek! Vstupenky v prodeji! \nPořad není vhodný mladším 15 let! \n\nTento tip na kulturní akci v Mladá Boleslav najdete v přehledu na nasejiznimorava.cz kde na jednom místě shromažďujeme desítky dalších koncertů\, festivalů\, divadelních představení i komunitních událostí z celého regionu i z celé ČR. Přehled je přehledně řazený\, pravidelně aktualizovaný a umožní vám rychle najít přesně to\, co vás zajímá – od velkých open-air akcí až po menší lokální programy. Každý si tak snadno vybere podle svého vkusu i času. Pokud vás některá akce zaujme\, nezapomeňte si včas zajistit vstupenky; stačí kliknout na detail události a budete bezpečně přesměrováni na oficiálního prodejce vstupenek..
URL:https://nasejiznimorava.cz/event/martin-hranac-crazy-show-mlada-boleslav/
LOCATION:Dům kultury\, Mladá Boleslav\, Dům kultury\, Mladá Boleslav\, Česká republika
CATEGORIES:Zábava
ATTACH;FMTTYPE=image/jpeg:https://nasejiznimorava.cz/wp-content/uploads/2025/11/320-a4b17b69c2c44a40bd2fb78e7f89fc0d.jpg
END:VEVENT
BEGIN:VEVENT
DTSTART;TZID=Europe/Prague:20260210T190000
DTEND;TZID=Europe/Prague:20260210T220000
DTSTAMP:20260421T200314
CREATED:20251112T175343Z
LAST-MODIFIED:20251112T175343Z
UID:38785-1770750000-1770760800@nasejiznimorava.cz
SUMMARY:Historky z Tinderu Tour 2026
DESCRIPTION:Historky z Tinderu Tour 2026 se uskuteční dne 2026-02-10 v 19:00 v Mladá Boleslav\, Dům kultury. \n🎟️ Koupit vstupenku \n\nStand up comedy show s Lucií Macháčkovou\, Kateřinou Haškovou a Alenou Dolákovou. Diváci se ponoří do husté a pořádně peprné show\, ve které komičky prozradí vše\, co (ne)ví o vztazích\, lásce\, sexu a seznamování. NYNÍ VE VAŠEM MĚSTĚ! \n\nTento tip na kulturní akci v Mladá Boleslav najdete v přehledu na nasejiznimorava.cz kde na jednom místě shromažďujeme desítky dalších koncertů\, festivalů\, divadelních představení i komunitních událostí z celého regionu i z celé ČR. Přehled je přehledně řazený\, pravidelně aktualizovaný a umožní vám rychle najít přesně to\, co vás zajímá – od velkých open-air akcí až po menší lokální programy. Každý si tak snadno vybere podle svého vkusu i času. Pokud vás některá akce zaujme\, nezapomeňte si včas zajistit vstupenky; stačí kliknout na detail události a budete bezpečně přesměrováni na oficiálního prodejce vstupenek..
URL:https://nasejiznimorava.cz/event/historky-z-tinderu-tour-2026-7/
LOCATION:Dům kultury\, Mladá Boleslav\, Dům kultury\, Mladá Boleslav\, Česká republika
CATEGORIES:Zábava
ATTACH;FMTTYPE=image/jpeg:https://nasejiznimorava.cz/wp-content/uploads/2025/11/320-3be0263e800a494db5689248c2154645.jpg
END:VEVENT
BEGIN:VEVENT
DTSTART;TZID=Europe/Prague:20251218T193000
DTEND;TZID=Europe/Prague:20251218T223000
DTSTAMP:20260421T200314
CREATED:20251214T082857Z
LAST-MODIFIED:20251214T082858Z
UID:40286-1766086200-1766097000@nasejiznimorava.cz
SUMMARY:Vánoce v Divadýlku
DESCRIPTION:Vánoce v Divadýlku se uskuteční dne 2025-12-18 v 19:30 v Mladá Boleslav\, Divadýlko na dlani. \n🎟️ Koupit vstupenku \n\nVánoce jsou v Divadýlku vždycky veselé a voňavé. Cukroví se peče přímo na sále a svařené víno voní ve foyer. Na pořadu jsou dvě představení Vánoční povídka a Andělské apokryfy. Bez těhle dvou představení by to nebyly ty pravé Vánoce a kdo ví třeba bude i překvapení… \n\nTento tip na kulturní akci v Mladá Boleslav najdete v přehledu na nasejiznimorava.cz kde na jednom místě shromažďujeme desítky dalších koncertů\, festivalů\, divadelních představení i komunitních událostí z celého regionu i z celé ČR. Přehled je přehledně řazený\, pravidelně aktualizovaný a umožní vám rychle najít přesně to\, co vás zajímá – od velkých open-air akcí až po menší lokální programy. Každý si tak snadno vybere podle svého vkusu i času. Pokud vás některá akce zaujme\, nezapomeňte si včas zajistit vstupenky; stačí kliknout na detail události a budete bezpečně přesměrováni na oficiálního prodejce vstupenek..
URL:https://nasejiznimorava.cz/event/vanoce-v-divadylku/
LOCATION:Divadýlko na dlani\, Mladá Boleslav\, Divadýlko na dlani\, Mladá Boleslav\, Česká republika
CATEGORIES:Divadlo
ATTACH;FMTTYPE=image/jpeg:https://nasejiznimorava.cz/wp-content/uploads/2025/12/320-e7aba9d03f984ad4a8d7398381e6b0fc.jpg
END:VEVENT
BEGIN:VEVENT
DTSTART;TZID=Europe/Prague:20251206T200000
DTEND;TZID=Europe/Prague:20251206T230000
DTSTAMP:20260421T200314
CREATED:20251111T172830Z
LAST-MODIFIED:20251111T172830Z
UID:38580-1765051200-1765062000@nasejiznimorava.cz
SUMMARY:Vráťa Hošek + STARTi + Přísun povolen - Mladá Boleslav
DESCRIPTION:Vráťa Hošek + STARTi + Přísun povolen – Mladá Boleslav se uskuteční dne 2025-12-06 v 20:00 v Mladá Boleslav\, Willax Klub HEINEKEN. \n🎟️ Koupit vstupenku \n\nZveme vás na NEKOREKTNÍ PŘEDVÁNOČNÍ VEČER! \nTěšit se můžete na: \nVráťu Hoška – PÍSNIČKÁŘ ČERNÉHO HUMORUhttps://www.youtube.com/watch?v=2S3dwcVXTxo&list=RD2S3dwcVXTxo&start_radio=1 \nSTARTi – Punkrocková kapela z okolí VMhttps://www.youtube.com/watch?v=DEn42a15pak&list=RDDEn42a15pak&start_radio=1 \nPřísun povolen – PUNK PRAHA \n \nVSTUP OD 20:00HODIN \n  \n\nTento tip na kulturní akci v Mladá Boleslav najdete v přehledu na nasejiznimorava.cz kde na jednom místě shromažďujeme desítky dalších koncertů\, festivalů\, divadelních představení i komunitních událostí z celého regionu i z celé ČR. Přehled je přehledně řazený\, pravidelně aktualizovaný a umožní vám rychle najít přesně to\, co vás zajímá – od velkých open-air akcí až po menší lokální programy. Každý si tak snadno vybere podle svého vkusu i času. Pokud vás některá akce zaujme\, nezapomeňte si včas zajistit vstupenky; stačí kliknout na detail události a budete bezpečně přesměrováni na oficiálního prodejce vstupenek..
URL:https://nasejiznimorava.cz/event/vrata-hosek-starti-prisun-povolen-mlada-boleslav/
LOCATION:Willax Klub HEINEKEN\, Mladá Boleslav\, Willax Klub HEINEKEN\, Mladá Boleslav\, Česká republika
CATEGORIES:Koncert
ATTACH;FMTTYPE=image/jpeg:https://nasejiznimorava.cz/wp-content/uploads/2025/11/320-0df037c6721e4ac1adb2b0af6c38bc2f.jpg
END:VEVENT
BEGIN:VEVENT
DTSTART;TZID=Europe/Prague:20251115T190000
DTEND;TZID=Europe/Prague:20251115T220000
DTSTAMP:20260421T200314
CREATED:20251111T134329Z
LAST-MODIFIED:20251111T134330Z
UID:37414-1763233200-1763244000@nasejiznimorava.cz
SUMMARY:Metanol: Procitáš Tour - Mladá Boleslav
DESCRIPTION:Metanol: Procitáš Tour – Mladá Boleslav se uskuteční dne 2025-11-15 v 19:00 v Mladá Boleslav\, Willax Klub HEINEKEN. \n🎟️ Koupit vstupenku \n\nPROCITÁŠ TOUR 2025 | \nTři výrazné kapely české rockové a metalové scény – Metanol\, Mantra a Define Me – vyráží vůbec poprvé společně na turné pod názvem PROCITÁŠ! \nPřijď zažít večer plný silných textů\, nezaměnitelné atmosféry a kapel\, které nehrají jen hudbu – ale prožívají ji s vámi. Tohle bude víc než koncert. Tohle je probuzení. \n250\,- v předprodeji 300\,- na místě \n\nTento tip na kulturní akci v Mladá Boleslav najdete v přehledu na nasejiznimorava.cz kde na jednom místě shromažďujeme desítky dalších koncertů\, festivalů\, divadelních představení i komunitních událostí z celého regionu i z celé ČR. Přehled je přehledně řazený\, pravidelně aktualizovaný a umožní vám rychle najít přesně to\, co vás zajímá – od velkých open-air akcí až po menší lokální programy. Každý si tak snadno vybere podle svého vkusu i času. Pokud vás některá akce zaujme\, nezapomeňte si včas zajistit vstupenky; stačí kliknout na detail události a budete bezpečně přesměrováni na oficiálního prodejce vstupenek..
URL:https://nasejiznimorava.cz/event/metanol-procitas-tour-mlada-boleslav/
LOCATION:Willax Klub HEINEKEN\, Mladá Boleslav\, Willax Klub HEINEKEN\, Mladá Boleslav\, Česká republika
CATEGORIES:Koncert
ATTACH;FMTTYPE=image/jpeg:https://nasejiznimorava.cz/wp-content/uploads/2025/11/320-7d3772d4afb84d59b76c4ece760bd317.jpg
END:VEVENT
BEGIN:VEVENT
DTSTART;TZID=Europe/Prague:20251113T190000
DTEND;TZID=Europe/Prague:20251113T220000
DTSTAMP:20260421T200314
CREATED:20251111T123924Z
LAST-MODIFIED:20251111T123924Z
UID:36156-1763060400-1763071200@nasejiznimorava.cz
SUMMARY:Koncert filmové hudby | Mladá Boleslav
DESCRIPTION:Koncert filmové hudby | Mladá Boleslav se uskuteční dne 2025-11-13 v 19:00 v Mladá Boleslav\, Dům kultury. \n🎟️ Koupit vstupenku \n\nSmyčce Pražského filmového orchestru pod taktovkou dirigenta Jiřího Korynty přináší velkolepý koncert\, který představí Dům kultury v Mladé Boleslavi! \nDiváci se mohou těšit na skladby z filmů Star Wars\, Pán Prstenů\, Games of Thrones\, Harry Potter\, Piráti z Karibiku a další známé melodie stříbrného plátna. \nKoncert bude bohatý na fantastickou filmovou hudbu od světově známých hudebních skladatelů\, jakými jsou např. John Williams\, Hans Zimmer\, Howard Shore nebo James Horner.  \n\nTento tip na kulturní akci v Mladá Boleslav najdete v přehledu na nasejiznimorava.cz kde na jednom místě shromažďujeme desítky dalších koncertů\, festivalů\, divadelních představení i komunitních událostí z celého regionu i z celé ČR. Přehled je přehledně řazený\, pravidelně aktualizovaný a umožní vám rychle najít přesně to\, co vás zajímá – od velkých open-air akcí až po menší lokální programy. Každý si tak snadno vybere podle svého vkusu i času. Pokud vás některá akce zaujme\, nezapomeňte si včas zajistit vstupenky; stačí kliknout na detail události a budete bezpečně přesměrováni na oficiálního prodejce vstupenek..
URL:https://nasejiznimorava.cz/event/koncert-filmove-hudby-mlada-boleslav/
LOCATION:Dům kultury\, Mladá Boleslav\, Dům kultury\, Mladá Boleslav\, Česká republika
CATEGORIES:Koncert
ATTACH;FMTTYPE=image/jpeg:https://nasejiznimorava.cz/wp-content/uploads/2025/11/320-0fd2a5f39f6e4bf0a94445f29a9a59ef.jpg
END:VEVENT
BEGIN:VEVENT
DTSTART;TZID=Europe/Prague:20251112T190000
DTEND;TZID=Europe/Prague:20251112T220000
DTSTAMP:20260421T200314
CREATED:20251111T164725Z
LAST-MODIFIED:20251111T164725Z
UID:38352-1762974000-1762984800@nasejiznimorava.cz
SUMMARY:Žlutá žába pluje do Mongolska
DESCRIPTION:Žlutá žába pluje do Mongolska se uskuteční dne 2025-11-12 v 19:00 v Mladá Boleslav\, DK Mladá Boleslav. \n🎟️ Koupit vstupenku \n\nŽlutá žába pluje do Mongolska – nejnovější výprava žlutého cirkusu! Neuvěřitelná cesta autem\, jaký svět neviděl\, do míst\, kam se málokdo podívá. Autem\, které špatně jezdí\, zato špatně plave. Žlutý cirkus dostal další dobrý nápad! Mělo to být jednoduché\, rychlé a levné a dopadlo to jako vždycky! Cesta\, kde nic nejde podle plánu\, a kde je potřeba se naučit všechno znovu od začátku\, cesta přes spoustu rovnoběžek a poledníků\, delší\, zato horší trasou z Česka až do Mongolska. Přes absurdní totality\, šílené diktátory\, žhavé pouště\, vysoké hory až do nekonečných plání\, kde se malé žluté auto snadno ztratí… ale neztratili jsme se a stálo to za to! \n\nTento tip na kulturní akci v Mladá Boleslav najdete v přehledu na nasejiznimorava.cz kde na jednom místě shromažďujeme desítky dalších koncertů\, festivalů\, divadelních představení i komunitních událostí z celého regionu i z celé ČR. Přehled je přehledně řazený\, pravidelně aktualizovaný a umožní vám rychle najít přesně to\, co vás zajímá – od velkých open-air akcí až po menší lokální programy. Každý si tak snadno vybere podle svého vkusu i času. Pokud vás některá akce zaujme\, nezapomeňte si včas zajistit vstupenky; stačí kliknout na detail události a budete bezpečně přesměrováni na oficiálního prodejce vstupenek..
URL:https://nasejiznimorava.cz/event/zluta-zaba-pluje-do-mongolska-5/
LOCATION:DK Mladá Boleslav\, Mladá Boleslav\, DK Mladá Boleslav\, Mladá Boleslav\, Česká republika
CATEGORIES:Zábava
ATTACH;FMTTYPE=image/jpeg:https://nasejiznimorava.cz/wp-content/uploads/2025/11/320-50966de79a434fc2955ef1ba15f06c4a.jpg
END:VEVENT
END:VCALENDAR