BEGIN:VCALENDAR
VERSION:2.0
PRODID:-// „Objev místa, kde se dobře pije, krásně spí a skvěle žije“  - ECPv6.15.20//NONSGML v1.0//EN
CALSCALE:GREGORIAN
METHOD:PUBLISH
X-ORIGINAL-URL:https://nasejiznimorava.cz
X-WR-CALDESC:Akce na  „Objev místa, kde se dobře pije, krásně spí a skvěle žije“ 
REFRESH-INTERVAL;VALUE=DURATION:PT1H
X-Robots-Tag:noindex
X-PUBLISHED-TTL:PT1H
BEGIN:VTIMEZONE
TZID:Europe/Prague
BEGIN:DAYLIGHT
TZOFFSETFROM:+0100
TZOFFSETTO:+0200
TZNAME:CEST
DTSTART:20250330T010000
END:DAYLIGHT
BEGIN:STANDARD
TZOFFSETFROM:+0200
TZOFFSETTO:+0100
TZNAME:CET
DTSTART:20251026T010000
END:STANDARD
BEGIN:DAYLIGHT
TZOFFSETFROM:+0100
TZOFFSETTO:+0200
TZNAME:CEST
DTSTART:20260329T010000
END:DAYLIGHT
BEGIN:STANDARD
TZOFFSETFROM:+0200
TZOFFSETTO:+0100
TZNAME:CET
DTSTART:20261025T010000
END:STANDARD
BEGIN:DAYLIGHT
TZOFFSETFROM:+0100
TZOFFSETTO:+0200
TZNAME:CEST
DTSTART:20270328T010000
END:DAYLIGHT
BEGIN:STANDARD
TZOFFSETFROM:+0200
TZOFFSETTO:+0100
TZNAME:CET
DTSTART:20271031T010000
END:STANDARD
END:VTIMEZONE
BEGIN:VEVENT
DTSTART;TZID=Europe/Prague:20260512T190000
DTEND;TZID=Europe/Prague:20260512T220000
DTSTAMP:20260422T001403
CREATED:20251222T193836Z
LAST-MODIFIED:20251222T193836Z
UID:40977-1778612400-1778623200@nasejiznimorava.cz
SUMMARY:ABBA a Beatles klasicky
DESCRIPTION:ABBA a Beatles klasicky se uskuteční dne 2026-05-12 v 19:00 v Mladá Boleslav\, Sbor českých bratří. \n🎟️ Koupit vstupenku \n\nV sále Sboru českých bratřích  pro Vás přípravujeme koncert\, kde na vás čekají vynikající aranže skvělých písniček od skupin ABBA a Beatles. \nStavba se řadí k nejstarším renesančním pseudobazilikám mimo Itálii a připomíná slavnou minulost města v 16. století\, kdy se stalo centrem Jednoty bratrské. Dnes slouží jako výstavní prostor a koncertní síň. \nKLÁROVO KVARTETO \nPavel Hrda – I. housle\, Josef Vychytil – II. housle\, Libor Kaňka – viola\, Václav Fleissig – violoncello \n  \nPROGRAM: \nBEATLES:                                            ABBA:                        \nAll you need is Love                           Dancing Queen \nObladi – oblada                                   S.O.S. \nYesterday                                             Waterloo \nI want to hold your hand                    Super Trouper  \nHey\, Jude                                             Fernando \nFrom me to you                                   Mamma mia \nShe loves you                                      Money\, money\, money \nOh\, darling \nSomething \nDizzy miss Lizzy \nLady Madonna \nA hard day´s Night \nDÉLKA cca 65 minut \n\nTento tip na kulturní akci v Mladá Boleslav najdete v přehledu na nasejiznimorava.cz kde na jednom místě shromažďujeme desítky dalších koncertů\, festivalů\, divadelních představení i komunitních událostí z celého regionu i z celé ČR. Přehled je přehledně řazený\, pravidelně aktualizovaný a umožní vám rychle najít přesně to\, co vás zajímá – od velkých open-air akcí až po menší lokální programy. Každý si tak snadno vybere podle svého vkusu i času. Pokud vás některá akce zaujme\, nezapomeňte si včas zajistit vstupenky; stačí kliknout na detail události a budete bezpečně přesměrováni na oficiálního prodejce vstupenek..
URL:https://nasejiznimorava.cz/event/abba-a-beatles-klasicky/
LOCATION:Sbor českých bratří\, Mladá Boleslav\, Sbor českých bratří\, Mladá Boleslav\, Česká republika
CATEGORIES:Koncert
ATTACH;FMTTYPE=image/jpeg:https://nasejiznimorava.cz/wp-content/uploads/2025/12/320-c2e4516fbac243bca3d3984a2c334802.jpg
END:VEVENT
BEGIN:VEVENT
DTSTART;TZID=Europe/Prague:20260513T190000
DTEND;TZID=Europe/Prague:20260513T220000
DTSTAMP:20260422T001403
CREATED:20260211T100317Z
LAST-MODIFIED:20260211T100317Z
UID:42163-1778698800-1778709600@nasejiznimorava.cz
SUMMARY:ŠVANCI SHOW - JÁ SU JÁ - Mladá Boleslav
DESCRIPTION:ŠVANCI SHOW – JÁ SU JÁ – Mladá Boleslav se uskuteční dne 2026-05-13 v 19:00 v Mladá Boleslav\, Dům kultury. \n🎟️ Koupit vstupenku \n\nNová zábavná show „JÁ SU JÁ“ vyráží na TOUR po celé České republice. \nČekají vás vtipné historky\, od kariéry fotbalisty\, velkolepé rozlučky za Lužánkami\, návštěv různých zábavních pořadů\, až po účast v reality show Survivor. Dále se těšte na prostor pro otázky na tělo\, autogramiádu\, focení a mnoho dalšího. \nJak moc dobře mě znáš? Jak vypadá můj život po kariéře fotbalisty? Chceš znát více informací o reality show Surviror? \nNejen to se dozvíš ve zbrusu nové zábavné show „JÁ SU JÁ“. \nPřijď se podívat a užít si legraci\, popovídat si s legendou fotbalu\, moderátorem\, bavičem a dát si třeba fotku\, nebo si nechat cokoliv podepsat. \nPořad není vhodný mladším 15 let! \n\nTento tip na kulturní akci v Mladá Boleslav najdete v přehledu na nasejiznimorava.cz kde na jednom místě shromažďujeme desítky dalších koncertů\, festivalů\, divadelních představení i komunitních událostí z celého regionu i z celé ČR. Přehled je přehledně řazený\, pravidelně aktualizovaný a umožní vám rychle najít přesně to\, co vás zajímá – od velkých open-air akcí až po menší lokální programy. Každý si tak snadno vybere podle svého vkusu i času. Pokud vás některá akce zaujme\, nezapomeňte si včas zajistit vstupenky; stačí kliknout na detail události a budete bezpečně přesměrováni na oficiálního prodejce vstupenek..
URL:https://nasejiznimorava.cz/event/svanci-show-ja-su-ja-mlada-boleslav/
LOCATION:Dům kultury\, Mladá Boleslav\, Dům kultury\, Mladá Boleslav\, Česká republika
CATEGORIES:Zábava
ATTACH;FMTTYPE=image/jpeg:https://nasejiznimorava.cz/wp-content/uploads/2026/02/320-67d67e3f2cb0424e940cab6c66f0125d.jpg
END:VEVENT
BEGIN:VEVENT
DTSTART;TZID=Europe/Prague:20260516T170000
DTEND;TZID=Europe/Prague:20260516T200000
DTSTAMP:20260422T001403
CREATED:20251214T082126Z
LAST-MODIFIED:20251214T082126Z
UID:40259-1778950800-1778961600@nasejiznimorava.cz
SUMMARY:KNIHA DŽUNGLÍ I Mladá Boleslav
DESCRIPTION:KNIHA DŽUNGLÍ I Mladá Boleslav se uskuteční dne 2026-05-16 v 17:00 v Mladá Boleslav\, DK Velký sál. \n🎟️ Koupit vstupenku \n\nMuzikál KNIHA DŽUNGLÍ – největší rodinný zážitek roku 2026! \nOd ledna 2026 přichází do 55 měst po celé České republice překvapení pro celou rodinu! Novinka od producentů rodinných muzikálů\, jako je Popelka\, Alenka v říši divů či Vánoční loupež. \nČeká vás příběh plný emocí\, hudby\, smíchu i napětí – a to přímo ve vašem městě! \nSeznámíte se s odvážným Mauglím\, moudrým vlčím vůdcem Akélou\, ušlechtilým a statečným panterem Baghírou\, rozverným medvědem Balúem\, jehož kostým je jediný svého druhu v Evropě! Velkolepý dojem zanechá také obrovský král opic – gorila Ludvík v unikátním kostýmu. \nObrovským lákadlem je jedinečný kostým Hada KAA\, jaký jste ještě nikdy neviděli! \nO napětí se postará nelítostný tygr Šerchán\, jeho komicko-zákeřný společník hyena Tabaki\, a atmosféru odlehčí i vtipný a upovídaný papoušek a další známá zvířata. \n Spolu s projekcemi a dechberoucími vizuálními efekty se ocitnete přímo uprostřed kouzelné džungle. \nDěti se stanou součástí představení – pomohou Mauglímu zahnat Šerchána nebo najít med pro medvěda Balů\,  a společně s herci dotvářet kouzelný příběh. \nInteraktivní část vás vtáhne do děje – zvířata z džungle se objeví nejen na jevišti\, ale i mezi dětmi v hledišti\, aby si každý mohl zažít pocit\, že je součástí příběhu. \nSpeciální bonus: Každé dítě dostane ke vstupence zvířecí masku dle vlastního výběru.A po představení čeká malé diváky jedinečná možnost vyfotit se přímo na jevišti s herci v kostýmech! \n  \nTip na vánoční dárek!Darujte svým dětem a celé rodině nezapomenutelný zážitek – vstupenky na muzikál\, o kterém se bude mluvit ještě dlouho. \nToto není jen muzikál. Je to největší zážitek u vás doma\, ve vašem městě! \nPředprodej vstupenek spuštěn právě teď – kapacita je omezená.Kupte si vstupenky v síti smsticket a buďte u muzikálové události roku 2026! \n\nTento tip na kulturní akci v Mladá Boleslav najdete v přehledu na nasejiznimorava.cz kde na jednom místě shromažďujeme desítky dalších koncertů\, festivalů\, divadelních představení i komunitních událostí z celého regionu i z celé ČR. Přehled je přehledně řazený\, pravidelně aktualizovaný a umožní vám rychle najít přesně to\, co vás zajímá – od velkých open-air akcí až po menší lokální programy. Každý si tak snadno vybere podle svého vkusu i času. Pokud vás některá akce zaujme\, nezapomeňte si včas zajistit vstupenky; stačí kliknout na detail události a budete bezpečně přesměrováni na oficiálního prodejce vstupenek..
URL:https://nasejiznimorava.cz/event/kniha-dzungli-i-mlada-boleslav/
LOCATION:DK Velký sál\, Mladá Boleslav\, DK Velký sál\, Mladá Boleslav\, Česká republika
CATEGORIES:Divadlo
ATTACH;FMTTYPE=image/jpeg:https://nasejiznimorava.cz/wp-content/uploads/2025/12/320-4f8eaf74860d4615bc19daa4d55d4112.jpg
END:VEVENT
BEGIN:VEVENT
DTSTART;TZID=Europe/Prague:20260616T190000
DTEND;TZID=Europe/Prague:20260616T220000
DTSTAMP:20260422T001403
CREATED:20260107T082205Z
LAST-MODIFIED:20260107T082206Z
UID:41372-1781636400-1781647200@nasejiznimorava.cz
SUMMARY:Tigran Hovakimyan - Tigran je ve městě - Mladá Boleslav
DESCRIPTION:Tigran Hovakimyan – Tigran je ve městě – Mladá Boleslav se uskuteční dne 2026-06-16 v 19:00 v Mladá Boleslav\, Dům kultury. \n🎟️ Koupit vstupenku \n\nTigran Hovakimyan pochází z Arménie\, mluví čtyřmi jazyky a za sebou má pestrou škálu životních i pracovních zkušeností. Než zakotvil u stand-up comedy\, vyzkoušel řadu zaměstnání a působil jako amatérský herec v dětském divadle. Právě tam se naučil vnímat publikum\, reagovat na jeho energii a přirozeně pracovat s humorem. \nZ dětského jeviště zamířil na stand-up pódia\, kde se může spolehnout jen na sebe – a to mu vyhovuje nejvíc. V roce 2026 vyráží na svou dosud největší stand-up tour napříč Českou republikou se svým speciálem Tigran je ve městě. \nČeká vás večer plný originálního humoru\, osobitých postřehů\, nečekaných point a energie\, která vás nenechá v klidu sedět! \nNa každém vystoupení se představí jako předskokan některý z českých stand-up komiků. \n\nTento tip na kulturní akci v Mladá Boleslav najdete v přehledu na nasejiznimorava.cz kde na jednom místě shromažďujeme desítky dalších koncertů\, festivalů\, divadelních představení i komunitních událostí z celého regionu i z celé ČR. Přehled je přehledně řazený\, pravidelně aktualizovaný a umožní vám rychle najít přesně to\, co vás zajímá – od velkých open-air akcí až po menší lokální programy. Každý si tak snadno vybere podle svého vkusu i času. Pokud vás některá akce zaujme\, nezapomeňte si včas zajistit vstupenky; stačí kliknout na detail události a budete bezpečně přesměrováni na oficiálního prodejce vstupenek..
URL:https://nasejiznimorava.cz/event/tigran-hovakimyan-tigran-je-ve-meste-mlada-boleslav/
LOCATION:Dům kultury\, Mladá Boleslav\, Dům kultury\, Mladá Boleslav\, Česká republika
CATEGORIES:Zábava
ATTACH;FMTTYPE=image/jpeg:https://nasejiznimorava.cz/wp-content/uploads/2026/01/320-d7a722e018f549019e80877e12937a8b.jpg
END:VEVENT
BEGIN:VEVENT
DTSTART;TZID=Europe/Prague:20261201T190000
DTEND;TZID=Europe/Prague:20261201T220000
DTSTAMP:20260422T001403
CREATED:20260403T083929Z
LAST-MODIFIED:20260403T083930Z
UID:42720-1796151600-1796162400@nasejiznimorava.cz
SUMMARY:Pocta Haně Hegerové v Mladé Boleslavi
DESCRIPTION:Pocta Haně Hegerové v Mladé Boleslavi se uskuteční dne 2026-12-01 v 19:00 v Mladá Boleslav\, Dům kultury. \n🎟️ Koupit vstupenku \n\nHudební zážitek\, na který jen tak nezapomenete. Budete plakat\, smát se\, a mít husí kůži po těle. \nLegendární dílo Hany Hegerové v podání Zuzany Němcové Šmejkalové. Zpěvačka s hlubokým\, sametovým hlasem a intenzivním hereckým projevem přináší osobitou interpretaci ikonických písní první dámy československého šansonu. \nVečer plný mistrovské klavírní hry Doubravky Linhartové a rafinovaných bubenických rytmů Jakuba Němce slibuje výjimečný umělecký zážitek\, který s úctou nahlédne do díla Hany Hegerové a zasáhne i ty nejcitlivější struny vaší duše. \nPřijďte vzdát hold legendě a prožít znovu její písně. \n„Ať žije Hegerová!“ \n\nTento tip na kulturní akci v Mladá Boleslav najdete v přehledu na nasejiznimorava.cz kde na jednom místě shromažďujeme desítky dalších koncertů\, festivalů\, divadelních představení i komunitních událostí z celého regionu i z celé ČR. Přehled je přehledně řazený\, pravidelně aktualizovaný a umožní vám rychle najít přesně to\, co vás zajímá – od velkých open-air akcí až po menší lokální programy. Každý si tak snadno vybere podle svého vkusu i času. Pokud vás některá akce zaujme\, nezapomeňte si včas zajistit vstupenky; stačí kliknout na detail události a budete bezpečně přesměrováni na oficiálního prodejce vstupenek..
URL:https://nasejiznimorava.cz/event/pocta-hane-hegerove-v-mlade-boleslavi/
LOCATION:Dům kultury\, Mladá Boleslav\, Dům kultury\, Mladá Boleslav\, Česká republika
CATEGORIES:Koncert
ATTACH;FMTTYPE=image/jpeg:https://nasejiznimorava.cz/wp-content/uploads/2026/04/320-a6770c9378404f34afbf6fb6ab310ba0.jpg
END:VEVENT
END:VCALENDAR