BEGIN:VCALENDAR
VERSION:2.0
PRODID:-// „Objev místa, kde se dobře pije, krásně spí a skvěle žije“  - ECPv6.15.20//NONSGML v1.0//EN
CALSCALE:GREGORIAN
METHOD:PUBLISH
X-ORIGINAL-URL:https://nasejiznimorava.cz
X-WR-CALDESC:Akce na  „Objev místa, kde se dobře pije, krásně spí a skvěle žije“ 
REFRESH-INTERVAL;VALUE=DURATION:PT1H
X-Robots-Tag:noindex
X-PUBLISHED-TTL:PT1H
BEGIN:VTIMEZONE
TZID:Europe/Prague
BEGIN:DAYLIGHT
TZOFFSETFROM:+0100
TZOFFSETTO:+0200
TZNAME:CEST
DTSTART:20250330T010000
END:DAYLIGHT
BEGIN:STANDARD
TZOFFSETFROM:+0200
TZOFFSETTO:+0100
TZNAME:CET
DTSTART:20251026T010000
END:STANDARD
BEGIN:DAYLIGHT
TZOFFSETFROM:+0100
TZOFFSETTO:+0200
TZNAME:CEST
DTSTART:20260329T010000
END:DAYLIGHT
BEGIN:STANDARD
TZOFFSETFROM:+0200
TZOFFSETTO:+0100
TZNAME:CET
DTSTART:20261025T010000
END:STANDARD
BEGIN:DAYLIGHT
TZOFFSETFROM:+0100
TZOFFSETTO:+0200
TZNAME:CEST
DTSTART:20270328T010000
END:DAYLIGHT
BEGIN:STANDARD
TZOFFSETFROM:+0200
TZOFFSETTO:+0100
TZNAME:CET
DTSTART:20271031T010000
END:STANDARD
END:VTIMEZONE
BEGIN:VEVENT
DTSTART;TZID=Europe/Prague:20260603T190000
DTEND;TZID=Europe/Prague:20260603T220000
DTSTAMP:20260421T130629
CREATED:20260107T082149Z
LAST-MODIFIED:20260107T082155Z
UID:41362-1780513200-1780524000@nasejiznimorava.cz
SUMMARY:Tigran Hovakimyan - Tigran je ve městě - Náchod
DESCRIPTION:Tigran Hovakimyan – Tigran je ve městě – Náchod se uskuteční dne 2026-06-03 v 19:00 v Náchod\, Městské divadlo Dr. Josefa Čížka. \n🎟️ Koupit vstupenku \n\nTigran Hovakimyan pochází z Arménie\, mluví čtyřmi jazyky a za sebou má pestrou škálu životních i pracovních zkušeností. Než zakotvil u stand-up comedy\, vyzkoušel řadu zaměstnání a působil jako amatérský herec v dětském divadle. Právě tam se naučil vnímat publikum\, reagovat na jeho energii a přirozeně pracovat s humorem. \nZ dětského jeviště zamířil na stand-up pódia\, kde se může spolehnout jen na sebe – a to mu vyhovuje nejvíc. V roce 2026 vyráží na svou dosud největší stand-up tour napříč Českou republikou se svým speciálem Tigran je ve městě. \nČeká vás večer plný originálního humoru\, osobitých postřehů\, nečekaných point a energie\, která vás nenechá v klidu sedět! \nNa každém vystoupení se představí jako předskokan některý z českých stand-up komiků. \n\nTento tip na kulturní akci v Náchod najdete v přehledu na nasejiznimorava.cz kde na jednom místě shromažďujeme desítky dalších koncertů\, festivalů\, divadelních představení i komunitních událostí z celého regionu i z celé ČR. Přehled je přehledně řazený\, pravidelně aktualizovaný a umožní vám rychle najít přesně to\, co vás zajímá – od velkých open-air akcí až po menší lokální programy. Každý si tak snadno vybere podle svého vkusu i času. Pokud vás některá akce zaujme\, nezapomeňte si včas zajistit vstupenky; stačí kliknout na detail události a budete bezpečně přesměrováni na oficiálního prodejce vstupenek..
URL:https://nasejiznimorava.cz/event/tigran-hovakimyan-tigran-je-ve-meste-nachod/
LOCATION:Městské divadlo Dr. Josefa Čížka\, Náchod\, Městské divadlo Dr. Josefa Čížka\, Náchod\, Česká republika
CATEGORIES:Zábava
ATTACH;FMTTYPE=image/jpeg:https://nasejiznimorava.cz/wp-content/uploads/2026/01/320-96a6bea37dc34b559b87211627a60adf.jpg
END:VEVENT
BEGIN:VEVENT
DTSTART;TZID=Europe/Prague:20261020T190000
DTEND;TZID=Europe/Prague:20261020T220000
DTSTAMP:20260421T130629
CREATED:20260309T081657Z
LAST-MODIFIED:20260309T081657Z
UID:42340-1792522800-1792533600@nasejiznimorava.cz
SUMMARY:Miloš Knor - Jiná doba - Náchod
DESCRIPTION:Miloš Knor – Jiná doba – Náchod se uskuteční dne 2026-10-20 v 19:00 v Náchod\, Městské divadlo Dr. Josefa Čížka. \n🎟️ Koupit vstupenku \n\nSvět se stále mění a doba je pořád jiná. Každý dnem\, hodinou\, okamžikem. Nic není jak bylo a nic nebude jak je. Humorný pohled na civilizační pokrok vám Miloš Knor ve své 90 minutové show popíše na několika příkladech. Jaký byl život bez telefonu\, stará dobrá analogová hádka a zachrání nás ekofašismus? Potřebuje auto tlačítko se snižováním výkonu? Bylo líp? Je? Bude? \nTaková je zbrusu nová Stand-up comedy show Miloše Knora.  \n!Vhodné pro všechny věkové kategorie od 18 let. I když\, teď je všechno jinak!  \n\nTento tip na kulturní akci v Náchod najdete v přehledu na nasejiznimorava.cz kde na jednom místě shromažďujeme desítky dalších koncertů\, festivalů\, divadelních představení i komunitních událostí z celého regionu i z celé ČR. Přehled je přehledně řazený\, pravidelně aktualizovaný a umožní vám rychle najít přesně to\, co vás zajímá – od velkých open-air akcí až po menší lokální programy. Každý si tak snadno vybere podle svého vkusu i času. Pokud vás některá akce zaujme\, nezapomeňte si včas zajistit vstupenky; stačí kliknout na detail události a budete bezpečně přesměrováni na oficiálního prodejce vstupenek..
URL:https://nasejiznimorava.cz/event/milos-knor-jina-doba-nachod/
LOCATION:Městské divadlo Dr. Josefa Čížka\, Náchod\, Městské divadlo Dr. Josefa Čížka\, Náchod\, Česká republika
CATEGORIES:Zábava
ATTACH;FMTTYPE=image/jpeg:https://nasejiznimorava.cz/wp-content/uploads/2026/03/320-23e4b9f2254e482abfbfa5dd69a980ed.jpg
END:VEVENT
END:VCALENDAR