BEGIN:VCALENDAR
VERSION:2.0
PRODID:-// „Objev místa, kde se dobře pije, krásně spí a skvěle žije“  - ECPv6.15.20//NONSGML v1.0//EN
CALSCALE:GREGORIAN
METHOD:PUBLISH
X-WR-CALNAME: „Objev místa, kde se dobře pije, krásně spí a skvěle žije“ 
X-ORIGINAL-URL:https://nasejiznimorava.cz
X-WR-CALDESC:Akce na  „Objev místa, kde se dobře pije, krásně spí a skvěle žije“ 
REFRESH-INTERVAL;VALUE=DURATION:PT1H
X-Robots-Tag:noindex
X-PUBLISHED-TTL:PT1H
BEGIN:VTIMEZONE
TZID:Europe/Prague
BEGIN:DAYLIGHT
TZOFFSETFROM:+0100
TZOFFSETTO:+0200
TZNAME:CEST
DTSTART:20250330T010000
END:DAYLIGHT
BEGIN:STANDARD
TZOFFSETFROM:+0200
TZOFFSETTO:+0100
TZNAME:CET
DTSTART:20251026T010000
END:STANDARD
BEGIN:DAYLIGHT
TZOFFSETFROM:+0100
TZOFFSETTO:+0200
TZNAME:CEST
DTSTART:20260329T010000
END:DAYLIGHT
BEGIN:STANDARD
TZOFFSETFROM:+0200
TZOFFSETTO:+0100
TZNAME:CET
DTSTART:20261025T010000
END:STANDARD
BEGIN:DAYLIGHT
TZOFFSETFROM:+0100
TZOFFSETTO:+0200
TZNAME:CEST
DTSTART:20270328T010000
END:DAYLIGHT
BEGIN:STANDARD
TZOFFSETFROM:+0200
TZOFFSETTO:+0100
TZNAME:CET
DTSTART:20271031T010000
END:STANDARD
END:VTIMEZONE
BEGIN:VEVENT
DTSTART;TZID=Europe/Prague:20260419T190000
DTEND;TZID=Europe/Prague:20260419T220000
DTSTAMP:20260419T205048
CREATED:20251217T151200Z
LAST-MODIFIED:20251217T151200Z
UID:40645-1776625200-1776636000@nasejiznimorava.cz
SUMMARY:Polib tetičku aneb Nikdo není bez chyby
DESCRIPTION:Polib tetičku aneb Nikdo není bez chyby se uskuteční dne 2026-04-19 v 19:00 v Olomouc\, Reduta. \n🎟️ Koupit vstupenku \n\nJan  ČENSKÝ v květovaných šatech a šedivé paruce řádí na jevišti v bláznivé anglické komedii s nespoutaným dějem plným převleků\, svérázného humoru i nezbytného milostného motivu. \nHrají:  Jan ČENSKÝ\,  Miroslava PLEŠTILOVÁ\,  Luděk NEŠLEHA\, Eliška JANSOVÁ / Anna Marie MAROUŠKOVÁ.                                              \n\nTento tip na kulturní akci v Olomouc najdete v přehledu na nasejiznimorava.cz kde na jednom místě shromažďujeme desítky dalších koncertů\, festivalů\, divadelních představení i komunitních událostí z celého regionu i z celé ČR. Přehled je přehledně řazený\, pravidelně aktualizovaný a umožní vám rychle najít přesně to\, co vás zajímá – od velkých open-air akcí až po menší lokální programy. Každý si tak snadno vybere podle svého vkusu i času. Pokud vás některá akce zaujme\, nezapomeňte si včas zajistit vstupenky; stačí kliknout na detail události a budete bezpečně přesměrováni na oficiálního prodejce vstupenek..
URL:https://nasejiznimorava.cz/event/polib-teticku-aneb-nikdo-neni-bez-chyby-2/
LOCATION:Reduta\, Olomouc\, Reduta\, Olomouc\, Česká republika
CATEGORIES:Divadlo
ATTACH;FMTTYPE=image/jpeg:https://nasejiznimorava.cz/wp-content/uploads/2025/12/320-814e781465744323b169d4c82b8b0ecf.jpg
END:VEVENT
BEGIN:VEVENT
DTSTART;TZID=Europe/Prague:20260419T190000
DTEND;TZID=Europe/Prague:20260419T220000
DTSTAMP:20260419T205048
CREATED:20251217T151200Z
LAST-MODIFIED:20251217T151200Z
UID:40646-1776625200-1776636000@nasejiznimorava.cz
SUMMARY:Polib tetičku aneb Nikdo není bez chyby
DESCRIPTION:Polib tetičku aneb Nikdo není bez chyby se uskuteční dne 2026-04-19 v 19:00 v Olomouc\, Reduta. \n🎟️ Koupit vstupenku \n\nJan  ČENSKÝ v květovaných šatech a šedivé paruce řádí na jevišti v bláznivé anglické komedii s nespoutaným dějem plným převleků\, svérázného humoru i nezbytného milostného motivu. \nHrají:  Jan ČENSKÝ\,  Miroslava PLEŠTILOVÁ\,  Luděk NEŠLEHA\, Eliška JANSOVÁ / Anna Marie MAROUŠKOVÁ.                                              \n\nTento tip na kulturní akci v Olomouc najdete v přehledu na nasejiznimorava.cz kde na jednom místě shromažďujeme desítky dalších koncertů\, festivalů\, divadelních představení i komunitních událostí z celého regionu i z celé ČR. Přehled je přehledně řazený\, pravidelně aktualizovaný a umožní vám rychle najít přesně to\, co vás zajímá – od velkých open-air akcí až po menší lokální programy. Každý si tak snadno vybere podle svého vkusu i času. Pokud vás některá akce zaujme\, nezapomeňte si včas zajistit vstupenky; stačí kliknout na detail události a budete bezpečně přesměrováni na oficiálního prodejce vstupenek..
URL:https://nasejiznimorava.cz/event/polib-teticku-aneb-nikdo-neni-bez-chyby-3/
LOCATION:Reduta\, Olomouc\, Reduta\, Olomouc\, Česká republika
CATEGORIES:Divadlo
ATTACH;FMTTYPE=image/jpeg:https://nasejiznimorava.cz/wp-content/uploads/2025/12/320-814e781465744323b169d4c82b8b0ecf-1.jpg
END:VEVENT
END:VCALENDAR