BEGIN:VCALENDAR
VERSION:2.0
PRODID:-// „Objev místa, kde se dobře pije, krásně spí a skvěle žije“  - ECPv6.15.20//NONSGML v1.0//EN
CALSCALE:GREGORIAN
METHOD:PUBLISH
X-WR-CALNAME: „Objev místa, kde se dobře pije, krásně spí a skvěle žije“ 
X-ORIGINAL-URL:https://nasejiznimorava.cz
X-WR-CALDESC:Akce na  „Objev místa, kde se dobře pije, krásně spí a skvěle žije“ 
REFRESH-INTERVAL;VALUE=DURATION:PT1H
X-Robots-Tag:noindex
X-PUBLISHED-TTL:PT1H
BEGIN:VTIMEZONE
TZID:Europe/Prague
BEGIN:DAYLIGHT
TZOFFSETFROM:+0100
TZOFFSETTO:+0200
TZNAME:CEST
DTSTART:20250330T010000
END:DAYLIGHT
BEGIN:STANDARD
TZOFFSETFROM:+0200
TZOFFSETTO:+0100
TZNAME:CET
DTSTART:20251026T010000
END:STANDARD
BEGIN:DAYLIGHT
TZOFFSETFROM:+0100
TZOFFSETTO:+0200
TZNAME:CEST
DTSTART:20260329T010000
END:DAYLIGHT
BEGIN:STANDARD
TZOFFSETFROM:+0200
TZOFFSETTO:+0100
TZNAME:CET
DTSTART:20261025T010000
END:STANDARD
BEGIN:DAYLIGHT
TZOFFSETFROM:+0100
TZOFFSETTO:+0200
TZNAME:CEST
DTSTART:20270328T010000
END:DAYLIGHT
BEGIN:STANDARD
TZOFFSETFROM:+0200
TZOFFSETTO:+0100
TZNAME:CET
DTSTART:20271031T010000
END:STANDARD
END:VTIMEZONE
BEGIN:VEVENT
DTSTART;TZID=Europe/Prague:20260905T123000
DTEND;TZID=Europe/Prague:20260905T153000
DTSTAMP:20260421T130624
CREATED:20260402T184225Z
LAST-MODIFIED:20260402T184226Z
UID:42642-1788611400-1788622200@nasejiznimorava.cz
SUMMARY:ROCKFEST #vPOHO 2026
DESCRIPTION:ROCKFEST #vPOHO 2026 se uskuteční dne 2026-09-05 v 12:30 v Pohořelice\, Vojenské hřiště. \n🎟️ Koupit vstupenku \n\n18. ročník ROCKFEST #vPOHO se bude opět konat na našem novém místě\, na vojenském hřišti vedle „ARMY PARK“ v Pohořelicích. Po úspěšném loňském ročníku přivezeme opět silnou sestavu. ŠKWOR\, HARLEJ\, DOGA\, ALKEHOL\, DEBUSTROL\, !VVÚ\, X-CORE\, METAL FACTORY. Vzhledem k této sestavě připravíme opět větší areál pro Vaše pohodlí a zlepšíme vše na co jste nám dali tip. \nwww.rockfestvpoho.cz  \n\nTento tip na kulturní akci v Pohořelice najdete v přehledu na nasejiznimorava.cz kde na jednom místě shromažďujeme desítky dalších koncertů\, festivalů\, divadelních představení i komunitních událostí z celého regionu i z celé ČR. Přehled je přehledně řazený\, pravidelně aktualizovaný a umožní vám rychle najít přesně to\, co vás zajímá – od velkých open-air akcí až po menší lokální programy. Každý si tak snadno vybere podle svého vkusu i času. Pokud vás některá akce zaujme\, nezapomeňte si včas zajistit vstupenky; stačí kliknout na detail události a budete bezpečně přesměrováni na oficiálního prodejce vstupenek..
URL:https://nasejiznimorava.cz/event/rockfest-vpoho-2026/
LOCATION:Vojenské hřiště\, Pohořelice\, Vojenské hřiště\, Pohořelice\, Česká republika
CATEGORIES:Festival
ATTACH;FMTTYPE=image/jpeg:https://nasejiznimorava.cz/wp-content/uploads/2026/04/320-3057ecd692dc47baa1dce93529824580.jpg
END:VEVENT
BEGIN:VEVENT
DTSTART;TZID=Europe/Prague:20260920T190000
DTEND;TZID=Europe/Prague:20260920T220000
DTSTAMP:20260421T130624
CREATED:20260110T114244Z
LAST-MODIFIED:20260110T114245Z
UID:41499-1789930800-1789941600@nasejiznimorava.cz
SUMMARY:Techtle Mechtle revue - Haló\, tady máma
DESCRIPTION:Techtle Mechtle revue – Haló\, tady máma  se uskuteční dne 2026-09-20 v 19:00 v Pohořelice\, Kino. \n🎟️ Koupit vstupenku \n\nTravesti revue Techtle Mechtle v nové bláznivé hudební komedii \,\,Haló\, tady máma! \nTechtle Mechtle revue – to je aktuálně nejúspěšnější česká show na poli divadelní scény. Během roku odehraje až 200 repríz divadelních představení po celé České republice\, která jsou vyprodána dlouho dopředu. Kombinace muzikálu\, travesti show\, činohry a kabaretu\, díky které zažijete nezapomenutelný večer plný smíchu a hudby. Má to jen jeden háček – všechny role\, a to včetně těch dámských\, tu hrají pouze muži a ti jsou navíc k nerozeznání od skutečných žen\, což vám pěkně zamotá hlavu. \nPředstavení „Haló\, tady máma“ je bláznivá hudební komedie o tom\, co se stane\, když mateřská láska překročí všechny meze. Dan oslavuje 31. narozeniny a rozhodne se představit své excentrické matce svou novou lásku – Terezku\, milou vegetariánku. Jenže tchýně z toho není nadšená a rozhodne se\, že Danovi a jeho nastávající ukáže\, jak se správně starat o jejího synáčka. Když se tchyně nastěhuje k mladému páru a začne jim „vylepšovat“ život\, začíná hotové peklo plné hudby\, smíchu a bláznivých situací. \nDiváci se mohou těšit na energický příběh plný nečekaných zvratů\, vtipných písniček a jedné velmi rozhodné mámy\, která (možná) nakonec zjistí\, že každý má právo žít po svém. Tahle komedie vám ukáže\, že rodina může být trochu bláznivá\, ale láska si nakonec najde cestu – a to vše s humorem a úsměvem na rtech. Poznáte se v tomhle šíleném příběhu i vy sami? \nVíce informací a vstupenky najdete na www.techtlemechtlerevue.cz nebo Facebooku \nTechtle Mechtle revue – travesti show. \nPremiéra: 29. 5. 2026  \n \n\nTento tip na kulturní akci v Pohořelice najdete v přehledu na nasejiznimorava.cz kde na jednom místě shromažďujeme desítky dalších koncertů\, festivalů\, divadelních představení i komunitních událostí z celého regionu i z celé ČR. Přehled je přehledně řazený\, pravidelně aktualizovaný a umožní vám rychle najít přesně to\, co vás zajímá – od velkých open-air akcí až po menší lokální programy. Každý si tak snadno vybere podle svého vkusu i času. Pokud vás některá akce zaujme\, nezapomeňte si včas zajistit vstupenky; stačí kliknout na detail události a budete bezpečně přesměrováni na oficiálního prodejce vstupenek..
URL:https://nasejiznimorava.cz/event/techtle-mechtle-revue-halo-tady-mama/
LOCATION:Kino\, Pohořelice\, Kino\, Pohořelice\, Česká republika
CATEGORIES:Divadlo
ATTACH;FMTTYPE=image/jpeg:https://nasejiznimorava.cz/wp-content/uploads/2026/01/320-c6a807b0a4014656b4429d427be63a15.jpg
END:VEVENT
END:VCALENDAR