BEGIN:VCALENDAR
VERSION:2.0
PRODID:-// „Objev místa, kde se dobře pije, krásně spí a skvěle žije“  - ECPv6.15.20//NONSGML v1.0//EN
CALSCALE:GREGORIAN
METHOD:PUBLISH
X-ORIGINAL-URL:https://nasejiznimorava.cz
X-WR-CALDESC:Akce na  „Objev místa, kde se dobře pije, krásně spí a skvěle žije“ 
REFRESH-INTERVAL;VALUE=DURATION:PT1H
X-Robots-Tag:noindex
X-PUBLISHED-TTL:PT1H
BEGIN:VTIMEZONE
TZID:Europe/Prague
BEGIN:DAYLIGHT
TZOFFSETFROM:+0100
TZOFFSETTO:+0200
TZNAME:CEST
DTSTART:20250330T010000
END:DAYLIGHT
BEGIN:STANDARD
TZOFFSETFROM:+0200
TZOFFSETTO:+0100
TZNAME:CET
DTSTART:20251026T010000
END:STANDARD
BEGIN:DAYLIGHT
TZOFFSETFROM:+0100
TZOFFSETTO:+0200
TZNAME:CEST
DTSTART:20260329T010000
END:DAYLIGHT
BEGIN:STANDARD
TZOFFSETFROM:+0200
TZOFFSETTO:+0100
TZNAME:CET
DTSTART:20261025T010000
END:STANDARD
BEGIN:DAYLIGHT
TZOFFSETFROM:+0100
TZOFFSETTO:+0200
TZNAME:CEST
DTSTART:20270328T010000
END:DAYLIGHT
BEGIN:STANDARD
TZOFFSETFROM:+0200
TZOFFSETTO:+0100
TZNAME:CET
DTSTART:20271031T010000
END:STANDARD
END:VTIMEZONE
BEGIN:VEVENT
DTSTART;TZID=Europe/Prague:20260213T200000
DTEND;TZID=Europe/Prague:20260213T230000
DTSTAMP:20260421T142643
CREATED:20251112T161306Z
LAST-MODIFIED:20251112T161311Z
UID:38672-1771012800-1771023600@nasejiznimorava.cz
SUMMARY:ZNOUZECTNOST
DESCRIPTION:ZNOUZECTNOST se uskuteční dne 2026-02-13 v 20:00 v Svitavy\, Alternativní klub Tyjátr. \n🎟️ Koupit vstupenku \n\nZnouzectnost je svérázný mix punku\, šansonu\, folku\, undergroundu \na určitého archetypálního primitivismu\, ovlivněný především tradičním „tříakordovým“ písničkářstvím v kombinaci s osobitými texty\, majícími nejblíže k české „semaforské“ škole – občas hloubavými\, občas dadaistickými i syrově poetickými. \nSkupina vznikla v roce 1986 v Plzni\, inspirována přímočarou jednoduchostí tehdy nastupující nové hudební vlny\, dovolující hrát v podstatě každému\, kdo v sobě našel drzost vít do ruky hudební nástroj bez ohledu na to\, zda uměl či neuměl hrát. Šuplík daného žánru jí však časem začal být příliš těsný a postupně se přetavila \nve svéráznou a autentickou skupinu\, která si i mimo zájem médií dokázala získat přízeň velkého množství fanoušků\, inspirovala a ovlivnila vznik a tvorbu dalších hudebních skupin u nás\, odehrála přes 2000 klubových i festivalových vystoupení\, natočila čtrnáct řadových desek a dodnes funguje v zakládající sestavě: \nCaine – bicí\, zpěv ; Déma – kytara\, zpěv; Golda – baskytara\, zpěv. \nNa živých vystoupeních\, pojetím odlišných od studiových nahrávek\, provázených pábitelským a často velmi neprůhledně mystifikátorským uváděním písniček\, zaznívá průřez tvorbou od archivních písniček až po materiál ze zatím poslední desky „Beat simplicitas“. \nNa závěr zbývá dnes již památná věta jednoho z fanoušků kapely: \n„Kdyby Divadlo Járy Cimrmana bylo punková skupina\, vypadala by jako Znouzectnost.“ \n  \n  \n \n\nTento tip na kulturní akci v Svitavy najdete v přehledu na nasejiznimorava.cz kde na jednom místě shromažďujeme desítky dalších koncertů\, festivalů\, divadelních představení i komunitních událostí z celého regionu i z celé ČR. Přehled je přehledně řazený\, pravidelně aktualizovaný a umožní vám rychle najít přesně to\, co vás zajímá – od velkých open-air akcí až po menší lokální programy. Každý si tak snadno vybere podle svého vkusu i času. Pokud vás některá akce zaujme\, nezapomeňte si včas zajistit vstupenky; stačí kliknout na detail události a budete bezpečně přesměrováni na oficiálního prodejce vstupenek..
URL:https://nasejiznimorava.cz/event/znouzectnost/
LOCATION:Alternativní klub Tyjátr\, Svitavy\, Alternativní klub Tyjátr\, Svitavy\, Česká republika
CATEGORIES:Koncert
ATTACH;FMTTYPE=image/jpeg:https://nasejiznimorava.cz/wp-content/uploads/2025/11/320-3ffad3d551a74214a1ced78ec6fe9750.jpg
END:VEVENT
BEGIN:VEVENT
DTSTART;TZID=Europe/Prague:20260220T200000
DTEND;TZID=Europe/Prague:20260220T230000
DTSTAMP:20260421T142643
CREATED:20251215T114227Z
LAST-MODIFIED:20251215T114229Z
UID:40499-1771617600-1771628400@nasejiznimorava.cz
SUMMARY:Houba\, Volant\, Veselí Koníci\, Dukla Vozovna - Harrachov
DESCRIPTION:Houba\, Volant\, Veselí Koníci\, Dukla Vozovna – Harrachov se uskuteční dne 2026-02-20 v 20:00 v Harrachov\, Sklářská chalupa. \n🎟️ Koupit vstupenku \n\nPunkrock na horách! Houbu\, co zde vystoupí po 15 letech\, doplní Volant\, Dukla Vozovna a Veselí Koníci.  \n\nTento tip na kulturní akci v Harrachov najdete v přehledu na nasejiznimorava.cz kde na jednom místě shromažďujeme desítky dalších koncertů\, festivalů\, divadelních představení i komunitních událostí z celého regionu i z celé ČR. Přehled je přehledně řazený\, pravidelně aktualizovaný a umožní vám rychle najít přesně to\, co vás zajímá – od velkých open-air akcí až po menší lokální programy. Každý si tak snadno vybere podle svého vkusu i času. Pokud vás některá akce zaujme\, nezapomeňte si včas zajistit vstupenky; stačí kliknout na detail události a budete bezpečně přesměrováni na oficiálního prodejce vstupenek..
URL:https://nasejiznimorava.cz/event/houba-volant-veseli-konici-dukla-vozovna-harrachov/
LOCATION:Sklářská chalupa\, Harrachov\, Sklářská chalupa\, Harrachov\, Česká republika
CATEGORIES:Koncert
ATTACH;FMTTYPE=image/jpeg:https://nasejiznimorava.cz/wp-content/uploads/2025/12/320-366c6f03b40c46df93cc1feea474e649.jpg
END:VEVENT
BEGIN:VEVENT
DTSTART;TZID=Europe/Prague:20260227T200000
DTEND;TZID=Europe/Prague:20260227T230000
DTSTAMP:20260421T142643
CREATED:20251112T162024Z
LAST-MODIFIED:20251112T162027Z
UID:38700-1772222400-1772233200@nasejiznimorava.cz
SUMMARY:Buzzcocks (UK)
DESCRIPTION:Buzzcocks (UK) se uskuteční dne 2026-02-27 v 20:00 v Brno\, Fléda. \n🎟️ Koupit vstupenku \n\nLegendární britská punková kapela Buzzcocks slaví 50 let na scéně a při té příležitosti dorazí 27. února 2026 do brněnského klubu Fléda. Kapela\, která už od 70. let formuje podobu punku a inspirovala nespočet následovníků\, přiveze průřez největšími hity i energii\, díky níž zůstávají jednou z nejživějších ikon žánru. Nenechte si ujít výroční koncert\, který připomene půl století punkové historie. \n\nTento tip na kulturní akci v Brno najdete v přehledu na nasejiznimorava.cz kde na jednom místě shromažďujeme desítky dalších koncertů\, festivalů\, divadelních představení i komunitních událostí z celého regionu i z celé ČR. Přehled je přehledně řazený\, pravidelně aktualizovaný a umožní vám rychle najít přesně to\, co vás zajímá – od velkých open-air akcí až po menší lokální programy. Každý si tak snadno vybere podle svého vkusu i času. Pokud vás některá akce zaujme\, nezapomeňte si včas zajistit vstupenky; stačí kliknout na detail události a budete bezpečně přesměrováni na oficiálního prodejce vstupenek..
URL:https://nasejiznimorava.cz/event/buzzcocks-uk/
LOCATION:Fléda\, Brno\, Fléda\, Brno\, Česká republika
CATEGORIES:Koncert
ATTACH;FMTTYPE=image/jpeg:https://nasejiznimorava.cz/wp-content/uploads/2025/11/320-80215333feb2464da91b6e8ef558965b.jpg
END:VEVENT
BEGIN:VEVENT
DTSTART;TZID=Europe/Prague:20260227T203000
DTEND;TZID=Europe/Prague:20260227T233000
DTSTAMP:20260421T142643
CREATED:20251222T194003Z
LAST-MODIFIED:20251222T194004Z
UID:40984-1772224200-1772235000@nasejiznimorava.cz
SUMMARY:Znouzectnost & Ctib
DESCRIPTION:Znouzectnost & Ctib se uskuteční dne 2026-02-27 v 20:30 v Uherské Hradiště\, Klub Mír. \n🎟️ Koupit vstupenku \n\nZnouzectnost je svéráznou kombinací rocku\,folku\,undergroundu\,punku a garage rocku….a slaví 40 let na scéně. \nJako host vystpupí CTIB – skromný valašský velikán \, který o sobě říká :Svoje kořeny mám v  DIY hardcorepunkové scéně malého moravského města Rožnov pod Radhoštěm. Patřil jsem do party\, která organizovala koncerty v klubu Vrah\, hrál jsem nebo hraju v kapelách žánrově rozpjatých od hardcoru po postpunk (dříve třeba Telefon nebo Uštkni\, dnes Chorobopop). Jsem ale mimo jiné ovlivněný i českým předlistopadovým folkem\, takže když jsem začal hrát sólově coby Ctib\, byl to nejdřív folkpunk s akustickou kytarou. Pak mi to ale přestalo stačit a v kompu jsem si doaranžoval bicí\, basu a nějaké synťáky. No a nakonec jsem si do kompu nahrál i tu kytaru a přestal se s ní tahat na koncerty. Tomu\, co hraju\, od té doby říkám discoegopunk. V září 2021 díky brněnskému labelu Kabinet Records spatřila světlo světa moje první LP pojmenované Kampak?! V prosinci 2022 vyšlo u stejného vydavatele druhé album s názvem Smrad v síni tradic. Třetí deska právě vzniká\, a pokud vše půjde\, jak má\, vyjde na jaře 2026. \n  \n  \n\nTento tip na kulturní akci v Uherské Hradiště najdete v přehledu na nasejiznimorava.cz kde na jednom místě shromažďujeme desítky dalších koncertů\, festivalů\, divadelních představení i komunitních událostí z celého regionu i z celé ČR. Přehled je přehledně řazený\, pravidelně aktualizovaný a umožní vám rychle najít přesně to\, co vás zajímá – od velkých open-air akcí až po menší lokální programy. Každý si tak snadno vybere podle svého vkusu i času. Pokud vás některá akce zaujme\, nezapomeňte si včas zajistit vstupenky; stačí kliknout na detail události a budete bezpečně přesměrováni na oficiálního prodejce vstupenek..
URL:https://nasejiznimorava.cz/event/znouzectnost-ctib/
LOCATION:Klub Mír\, Uherské Hradiště\, Klub Mír\, Uherské Hradiště\, Česká republika
CATEGORIES:Koncert
ATTACH;FMTTYPE=image/jpeg:https://nasejiznimorava.cz/wp-content/uploads/2025/12/320-dfb39890f23f448daa0a710aad960599.jpg
END:VEVENT
BEGIN:VEVENT
DTSTART;TZID=Europe/Prague:20260228T173000
DTEND;TZID=Europe/Prague:20260228T203000
DTSTAMP:20260421T142643
CREATED:20260110T114245Z
LAST-MODIFIED:20260110T114246Z
UID:41505-1772299800-1772310600@nasejiznimorava.cz
SUMMARY:Akce bez stresu 2026 - Pardubice
DESCRIPTION:Akce bez stresu 2026 – Pardubice se uskuteční dne 2026-02-28 v 17:30 v Pardubice\, Music Club Žlutý pes. \n🎟️ Koupit vstupenku \n\nPřijď si užít AKCI BEZ STRESU 2026 – večer plný energie\, kytar a pořádné atmosféry. \nZahrají: \nŽádnej Stres \nTragedis \nP.U.M. \nPeshata \nSobota 28. 2. 2026Klub Žlutý pes\, Pardubice \nDoraž s partou\, dej si pivo\, pogo pod pódiem a zažij akci\, na kterou se jen tak nezapomíná.  \n\nTento tip na kulturní akci v Pardubice najdete v přehledu na nasejiznimorava.cz kde na jednom místě shromažďujeme desítky dalších koncertů\, festivalů\, divadelních představení i komunitních událostí z celého regionu i z celé ČR. Přehled je přehledně řazený\, pravidelně aktualizovaný a umožní vám rychle najít přesně to\, co vás zajímá – od velkých open-air akcí až po menší lokální programy. Každý si tak snadno vybere podle svého vkusu i času. Pokud vás některá akce zaujme\, nezapomeňte si včas zajistit vstupenky; stačí kliknout na detail události a budete bezpečně přesměrováni na oficiálního prodejce vstupenek..
URL:https://nasejiznimorava.cz/event/akce-bez-stresu-2026-pardubice/
LOCATION:Music Club Žlutý pes\, Pardubice\, Music Club Žlutý pes\, Pardubice\, Česká republika
CATEGORIES:Koncert
ATTACH;FMTTYPE=image/jpeg:https://nasejiznimorava.cz/wp-content/uploads/2026/01/320-9b2caec6e86241379fb4f4a3484e4d01.jpg
END:VEVENT
END:VCALENDAR