BEGIN:VCALENDAR
VERSION:2.0
PRODID:-// „Objev místa, kde se dobře pije, krásně spí a skvěle žije“  - ECPv6.15.20//NONSGML v1.0//EN
CALSCALE:GREGORIAN
METHOD:PUBLISH
X-ORIGINAL-URL:https://nasejiznimorava.cz
X-WR-CALDESC:Akce na  „Objev místa, kde se dobře pije, krásně spí a skvěle žije“ 
REFRESH-INTERVAL;VALUE=DURATION:PT1H
X-Robots-Tag:noindex
X-PUBLISHED-TTL:PT1H
BEGIN:VTIMEZONE
TZID:Europe/Prague
BEGIN:DAYLIGHT
TZOFFSETFROM:+0100
TZOFFSETTO:+0200
TZNAME:CEST
DTSTART:20250330T010000
END:DAYLIGHT
BEGIN:STANDARD
TZOFFSETFROM:+0200
TZOFFSETTO:+0100
TZNAME:CET
DTSTART:20251026T010000
END:STANDARD
BEGIN:DAYLIGHT
TZOFFSETFROM:+0100
TZOFFSETTO:+0200
TZNAME:CEST
DTSTART:20260329T010000
END:DAYLIGHT
BEGIN:STANDARD
TZOFFSETFROM:+0200
TZOFFSETTO:+0100
TZNAME:CET
DTSTART:20261025T010000
END:STANDARD
BEGIN:DAYLIGHT
TZOFFSETFROM:+0100
TZOFFSETTO:+0200
TZNAME:CEST
DTSTART:20270328T010000
END:DAYLIGHT
BEGIN:STANDARD
TZOFFSETFROM:+0200
TZOFFSETTO:+0100
TZNAME:CET
DTSTART:20271031T010000
END:STANDARD
END:VTIMEZONE
BEGIN:VEVENT
DTSTART;TZID=Europe/Prague:20260228T173000
DTEND;TZID=Europe/Prague:20260228T203000
DTSTAMP:20260421T142812
CREATED:20260110T114245Z
LAST-MODIFIED:20260110T114246Z
UID:41505-1772299800-1772310600@nasejiznimorava.cz
SUMMARY:Akce bez stresu 2026 - Pardubice
DESCRIPTION:Akce bez stresu 2026 – Pardubice se uskuteční dne 2026-02-28 v 17:30 v Pardubice\, Music Club Žlutý pes. \n🎟️ Koupit vstupenku \n\nPřijď si užít AKCI BEZ STRESU 2026 – večer plný energie\, kytar a pořádné atmosféry. \nZahrají: \nŽádnej Stres \nTragedis \nP.U.M. \nPeshata \nSobota 28. 2. 2026Klub Žlutý pes\, Pardubice \nDoraž s partou\, dej si pivo\, pogo pod pódiem a zažij akci\, na kterou se jen tak nezapomíná.  \n\nTento tip na kulturní akci v Pardubice najdete v přehledu na nasejiznimorava.cz kde na jednom místě shromažďujeme desítky dalších koncertů\, festivalů\, divadelních představení i komunitních událostí z celého regionu i z celé ČR. Přehled je přehledně řazený\, pravidelně aktualizovaný a umožní vám rychle najít přesně to\, co vás zajímá – od velkých open-air akcí až po menší lokální programy. Každý si tak snadno vybere podle svého vkusu i času. Pokud vás některá akce zaujme\, nezapomeňte si včas zajistit vstupenky; stačí kliknout na detail události a budete bezpečně přesměrováni na oficiálního prodejce vstupenek..
URL:https://nasejiznimorava.cz/event/akce-bez-stresu-2026-pardubice/
LOCATION:Music Club Žlutý pes\, Pardubice\, Music Club Žlutý pes\, Pardubice\, Česká republika
CATEGORIES:Koncert
ATTACH;FMTTYPE=image/jpeg:https://nasejiznimorava.cz/wp-content/uploads/2026/01/320-9b2caec6e86241379fb4f4a3484e4d01.jpg
END:VEVENT
END:VCALENDAR