BEGIN:VCALENDAR
VERSION:2.0
PRODID:-// „Objev místa, kde se dobře pije, krásně spí a skvěle žije“  - ECPv6.15.20//NONSGML v1.0//EN
CALSCALE:GREGORIAN
METHOD:PUBLISH
X-WR-CALNAME: „Objev místa, kde se dobře pije, krásně spí a skvěle žije“ 
X-ORIGINAL-URL:https://nasejiznimorava.cz
X-WR-CALDESC:Akce na  „Objev místa, kde se dobře pije, krásně spí a skvěle žije“ 
REFRESH-INTERVAL;VALUE=DURATION:PT1H
X-Robots-Tag:noindex
X-PUBLISHED-TTL:PT1H
BEGIN:VTIMEZONE
TZID:Europe/Prague
BEGIN:DAYLIGHT
TZOFFSETFROM:+0100
TZOFFSETTO:+0200
TZNAME:CEST
DTSTART:20250330T010000
END:DAYLIGHT
BEGIN:STANDARD
TZOFFSETFROM:+0200
TZOFFSETTO:+0100
TZNAME:CET
DTSTART:20251026T010000
END:STANDARD
BEGIN:DAYLIGHT
TZOFFSETFROM:+0100
TZOFFSETTO:+0200
TZNAME:CEST
DTSTART:20260329T010000
END:DAYLIGHT
BEGIN:STANDARD
TZOFFSETFROM:+0200
TZOFFSETTO:+0100
TZNAME:CET
DTSTART:20261025T010000
END:STANDARD
BEGIN:DAYLIGHT
TZOFFSETFROM:+0100
TZOFFSETTO:+0200
TZNAME:CEST
DTSTART:20270328T010000
END:DAYLIGHT
BEGIN:STANDARD
TZOFFSETFROM:+0200
TZOFFSETTO:+0100
TZNAME:CET
DTSTART:20271031T010000
END:STANDARD
END:VTIMEZONE
BEGIN:VEVENT
DTSTART;TZID=Europe/Prague:20260313T200000
DTEND;TZID=Europe/Prague:20260313T230000
DTSTAMP:20260421T142700
CREATED:20260113T121404Z
LAST-MODIFIED:20260113T121405Z
UID:41617-1773432000-1773442800@nasejiznimorava.cz
SUMMARY:SPS - Krkavec oslaví "60" narozky
DESCRIPTION:SPS – Krkavec oslaví „60“ narozky se uskuteční dne 2026-03-13 v 20:00 v Sadov\, Klub Sadov. \n🎟️ Koupit vstupenku \n\nTato zastávka jarní tour je věnována hlavnímu protagonistovi punk/rockové party SPS Zdeňkovi Růžičkovi alias \,\,Krkavcovi\,\,. Zdeněk je jediným v kapele \,jakožto její zakládající člen\, takže tu káru táhne už neskutečných 38. let. \nBylo nasnadě vybrat kapelu \,která se stane hostem večera . V tomto přípedě podlo jméno téměř okamžitě \,protože i s touto partou jsme toho zažili moc a moc\,jméno tedy zní \,\,ŠPUNTQANĚ\,\, . Parta z nedaleké Andělky určitě není neznámou a má zde velmi rozsáhlou základnu fanoušků.  \n\nTento tip na kulturní akci v Sadov najdete v přehledu na nasejiznimorava.cz kde na jednom místě shromažďujeme desítky dalších koncertů\, festivalů\, divadelních představení i komunitních událostí z celého regionu i z celé ČR. Přehled je přehledně řazený\, pravidelně aktualizovaný a umožní vám rychle najít přesně to\, co vás zajímá – od velkých open-air akcí až po menší lokální programy. Každý si tak snadno vybere podle svého vkusu i času. Pokud vás některá akce zaujme\, nezapomeňte si včas zajistit vstupenky; stačí kliknout na detail události a budete bezpečně přesměrováni na oficiálního prodejce vstupenek..
URL:https://nasejiznimorava.cz/event/sps-krkavec-oslavi-60-narozky/
LOCATION:Klub Sadov\, Sadov\, Klub Sadov\, Sadov\, Česká republika
CATEGORIES:Koncert
ATTACH;FMTTYPE=image/jpeg:https://nasejiznimorava.cz/wp-content/uploads/2026/01/320-01c80295101c4ca48c82ba866187f9d4.jpg
END:VEVENT
END:VCALENDAR