BEGIN:VCALENDAR
VERSION:2.0
PRODID:-// „Objev místa, kde se dobře pije, krásně spí a skvěle žije“  - ECPv6.15.20//NONSGML v1.0//EN
CALSCALE:GREGORIAN
METHOD:PUBLISH
X-WR-CALNAME: „Objev místa, kde se dobře pije, krásně spí a skvěle žije“ 
X-ORIGINAL-URL:https://nasejiznimorava.cz
X-WR-CALDESC:Akce na  „Objev místa, kde se dobře pije, krásně spí a skvěle žije“ 
REFRESH-INTERVAL;VALUE=DURATION:PT1H
X-Robots-Tag:noindex
X-PUBLISHED-TTL:PT1H
BEGIN:VTIMEZONE
TZID:Europe/Prague
BEGIN:DAYLIGHT
TZOFFSETFROM:+0100
TZOFFSETTO:+0200
TZNAME:CEST
DTSTART:20250330T010000
END:DAYLIGHT
BEGIN:STANDARD
TZOFFSETFROM:+0200
TZOFFSETTO:+0100
TZNAME:CET
DTSTART:20251026T010000
END:STANDARD
BEGIN:DAYLIGHT
TZOFFSETFROM:+0100
TZOFFSETTO:+0200
TZNAME:CEST
DTSTART:20260329T010000
END:DAYLIGHT
BEGIN:STANDARD
TZOFFSETFROM:+0200
TZOFFSETTO:+0100
TZNAME:CET
DTSTART:20261025T010000
END:STANDARD
BEGIN:DAYLIGHT
TZOFFSETFROM:+0100
TZOFFSETTO:+0200
TZNAME:CEST
DTSTART:20270328T010000
END:DAYLIGHT
BEGIN:STANDARD
TZOFFSETFROM:+0200
TZOFFSETTO:+0100
TZNAME:CET
DTSTART:20271031T010000
END:STANDARD
END:VTIMEZONE
BEGIN:VEVENT
DTSTART;TZID=Europe/Prague:20260418T163000
DTEND;TZID=Europe/Prague:20260418T193000
DTSTAMP:20260421T143236
CREATED:20260221T115910Z
LAST-MODIFIED:20260221T115914Z
UID:42197-1776529800-1776540600@nasejiznimorava.cz
SUMMARY:KarmaFest Teplice 2026
DESCRIPTION:KarmaFest Teplice 2026 se uskuteční dne 2026-04-18 v 16:30 v Teplice\, KNAK music klub. \n🎟️ Koupit vstupenku \n\nKarmaFest 2026: Reflections of Karma\, Imodium a Post-it dokážou\, že rock žije  \nKarmaFest 2026 je první ročník nového klubového festivalu zaměřeného na současnou rockovou a kytarovou hudbu. Vzniká z iniciativy mezinárodní rockové superskupiny Reflections of Karma a reaguje na dlouhodobý úbytek prostoru pro živý rock v klubovém prostředí. Festival je koncipován jako komorní indoorová akce\, která staví na blízkém kontaktu kapel s publikem\, autentické atmosféře a energii\, jež vzniká pouze při živém hraní. \nReflections of Karma patří k nejvýraznějším novým jménům české rockové scény posledních let. Kapelu tvoří zpěvák Travis O’Neill (ex-Pipes and Pints)\, kytarista Maťo Mišík (ex-Tata Bojs)\, baskytarista Josh Stewart (Gaia Mesiah) a bubeník Tomáš Hajíček Jr. (Krucipüsk). Na podzim 2025 vydala debutové album Venom & Velvet\, byla oceněna jako Objev roku v anketě Žebřík Awards a její první pražský koncert byl zcela vyprodán. Právě zkušenosti z klubové scény a potřeba vytvořit prostor pro živou\, poctivou rockovou hudbu stály u zrodu KarmaFestu. \nV rámci KarmaFestu 2026 se představí také kapely Imodium a Post-it. Imodium se po comebacku v roce 2023 vrátili na pódia ve výborné formě\, což potvrdily recenze na album Horizont i i koncerty ve Forum Karlín či Nové Spirále\, kde se kapela kolem zpěváka a producenta Thoma Frödeho představila akusticky. Post-it navazují na více než dvacetiletou historii české klubové scény a po personálním rozšíření přinášejí hutnější a syrovější zvuk. \nKarmaFest 2026 proběhne formou jarní a podzimní koncertní série v klubech napříč Českou republikou. Na jaře se festival zastaví v Havlíčkově Brodě\, Plzni\, Teplicích\, Českých Budějovicích a Pardubicích\, na podzim pak v Jablonci nad Nisou\, Jihlavě\, Praze\, Litomyšli a Olomouci. Další termíny jsou v jednání. \nRocková hudba nezmizela\, jen potřebuje prostor\, kde může znít naplno.  \nKarmaFest 2026 – JARO4.⁠ ⁠4. Havlíčkův Brod – Klub Oko11.⁠ ⁠4. Plzeň – Buena Vista18.⁠ ⁠4. Teplice – Knak25.⁠ ⁠4. České Budějovice – MC Fabrika2.5. Pardubice – Žlutý Pes \nKarmaFest 2026 – PODZIM3.⁠ ⁠10. Jablonec nad Nisou – Stage klub10.⁠ ⁠10. Jihlava – D-Klub22.⁠ ⁠10. Praha – Futurum Music Bar23.⁠ ⁠10. Litomyšl – Music Club Kotelna (MC Kotelna)31.⁠ ⁠10. Olomouc – S-Klub \n\nTento tip na kulturní akci v Teplice najdete v přehledu na nasejiznimorava.cz kde na jednom místě shromažďujeme desítky dalších koncertů\, festivalů\, divadelních představení i komunitních událostí z celého regionu i z celé ČR. Přehled je přehledně řazený\, pravidelně aktualizovaný a umožní vám rychle najít přesně to\, co vás zajímá – od velkých open-air akcí až po menší lokální programy. Každý si tak snadno vybere podle svého vkusu i času. Pokud vás některá akce zaujme\, nezapomeňte si včas zajistit vstupenky; stačí kliknout na detail události a budete bezpečně přesměrováni na oficiálního prodejce vstupenek..
URL:https://nasejiznimorava.cz/event/karmafest-teplice-2026/
LOCATION:KNAK music klub\, Teplice\, KNAK music klub\, Teplice\, Česká republika
CATEGORIES:Koncert
ATTACH;FMTTYPE=image/jpeg:https://nasejiznimorava.cz/wp-content/uploads/2026/02/320-fca6a362bf9644caa9741e40eb4aff9e.jpg
END:VEVENT
BEGIN:VEVENT
DTSTART;TZID=Europe/Prague:20260509T105900
DTEND;TZID=Europe/Prague:20260509T135900
DTSTAMP:20260421T143236
CREATED:20251211T053827Z
LAST-MODIFIED:20251211T053831Z
UID:39763-1778324340-1778335140@nasejiznimorava.cz
SUMMARY:Cecil Bouček & John Rachot Benefice - Fest
DESCRIPTION:Cecil Bouček & John Rachot Benefice – Fest se uskuteční dne 2026-05-09 v 10:59 v Rokytno\, No.59 Taková jiná hospůdka. \n🎟️ Koupit vstupenku \n\nSpolupráce Cecil Bouček a John Rachot nemůže dopadnout jinak\, než kvalitní hudbou  \nA kdo potvrdil účast na 98.9% ? (změny vyhrazeny) \nRETARDOS – CZhttps://youtu.be/shTjKABxe5A?si=wXRuJz30CJ921r-6STERCORE – SKhttps://youtu.be/QJm559dX-pU?si=iAv8lXcvyANMvjimREAL DEAL – CZhttps://youtu.be/mFlIkCNiGAc?si=p_2kL1TGeTDcbafHTRUE REASON – SKhttps://youtu.be/nZSGoKyHDi0?si=LW4qw9Qg5q-OQFF5FLASHBACK – CZhttps://youtu.be/-0VWv9IvmQA?si=4Y7I4hb5sqjFeOPgSTREETMACHINE – CZhttps://youtu.be/–EPafalKPI?si=Uzc978G21o_TxWGTEXORCIZPHOBIA – CZhttps://youtu.be/bnVtn2ngBcM?si=UHZxIHdxq_5xHf8KSAVEYOURSELF – CZhttps://youtu.be/uTZdsrKLf_U?si=l5JrXFV7SccgLpgfMADE BY ZERO – CZhttps://www.youtube.com/watch?v=seKxsRWy_jU…BESTIAL THERAPY – CZhttps://www.youtube.com/watch?v=YenBJWfKz78… \n\nTento tip na kulturní akci v Rokytno najdete v přehledu na nasejiznimorava.cz kde na jednom místě shromažďujeme desítky dalších koncertů\, festivalů\, divadelních představení i komunitních událostí z celého regionu i z celé ČR. Přehled je přehledně řazený\, pravidelně aktualizovaný a umožní vám rychle najít přesně to\, co vás zajímá – od velkých open-air akcí až po menší lokální programy. Každý si tak snadno vybere podle svého vkusu i času. Pokud vás některá akce zaujme\, nezapomeňte si včas zajistit vstupenky; stačí kliknout na detail události a budete bezpečně přesměrováni na oficiálního prodejce vstupenek..
URL:https://nasejiznimorava.cz/event/cecil-boucek-john-rachot-benefice-fest/
LOCATION:No.59 Taková jiná hospůdka\, Rokytno\, No.59 Taková jiná hospůdka\, Rokytno\, Česká republika
CATEGORIES:Festival
ATTACH;FMTTYPE=image/jpeg:https://nasejiznimorava.cz/wp-content/uploads/2025/12/320-04f1b3b7956a424abfbdc0a81ad679aa.jpg
END:VEVENT
BEGIN:VEVENT
DTSTART;TZID=Europe/Prague:20260605T180000
DTEND;TZID=Europe/Prague:20260605T210000
DTSTAMP:20260421T143236
CREATED:20260107T165015Z
LAST-MODIFIED:20260107T165018Z
UID:41439-1780682400-1780693200@nasejiznimorava.cz
SUMMARY:Něco jako Punk do Police
DESCRIPTION:Něco jako Punk do Police se uskuteční dne 2026-06-05 v 18:00 v Police\, Zámek Police. \n🎟️ Koupit vstupenku \n\nPunk do Police je mrtev\, ať žije Něco jako Punk do Police !!! Chceš zažít festival bohatý na žánry? Něco komorního a současně stylovýho? Festival na zámku je pro Tebe vyladěný na míru. V malebné dědině nejjižněji na Vysočině v Polici u Jemnice. V pátek začíná zvolna něco po šesté a o program bude postaráno minimálně do půlnoci. Společným jmenovatelem prvního festivalového dne je punk\, bigbít\, pivní a vinná kultura. Sobota je žánrově ještě pestřejší. Očekávej\, že první kapelu si dáme k obědu. Adrenalinový rock’n’roll Tě naladí na ochutnávky piv z řemeslných pivovarů i vína poctivýho rodinnýho vinaře. Po nich následuje příjemná instrumentálka a další vyladěná garážovka ze Znojma. Knížete pornofolku netřeba představovat. Jedna punkovka střídá druhou. Ta Tě roztančí a navajbuje na další počin spojující balkánskou tancovačku a rapovej jazz. Máš rád film Kouř? Ne\, nepřijede Arnoštek\, ale Hello Marcell !! A na závěr si sednem všichni na prdel\, protože zahrají 1flflsoap. Z nich už budeš v tranzu\, piva Tě sejmou a jdeš spát do stanovýho městečka hned vedle v parku. Vodu a wécka očekávej nonstop. Žádný Tojky. Jdeš do toho s námi? Vstupné je lidové\, tak kupuj lístky. Těšíme se na Tebe.   \nPátek: Vision Days / Chci Pnutí / Gloster 69 / Bermudskéj Kvádr \nSobota: Volant / Záviš / Tygroo / Hello Marcel / Kontrolla / Frequency Illusion /  \n              The Queues / RV-4 / 1flfsoap \nVSTUPNÉ: 500\,- v předprodeji\, 700\,- na místě \n  \n\nTento tip na kulturní akci v Police najdete v přehledu na nasejiznimorava.cz kde na jednom místě shromažďujeme desítky dalších koncertů\, festivalů\, divadelních představení i komunitních událostí z celého regionu i z celé ČR. Přehled je přehledně řazený\, pravidelně aktualizovaný a umožní vám rychle najít přesně to\, co vás zajímá – od velkých open-air akcí až po menší lokální programy. Každý si tak snadno vybere podle svého vkusu i času. Pokud vás některá akce zaujme\, nezapomeňte si včas zajistit vstupenky; stačí kliknout na detail události a budete bezpečně přesměrováni na oficiálního prodejce vstupenek..
URL:https://nasejiznimorava.cz/event/neco-jako-punk-do-police/
LOCATION:Zámek Police\, Police\, Zámek Police\, Police\, Česká republika
CATEGORIES:Festival
ATTACH;FMTTYPE=image/jpeg:https://nasejiznimorava.cz/wp-content/uploads/2026/01/320-dbb92666f6e1493ea098344acd7dc793.jpg
END:VEVENT
BEGIN:VEVENT
DTSTART;TZID=Europe/Prague:20260612T163000
DTEND;TZID=Europe/Prague:20260612T193000
DTSTAMP:20260421T143236
CREATED:20251111T132735Z
LAST-MODIFIED:20251111T132736Z
UID:37107-1781281800-1781292600@nasejiznimorava.cz
SUMMARY:PUNKPLUGGED FESTIVAL vol. 4
DESCRIPTION:PUNKPLUGGED FESTIVAL vol. 4 se uskuteční dne 2026-06-12 v 16:30 v Újezd u Přelouče\, Letní parket . \n🎟️ Koupit vstupenku \n\nNejsme jen další fesťák\, JSME ZÁŽITEK – jsme víkendový festival plný skvělých kapel\, výborného jídla a piva.Přijeďte a buďte celý víkend UNPLUGGED – rozhodně to není nuda. Každá kapela to bere JINAK\, díky tomu uslyšíte nejen oblíbené songy v unikátním aranžmá ale i věci\, které by kapely obyčejně naživo nehrály. Vyniknou zde texty\, zpěv (i váš) a výkony jednotlivých nástrojů a muzikantů.Čtvrtý ročník se opět uskuteční v parádním areálu\, který disponuje trvale zastřešeným parketem a sezením – zde se bát deště a slunka rozhodně nemusíte. Najdete zde dostatek místa na sezení na lavičkách\, odpočinete si na lehátkách a sedacích vacích. Dětská zóna je v dohledu od pódia a na ní navazuje oplocený prostor pro stanování rodin nejmenšími punkery.Stanování ve stanovém městečku je ZDARMA a bar zde jede NONSTOP!!! od Pátečního poledne do Nedělního dopoledne.Vratné kelímky\, žádné plasty ani smažené jídlo\, čistý areál – na tom si zakládáme.Děti do 140ti cm a ZTP mají vstup zdarma. \n\nTento tip na kulturní akci v Újezd u Přelouče najdete v přehledu na nasejiznimorava.cz kde na jednom místě shromažďujeme desítky dalších koncertů\, festivalů\, divadelních představení i komunitních událostí z celého regionu i z celé ČR. Přehled je přehledně řazený\, pravidelně aktualizovaný a umožní vám rychle najít přesně to\, co vás zajímá – od velkých open-air akcí až po menší lokální programy. Každý si tak snadno vybere podle svého vkusu i času. Pokud vás některá akce zaujme\, nezapomeňte si včas zajistit vstupenky; stačí kliknout na detail události a budete bezpečně přesměrováni na oficiálního prodejce vstupenek..
URL:https://nasejiznimorava.cz/event/punkplugged-festival-vol-4/
LOCATION:Letní parket \, Újezd u Přelouče\, Letní parket \, Újezd u Přelouče\, Česká republika
CATEGORIES:Festival
ATTACH;FMTTYPE=image/jpeg:https://nasejiznimorava.cz/wp-content/uploads/2025/11/320-239f829ac4e343659c6bcaade76cfbdb.jpg
END:VEVENT
BEGIN:VEVENT
DTSTART;TZID=Europe/Prague:20260704T090000
DTEND;TZID=Europe/Prague:20260704T120000
DTSTAMP:20260421T143236
CREATED:20251214T083544Z
LAST-MODIFIED:20251214T083545Z
UID:40316-1783155600-1783166400@nasejiznimorava.cz
SUMMARY:BRNĚNECFEST XXV. aneb punkovej klystýr
DESCRIPTION:BRNĚNECFEST XXV. aneb punkovej klystýr se uskuteční dne 2026-07-04 v 09:00 v Brněnec\, Brněnec. \n🎟️ Koupit vstupenku \n\nBRNĚNECFEST XXV – ANEB PUNKOVEJ KLYSTÝR \nPřiprav se na další nálož syrový punkový energie – BRNĚNECFEST XXV se blíží! Už 4. července 2026 se zase sejdeme v legendárním areálu v Brněnci u Svitav\, kde to roztočíme tak\, jak to umí jen punkáči. Čeká tě den plnej kapel\, svobody a atmosféry\, na kterou jen tak nezapomeneš. \nTahle akce není jen koncert – je to setkání komunity\, která žije punkem. Vem stan\, kámoše a hlavně dobrou náladu. Společně uděláme z Brněnce místo\, kde se na chvíli zastaví svět a zůstane jen hudba a svoboda. \nParkování i stanování je samozřejmě zdarma. \nA teď trochu pravidel: respektuj areál\, okolní vesnici i ostatní návštěvníky. Žádný zbytečný bordel – chceme\, aby BRNĚNECFEST mohl žít dál i v dalších letech. Punk není o ničení\, ale o postoji! \nTakže neváhej\, seber partu a doraz – BRNĚNECFEST XXV ukáže\, že punk pořád žije a kopne tě tam\, kde to cítíš nejvíc! \nSleduj nás na Facebooku a Instagramu ať máš čerstvý informace. \nVidíme se v Brněnci – punk’s not dead! \n\nTento tip na kulturní akci v Brněnec najdete v přehledu na nasejiznimorava.cz kde na jednom místě shromažďujeme desítky dalších koncertů\, festivalů\, divadelních představení i komunitních událostí z celého regionu i z celé ČR. Přehled je přehledně řazený\, pravidelně aktualizovaný a umožní vám rychle najít přesně to\, co vás zajímá – od velkých open-air akcí až po menší lokální programy. Každý si tak snadno vybere podle svého vkusu i času. Pokud vás některá akce zaujme\, nezapomeňte si včas zajistit vstupenky; stačí kliknout na detail události a budete bezpečně přesměrováni na oficiálního prodejce vstupenek..
URL:https://nasejiznimorava.cz/event/brnenecfest-xxv-aneb-punkovej-klystyr/
LOCATION:Brněnec\, Brněnec\, Brněnec\, Brněnec\, Česká republika
CATEGORIES:Festival
ATTACH;FMTTYPE=image/jpeg:https://nasejiznimorava.cz/wp-content/uploads/2025/12/320-347911e7878d4b92bc5763d9fc53796e.jpg
END:VEVENT
BEGIN:VEVENT
DTSTART;TZID=Europe/Prague:20260704T140000
DTEND;TZID=Europe/Prague:20260704T170000
DTSTAMP:20260421T143236
CREATED:20251111T125126Z
LAST-MODIFIED:20251111T125126Z
UID:36513-1783173600-1783184400@nasejiznimorava.cz
SUMMARY:BENNYFEST
DESCRIPTION:BENNYFEST se uskuteční dne 2026-07-04 v 14:00 v Kdyně\, Fotbalové hřiště na kobyle. \n🎟️ Koupit vstupenku \n\nPrvní ročník BENNYFESTU. \nSuper muzika\, super kapely\, přijď si užít akci! \n\nTento tip na kulturní akci v Kdyně najdete v přehledu na nasejiznimorava.cz kde na jednom místě shromažďujeme desítky dalších koncertů\, festivalů\, divadelních představení i komunitních událostí z celého regionu i z celé ČR. Přehled je přehledně řazený\, pravidelně aktualizovaný a umožní vám rychle najít přesně to\, co vás zajímá – od velkých open-air akcí až po menší lokální programy. Každý si tak snadno vybere podle svého vkusu i času. Pokud vás některá akce zaujme\, nezapomeňte si včas zajistit vstupenky; stačí kliknout na detail události a budete bezpečně přesměrováni na oficiálního prodejce vstupenek..
URL:https://nasejiznimorava.cz/event/bennyfest/
LOCATION:Fotbalové hřiště na kobyle\, Kdyně\, Fotbalové hřiště na kobyle\, Kdyně\, Česká republika
CATEGORIES:Festival
ATTACH;FMTTYPE=image/jpeg:https://nasejiznimorava.cz/wp-content/uploads/2025/11/320-fcc9c66d8ac8455f90b7bc6939d48db0.jpg
END:VEVENT
BEGIN:VEVENT
DTSTART;TZID=Europe/Prague:20260705T103000
DTEND;TZID=Europe/Prague:20260705T133000
DTSTAMP:20260421T143236
CREATED:20251111T132917Z
LAST-MODIFIED:20251111T132917Z
UID:37144-1783247400-1783258200@nasejiznimorava.cz
SUMMARY:DŘEVOROCKFEST 2026
DESCRIPTION:DŘEVOROCKFEST 2026 se uskuteční dne 2026-07-05 v 10:30 v Dřevohostice\, Zámecká zahrada. \n🎟️ Koupit vstupenku \n\nVítejte na maximálně rychlém předprodeji vsupenek.  \nDřevorockfest 2026 se uskuteční 5. července 2026! \nPro 21. ročník rockového open-air festivalu jsme uvařili line-up napráskaný tou nejlepší tuzemskou rockovou a metalovou muzikou. \n\nTento tip na kulturní akci v Dřevohostice najdete v přehledu na nasejiznimorava.cz kde na jednom místě shromažďujeme desítky dalších koncertů\, festivalů\, divadelních představení i komunitních událostí z celého regionu i z celé ČR. Přehled je přehledně řazený\, pravidelně aktualizovaný a umožní vám rychle najít přesně to\, co vás zajímá – od velkých open-air akcí až po menší lokální programy. Každý si tak snadno vybere podle svého vkusu i času. Pokud vás některá akce zaujme\, nezapomeňte si včas zajistit vstupenky; stačí kliknout na detail události a budete bezpečně přesměrováni na oficiálního prodejce vstupenek..
URL:https://nasejiznimorava.cz/event/drevorockfest-2026/
LOCATION:Zámecká zahrada\, Dřevohostice\, Zámecká zahrada\, Dřevohostice\, Česká republika
CATEGORIES:Festival
ATTACH;FMTTYPE=image/jpeg:https://nasejiznimorava.cz/wp-content/uploads/2025/11/320-9848f0c898a44bd1bfa3b9ea5ac1c1d9.jpg
END:VEVENT
BEGIN:VEVENT
DTSTART;TZID=Europe/Prague:20260724T170000
DTEND;TZID=Europe/Prague:20260724T200000
DTSTAMP:20260421T143236
CREATED:20260402T184814Z
LAST-MODIFIED:20260402T184815Z
UID:42674-1784912400-1784923200@nasejiznimorava.cz
SUMMARY:Bez Šance Fest XII.
DESCRIPTION:Bez Šance Fest XII. se uskuteční dne 2026-07-24 v 17:00 v Police nad Metují\, Hospůdka „U Pavla“. \n🎟️ Koupit vstupenku \n\nDvanáctý ročník benefičního festivalu konaného v Polici nad Metují na podporu Dětské onkologie Fakultní nemocnice Hradec Králové! Čeká vás dvoudenní párty s 18 kapelami\, doprovodným programem\, pohodovou atmosférou a hlavně dobrým pocitem z podpoření benefiční akce! \nKapely:SPS – punk rock / PrahaThe Fialky – 77 punk rock / PrahaVolant – saxo punk / PardubiceTragedis – folk punk / Jindřichův HradecVision Days – punk / BrněnecDriák – punk rock / LánovKohout Plaší Smrt – punk rock / LiberecProti Směru – punk rock / OpavaP.U.M – metal punk / PrahaBez Šance – punk rock / Police nad MetujíŠtamgasti – street punk / BrnoUpside Down – punk rock / LitomyšlVPV – punk / Bystřice pod HostýnemSpittle – hardcore punk / Wroclav (PL)M3TA – pop punk / TřebízFiasko – 90’s punk rock / KlatovyHabilis – punk / PrahaKlika vod hajzlu – punk / Blansko \nVýtěžek akce putuje ve formě daru na Oddělení dětské hemato-onkologie Dětské kliniky Fakultní Nemocnice Hradec Králové! \nV areálu zdarma stanování \nVstupné:Předprodej 666\,- Kč na oba dva dny (3. vlna do 23.7. 22:00)Děti do 14\,99 let vstup zdarma \nZákaz vstupu se zvířaty! \nAkci podpořili:Myco Medica\, Královehradecký kraj\, Město Police nad Metují\, Radegast\, Birell\, Ekofarma Bošina\, Bazény Machov\, Domivo\, CDS Náchod\, Urbanic Haus\, ZD Ostaš\, Septik Tank Čižinský\, Pension 65\, Klima Vlach\, Instalatérství Kubík \nBližší info k poslání a fungování festivalu zde: https://www.bezsance.com/bez-sance-fest \n\nTento tip na kulturní akci v Police nad Metují najdete v přehledu na nasejiznimorava.cz kde na jednom místě shromažďujeme desítky dalších koncertů\, festivalů\, divadelních představení i komunitních událostí z celého regionu i z celé ČR. Přehled je přehledně řazený\, pravidelně aktualizovaný a umožní vám rychle najít přesně to\, co vás zajímá – od velkých open-air akcí až po menší lokální programy. Každý si tak snadno vybere podle svého vkusu i času. Pokud vás některá akce zaujme\, nezapomeňte si včas zajistit vstupenky; stačí kliknout na detail události a budete bezpečně přesměrováni na oficiálního prodejce vstupenek..
URL:https://nasejiznimorava.cz/event/bez-sance-fest-xii/
LOCATION:Hospůdka „U Pavla“\, Police nad Metují\, Hospůdka "U Pavla"\, Police nad Metují\, Česká republika
CATEGORIES:Festival
ATTACH;FMTTYPE=image/jpeg:https://nasejiznimorava.cz/wp-content/uploads/2026/04/320-26da938be44e447ab519f35325b7d576.jpg
END:VEVENT
BEGIN:VEVENT
DTSTART;TZID=Europe/Prague:20260821T100000
DTEND;TZID=Europe/Prague:20260821T130000
DTSTAMP:20260421T143236
CREATED:20260309T081650Z
LAST-MODIFIED:20260309T081652Z
UID:42325-1787306400-1787317200@nasejiznimorava.cz
SUMMARY:Slánský festival VALNÍK
DESCRIPTION:Slánský festival VALNÍK se uskuteční dne 2026-08-21 v 10:00 v Slaný\, Letní kino Slaný. \n🎟️ Koupit vstupenku \n\nJiž 27. ročník tradičního slánského hudebního open air festivalu VALNÍK letos proběhne ve dnech 21. – 22. srpna 2026 a stejně jako v posledních letech se bude konat opět jako akce DVOUDENNÍ. \nOba dva festivalové dny se budou odehrávat na tradičním místě\, v krásném areálu LETNÍHO KINA SLANÝ. \n\nTento tip na kulturní akci v Slaný najdete v přehledu na nasejiznimorava.cz kde na jednom místě shromažďujeme desítky dalších koncertů\, festivalů\, divadelních představení i komunitních událostí z celého regionu i z celé ČR. Přehled je přehledně řazený\, pravidelně aktualizovaný a umožní vám rychle najít přesně to\, co vás zajímá – od velkých open-air akcí až po menší lokální programy. Každý si tak snadno vybere podle svého vkusu i času. Pokud vás některá akce zaujme\, nezapomeňte si včas zajistit vstupenky; stačí kliknout na detail události a budete bezpečně přesměrováni na oficiálního prodejce vstupenek..
URL:https://nasejiznimorava.cz/event/slansky-festival-valnik/
LOCATION:Letní kino Slaný\, Slaný\, Letní kino Slaný\, Slaný\, Česká republika
CATEGORIES:Festival
ATTACH;FMTTYPE=image/jpeg:https://nasejiznimorava.cz/wp-content/uploads/2026/03/320-693d402e1eff478ea83970b6df145a57.jpg
END:VEVENT
BEGIN:VEVENT
DTSTART;TZID=Europe/Prague:20260821T170000
DTEND;TZID=Europe/Prague:20260821T200000
DTSTAMP:20260421T143236
CREATED:20260402T184104Z
LAST-MODIFIED:20260402T184105Z
UID:42631-1787331600-1787342400@nasejiznimorava.cz
SUMMARY:Divokej Bill + Wohnout + Michal Horák na Čestickém nádvoří
DESCRIPTION:Divokej Bill + Wohnout + Michal Horák na Čestickém nádvoří se uskuteční dne 2026-08-21 v 17:00 v Čestice\, Zámek. \n🎟️ Koupit vstupenku \n\nLine up: \n\n17:30 Open doors\n19:00 Michal Horák\n20:40 Wohnout\n22:45 Divokej Bill\n00:00 – 02:00 Rockotéka\n\n  \n\nPořadatel si vyhrazuje právo časy dle potřeby upravit.\nDěti do 12 let zdarma.\nZTP budou mít možnost koupit vstupenku na místě s 50% slevou.\nMožnost stanování na přilehlé louce zdarma.\n\n\nTento tip na kulturní akci v Čestice najdete v přehledu na nasejiznimorava.cz kde na jednom místě shromažďujeme desítky dalších koncertů\, festivalů\, divadelních představení i komunitních událostí z celého regionu i z celé ČR. Přehled je přehledně řazený\, pravidelně aktualizovaný a umožní vám rychle najít přesně to\, co vás zajímá – od velkých open-air akcí až po menší lokální programy. Každý si tak snadno vybere podle svého vkusu i času. Pokud vás některá akce zaujme\, nezapomeňte si včas zajistit vstupenky; stačí kliknout na detail události a budete bezpečně přesměrováni na oficiálního prodejce vstupenek..
URL:https://nasejiznimorava.cz/event/divokej-bill-wohnout-michal-horak-na-cestickem-nadvori/
LOCATION:Zámek\, Čestice\, Zámek\, Čestice\, Česká republika
CATEGORIES:Koncert
ATTACH;FMTTYPE=image/jpeg:https://nasejiznimorava.cz/wp-content/uploads/2026/04/320-88b554305c2847ed95022c088f59877a.jpg
END:VEVENT
BEGIN:VEVENT
DTSTART;TZID=Europe/Prague:20260829T200000
DTEND;TZID=Europe/Prague:20260829T230000
DTSTAMP:20260421T143236
CREATED:20251214T082717Z
LAST-MODIFIED:20251214T082717Z
UID:40273-1788033600-1788044400@nasejiznimorava.cz
SUMMARY:Civilní Obrana v Háječku
DESCRIPTION:Civilní Obrana v Háječku se uskuteční dne 2026-08-29 v 20:00 v Heřmaničky\, Háječek – letní parket. \n🎟️ Koupit vstupenku \n\nCivilní Obrana je čáslavská punkrocková skupina. \nSkupina vznikla v roce 2005\, kdy studenti ze Střední průmyslové školy v Čáslavi začali hrát na kytary v bývalém skladu Civilní obrany. Veřejně vystupovat začali o dva roky později. Za dobu svého působení kapela účinkovala na festivalech jako je Votvírák\, Sázavafest\, Trutnov Open Air\, Přeštěnice Music Festival\, Natruc apod. a také se účastnila turné s kapelami jako Mandrage\, Rybičky 48\, Wohnout atd. Vydala čtyři studiová alba (Konkurz\, [So:wA]?\, Loterie a Zlatá deska) a několik samostatných singlů (např. „Pussy je kunda“\, „Holku pevnou mít“\, „I Like Mrkvička“ nebo „Tereza“).V roce 2020 přibylo na konto další – speciální – EP s akustickými verzemi oblíbených songů nazvané „Já\, Civilka“. Nejnovější singl vydaný na jaře 2023 „Drinky mi podávejte řetězem“ měl svůj debut ve vyprodaném Lucerna Music Baru. \nCivilní Obrana aktivně koncertuje od roku 2007\, kdy vydala své debutové album Konkurz. Celkem má na kontě čtyři studiová alba a několik samostatných singlů s videoklipy. Původní\, čistě kytarovou muziku s melodickými zpěvy Civilka postupně obohatila také o elektronické samply\, čímž získala moderní zvuk. Koncerty jsou protkané energickou show\, uměním komunikovat s publikem\, pódiovými efekty a perfektně podanými výkony. \nObsazeníMáraMarek Calík – zpěv\, kytara\, texty. Původně se věnoval fotbalu a byl klarinetistou DOM ZUŠ Čáslav.PavelPavel Neumann – bicí\, elektronika\, technika. Nejdříve hrál v dechovce\, je to také bývalý klarinetista DOM ZUŠ Čáslav.PepaJosef Semerád – baskytara\, zpěv. Pochází z Třemošnice\, hrál v kapelách: Obětavost občanstva\, Ústřední topení a Heating.Miloslav Procházka – kytara\, zpěv. Bývalý poloprofesionální fotbalista.  \nPředkapely – ATD (Benešov u Prahy)\, Pozitivní Mládež (Praha) \n\nTento tip na kulturní akci v Heřmaničky najdete v přehledu na nasejiznimorava.cz kde na jednom místě shromažďujeme desítky dalších koncertů\, festivalů\, divadelních představení i komunitních událostí z celého regionu i z celé ČR. Přehled je přehledně řazený\, pravidelně aktualizovaný a umožní vám rychle najít přesně to\, co vás zajímá – od velkých open-air akcí až po menší lokální programy. Každý si tak snadno vybere podle svého vkusu i času. Pokud vás některá akce zaujme\, nezapomeňte si včas zajistit vstupenky; stačí kliknout na detail události a budete bezpečně přesměrováni na oficiálního prodejce vstupenek..
URL:https://nasejiznimorava.cz/event/civilni-obrana-v-hajecku/
LOCATION:Háječek – letní parket\, Heřmaničky\, Háječek - letní parket\, Heřmaničky\, Česká republika
CATEGORIES:Koncert
ATTACH;FMTTYPE=image/jpeg:https://nasejiznimorava.cz/wp-content/uploads/2025/12/320-3413b61448884553abfb3c5fc6ad5af3.jpg
END:VEVENT
BEGIN:VEVENT
DTSTART;TZID=Europe/Prague:20260905T130000
DTEND;TZID=Europe/Prague:20260905T160000
DTSTAMP:20260421T143236
CREATED:20260130T152940Z
LAST-MODIFIED:20260130T152941Z
UID:41976-1788613200-1788624000@nasejiznimorava.cz
SUMMARY:Krasfest
DESCRIPTION:Krasfest se uskuteční dne 2026-09-05 v 13:00 v Sloup\, Areál koupaliště. \n🎟️ Koupit vstupenku \n\nKrasfest – již 6.ročník multižánrového hudebního festiválku (rock\, punk) v krásném areálu Koupaliště ve Sloupu\, srdci Moravského krasu. \nHlavní hvězdy budou hned dvě. První je jedna z nejvýraznějších kapel české hardrockové scény GATE CRASHER\, která si už vybudovala reputaci i v zahraničí a vystupovala po boku takových legend jako Iron Maiden\, Aerosmith\, Ozzy Osbourne či Korn. \nDalším headlinerem pak budou E!E\, prostě éčka\, punková legenda\, která už desítky let drtí pódia svou nezaměnitelnou energií. \nDále vystoupí TRILOBIT-rock\, poctivý rock ze severních Čech\, !V.V.Ú.\, kapela\, která pokračuje v linii V.V.Ú. a přiveze pořádnou dávku punkové syrovosti\, a KROUNEX\, energická domácí parta z regionu\, která baví publikum svým živým vystoupením přinášející svojí vlastní tvorbou \,tak i covery známých kapel jako Helloween\, Metallica\, System of a Down\, Offspring.  \nStejně jako každý rok se můžete těšit i na některé z talentovaných rockových bandů ze soukromé ZUŠ v Blansku\, které pravidelně dokazují\, že mladá krev v našem regionu rozhodně má co říct a opět nám náš fesťák rozjedou v plné palbě. \nA protože se na předchozím ročníku setkala s velkým ohlasem\, tak opět zařazujeme nabídku prémiových řemeslných piv z moravských a českých minipivovarů. Proběhne opět mezi 13. a 15. hodinou jako ideální příležitost pro příjemné naladění a rozjezd festivalové atmosféry \nMůžete se těšit na rodinnou atmosféru\, možnost setkání přímo s kapelami\, občerstvení z lokálních produktů.  \nwww.krasfest.cz \n\nTento tip na kulturní akci v Sloup najdete v přehledu na nasejiznimorava.cz kde na jednom místě shromažďujeme desítky dalších koncertů\, festivalů\, divadelních představení i komunitních událostí z celého regionu i z celé ČR. Přehled je přehledně řazený\, pravidelně aktualizovaný a umožní vám rychle najít přesně to\, co vás zajímá – od velkých open-air akcí až po menší lokální programy. Každý si tak snadno vybere podle svého vkusu i času. Pokud vás některá akce zaujme\, nezapomeňte si včas zajistit vstupenky; stačí kliknout na detail události a budete bezpečně přesměrováni na oficiálního prodejce vstupenek..
URL:https://nasejiznimorava.cz/event/krasfest/
LOCATION:Areál koupaliště\, Sloup\, Areál koupaliště\, Sloup\, Česká republika
CATEGORIES:Festival
ATTACH;FMTTYPE=image/jpeg:https://nasejiznimorava.cz/wp-content/uploads/2026/01/320-63d96051ac664f2b80abbfe73ba8f7cb.jpg
END:VEVENT
END:VCALENDAR