BEGIN:VCALENDAR
VERSION:2.0
PRODID:-// „Objev místa, kde se dobře pije, krásně spí a skvěle žije“  - ECPv6.15.20//NONSGML v1.0//EN
CALSCALE:GREGORIAN
METHOD:PUBLISH
X-ORIGINAL-URL:https://nasejiznimorava.cz
X-WR-CALDESC:Akce na  „Objev místa, kde se dobře pije, krásně spí a skvěle žije“ 
REFRESH-INTERVAL;VALUE=DURATION:PT1H
X-Robots-Tag:noindex
X-PUBLISHED-TTL:PT1H
BEGIN:VTIMEZONE
TZID:Europe/Prague
BEGIN:DAYLIGHT
TZOFFSETFROM:+0100
TZOFFSETTO:+0200
TZNAME:CEST
DTSTART:20250330T010000
END:DAYLIGHT
BEGIN:STANDARD
TZOFFSETFROM:+0200
TZOFFSETTO:+0100
TZNAME:CET
DTSTART:20251026T010000
END:STANDARD
BEGIN:DAYLIGHT
TZOFFSETFROM:+0100
TZOFFSETTO:+0200
TZNAME:CEST
DTSTART:20260329T010000
END:DAYLIGHT
BEGIN:STANDARD
TZOFFSETFROM:+0200
TZOFFSETTO:+0100
TZNAME:CET
DTSTART:20261025T010000
END:STANDARD
BEGIN:DAYLIGHT
TZOFFSETFROM:+0100
TZOFFSETTO:+0200
TZNAME:CEST
DTSTART:20270328T010000
END:DAYLIGHT
BEGIN:STANDARD
TZOFFSETFROM:+0200
TZOFFSETTO:+0100
TZNAME:CET
DTSTART:20271031T010000
END:STANDARD
END:VTIMEZONE
BEGIN:VEVENT
DTSTART;TZID=Europe/Prague:20260407T190000
DTEND;TZID=Europe/Prague:20260407T220000
DTSTAMP:20260419T204402
CREATED:20260111T102614Z
LAST-MODIFIED:20260111T102631Z
UID:41587-1775588400-1775599200@nasejiznimorava.cz
SUMMARY:Rockové Balady při svíčkách
DESCRIPTION:Rockové Balady při svíčkách se uskuteční dne 2026-04-07 v 19:00 v Ostrava\, Dům kultury Poklad\, Ostrava-Poruba. \n🎟️ Koupit vstupenku \n\nZažij kouzlo největších rockových hitů během jedinečného večera\, kde legendární melodie zazní v podání smyčcového kvarteta za svitu stovek svíček. \nUslyšíš skladby světově proslulých kapel jako Queen\, Metallica\, Nirvana\, Aerosmith\, Guns N’ Roses\, Led Zeppelin\, Pink Floyd\, Deep Purple\, Bon Jovi a mnoha dalších. Smyčcové aranžmá otevírá těmto klasikám zcela nové emocionální hloubky. \nTeplé světlo svíček vytváří výjimečně intimní atmosféru – čeká tě nezapomenutelný hudební zážitek. \nAkce není doporučena pro děti mladší 6 let. \n\nTento tip na kulturní akci v Ostrava najdete v přehledu na nasejiznimorava.cz kde na jednom místě shromažďujeme desítky dalších koncertů\, festivalů\, divadelních představení i komunitních událostí z celého regionu i z celé ČR. Přehled je přehledně řazený\, pravidelně aktualizovaný a umožní vám rychle najít přesně to\, co vás zajímá – od velkých open-air akcí až po menší lokální programy. Každý si tak snadno vybere podle svého vkusu i času. Pokud vás některá akce zaujme\, nezapomeňte si včas zajistit vstupenky; stačí kliknout na detail události a budete bezpečně přesměrováni na oficiálního prodejce vstupenek..
URL:https://nasejiznimorava.cz/event/rockove-balady-pri-svickach-2/
LOCATION:Dům kultury Poklad\, Ostrava-Poruba\, Ostrava\, Dům kultury Poklad\, Ostrava-Poruba\, Ostrava\, Česká republika
CATEGORIES:Koncert
ATTACH;FMTTYPE=image/jpeg:https://nasejiznimorava.cz/wp-content/uploads/2026/01/320-6d89239130b34defa3b900c57b612090.jpg
END:VEVENT
END:VCALENDAR