BEGIN:VCALENDAR
VERSION:2.0
PRODID:-// „Objev místa, kde se dobře pije, krásně spí a skvěle žije“  - ECPv6.15.20//NONSGML v1.0//EN
CALSCALE:GREGORIAN
METHOD:PUBLISH
X-ORIGINAL-URL:https://nasejiznimorava.cz
X-WR-CALDESC:Akce na  „Objev místa, kde se dobře pije, krásně spí a skvěle žije“ 
REFRESH-INTERVAL;VALUE=DURATION:PT1H
X-Robots-Tag:noindex
X-PUBLISHED-TTL:PT1H
BEGIN:VTIMEZONE
TZID:Europe/Prague
BEGIN:DAYLIGHT
TZOFFSETFROM:+0100
TZOFFSETTO:+0200
TZNAME:CEST
DTSTART:20250330T010000
END:DAYLIGHT
BEGIN:STANDARD
TZOFFSETFROM:+0200
TZOFFSETTO:+0100
TZNAME:CET
DTSTART:20251026T010000
END:STANDARD
BEGIN:DAYLIGHT
TZOFFSETFROM:+0100
TZOFFSETTO:+0200
TZNAME:CEST
DTSTART:20260329T010000
END:DAYLIGHT
BEGIN:STANDARD
TZOFFSETFROM:+0200
TZOFFSETTO:+0100
TZNAME:CET
DTSTART:20261025T010000
END:STANDARD
BEGIN:DAYLIGHT
TZOFFSETFROM:+0100
TZOFFSETTO:+0200
TZNAME:CEST
DTSTART:20270328T010000
END:DAYLIGHT
BEGIN:STANDARD
TZOFFSETFROM:+0200
TZOFFSETTO:+0100
TZNAME:CET
DTSTART:20271031T010000
END:STANDARD
END:VTIMEZONE
BEGIN:VEVENT
DTSTART;TZID=Europe/Prague:20260305T190000
DTEND;TZID=Europe/Prague:20260305T220000
DTSTAMP:20260421T140852
CREATED:20251111T132650Z
LAST-MODIFIED:20251111T132652Z
UID:37089-1772737200-1772748000@nasejiznimorava.cz
SUMMARY:Hvězdy swingu. Vivat Glenn Miller!
DESCRIPTION:Hvězdy swingu. Vivat Glenn Miller! se uskuteční dne 2026-03-05 v 19:00 v Tábor\, Univerzita. \n🎟️ Koupit vstupenku \n\nV Kulturním a společenském centru Univerzita Tábor připravujeme koncert\, kde na vás čekají vynikající ty nejkrásnější swingové a jazzové skladby od Glenna Millera po George Gershwina \nSwing Band Pražského salonniho orchestru (11 hudebníků) \nPořadem provází\, zpívá a diriguje: Václav Vomáčka \nPROGRAM:Glenn MILLER/ MEDLEY – Moonlight SerenadeGlenn MILLER/ MEDLEY – Star DustGlenn MILLER/ MEDLEY – Strings of PearlsHarry Warren/ Glenn MILLER –  Chattanooga Choo ChooHarry Warren/ Glenn MILLER –  At LastSyd WYCHE/ Mayme Watts – All Right\, O.K.Joe Garland/ Glenn MILLER – In The MoodIrving BERLIN – Alexander´s Ragtime BandGeorge GERSHWIN – They can´t take that away from meGeorge GERSHWIN – SummertimeCole PORTER – Too Darn HotBob THIELE – What A Wonderful WorldDuke ELLINGTON – CaravanKamil BĚHOUNEK – Má láska je jazz \ndélka: 75 minut bez přestávky \n\nTento tip na kulturní akci v Tábor najdete v přehledu na nasejiznimorava.cz kde na jednom místě shromažďujeme desítky dalších koncertů\, festivalů\, divadelních představení i komunitních událostí z celého regionu i z celé ČR. Přehled je přehledně řazený\, pravidelně aktualizovaný a umožní vám rychle najít přesně to\, co vás zajímá – od velkých open-air akcí až po menší lokální programy. Každý si tak snadno vybere podle svého vkusu i času. Pokud vás některá akce zaujme\, nezapomeňte si včas zajistit vstupenky; stačí kliknout na detail události a budete bezpečně přesměrováni na oficiálního prodejce vstupenek..
URL:https://nasejiznimorava.cz/event/hvezdy-swingu-vivat-glenn-miller-2/
LOCATION:Univerzita\, Tábor\, Univerzita\, Tábor\, Česká republika
CATEGORIES:Koncert
ATTACH;FMTTYPE=image/jpeg:https://nasejiznimorava.cz/wp-content/uploads/2025/11/320-23dcce9c68184c6cbfbd0836925a5ef6.jpg
END:VEVENT
END:VCALENDAR