BEGIN:VCALENDAR
VERSION:2.0
PRODID:-// „Objev místa, kde se dobře pije, krásně spí a skvěle žije“  - ECPv6.15.20//NONSGML v1.0//EN
CALSCALE:GREGORIAN
METHOD:PUBLISH
X-ORIGINAL-URL:https://nasejiznimorava.cz
X-WR-CALDESC:Akce na  „Objev místa, kde se dobře pije, krásně spí a skvěle žije“ 
REFRESH-INTERVAL;VALUE=DURATION:PT1H
X-Robots-Tag:noindex
X-PUBLISHED-TTL:PT1H
BEGIN:VTIMEZONE
TZID:Europe/Prague
BEGIN:DAYLIGHT
TZOFFSETFROM:+0100
TZOFFSETTO:+0200
TZNAME:CEST
DTSTART:20240331T010000
END:DAYLIGHT
BEGIN:STANDARD
TZOFFSETFROM:+0200
TZOFFSETTO:+0100
TZNAME:CET
DTSTART:20241027T010000
END:STANDARD
BEGIN:DAYLIGHT
TZOFFSETFROM:+0100
TZOFFSETTO:+0200
TZNAME:CEST
DTSTART:20250330T010000
END:DAYLIGHT
BEGIN:STANDARD
TZOFFSETFROM:+0200
TZOFFSETTO:+0100
TZNAME:CET
DTSTART:20251026T010000
END:STANDARD
BEGIN:DAYLIGHT
TZOFFSETFROM:+0100
TZOFFSETTO:+0200
TZNAME:CEST
DTSTART:20260329T010000
END:DAYLIGHT
BEGIN:STANDARD
TZOFFSETFROM:+0200
TZOFFSETTO:+0100
TZNAME:CET
DTSTART:20261025T010000
END:STANDARD
BEGIN:DAYLIGHT
TZOFFSETFROM:+0100
TZOFFSETTO:+0200
TZNAME:CEST
DTSTART:20270328T010000
END:DAYLIGHT
BEGIN:STANDARD
TZOFFSETFROM:+0200
TZOFFSETTO:+0100
TZNAME:CET
DTSTART:20271031T010000
END:STANDARD
END:VTIMEZONE
BEGIN:VEVENT
DTSTART;TZID=Europe/Prague:20260415T190000
DTEND;TZID=Europe/Prague:20260415T220000
DTSTAMP:20260421T124911
CREATED:20251111T133605Z
LAST-MODIFIED:20251111T133605Z
UID:37242-1776279600-1776290400@nasejiznimorava.cz
SUMMARY:Václav Noid Bárta a Bek Bek Clan
DESCRIPTION:Václav Noid Bárta a Bek Bek Clan se uskuteční dne 2026-04-15 v 19:00 v Tábor\, Hotel Palcát. \n🎟️ Koupit vstupenku \n\nVáclav NOID Bárta v Táboře! \nOd prvních kroků s kapelami Dolores Clan\, Noid Crew a Dymytry\, přes divadelní svět muzikálů až po jeho současnou sólovou tvorbu. Přijďte si projít dvacetiletou hudební cestu Václava NOIDA Bárty – charizmatického zpěváka\, autora filmové hudby a jedinečného hlasu české hudební scény. \nNa co se můžete těšit?Během večera zazní jak jeho autorské skladby\, tak i oblíbené převzaté songy\, které skvěle doplní energii a atmosféru celého koncertu. Tento výjimečný večer přinese nálož skvělé muziky\, pohody a neuvěřitelné energie\, která vás strhne! \nZažijte hudební show\, na kterou se nezapomíná! \n\nTento tip na kulturní akci v Tábor najdete v přehledu na nasejiznimorava.cz kde na jednom místě shromažďujeme desítky dalších koncertů\, festivalů\, divadelních představení i komunitních událostí z celého regionu i z celé ČR. Přehled je přehledně řazený\, pravidelně aktualizovaný a umožní vám rychle najít přesně to\, co vás zajímá – od velkých open-air akcí až po menší lokální programy. Každý si tak snadno vybere podle svého vkusu i času. Pokud vás některá akce zaujme\, nezapomeňte si včas zajistit vstupenky; stačí kliknout na detail události a budete bezpečně přesměrováni na oficiálního prodejce vstupenek..
URL:https://nasejiznimorava.cz/event/vaclav-noid-barta-a-bek-bek-clan-6/
LOCATION:Hotel Palcát\, Tábor\, Hotel Palcát\, Tábor\, Česká republika
CATEGORIES:Koncert
ATTACH;FMTTYPE=image/jpeg:https://nasejiznimorava.cz/wp-content/uploads/2025/11/320-2608bf0e35a94457be541d4373a55481.jpg
END:VEVENT
BEGIN:VEVENT
DTSTART;TZID=Europe/Prague:20260305T190000
DTEND;TZID=Europe/Prague:20260305T220000
DTSTAMP:20260421T124911
CREATED:20251111T132650Z
LAST-MODIFIED:20251111T132652Z
UID:37089-1772737200-1772748000@nasejiznimorava.cz
SUMMARY:Hvězdy swingu. Vivat Glenn Miller!
DESCRIPTION:Hvězdy swingu. Vivat Glenn Miller! se uskuteční dne 2026-03-05 v 19:00 v Tábor\, Univerzita. \n🎟️ Koupit vstupenku \n\nV Kulturním a společenském centru Univerzita Tábor připravujeme koncert\, kde na vás čekají vynikající ty nejkrásnější swingové a jazzové skladby od Glenna Millera po George Gershwina \nSwing Band Pražského salonniho orchestru (11 hudebníků) \nPořadem provází\, zpívá a diriguje: Václav Vomáčka \nPROGRAM:Glenn MILLER/ MEDLEY – Moonlight SerenadeGlenn MILLER/ MEDLEY – Star DustGlenn MILLER/ MEDLEY – Strings of PearlsHarry Warren/ Glenn MILLER –  Chattanooga Choo ChooHarry Warren/ Glenn MILLER –  At LastSyd WYCHE/ Mayme Watts – All Right\, O.K.Joe Garland/ Glenn MILLER – In The MoodIrving BERLIN – Alexander´s Ragtime BandGeorge GERSHWIN – They can´t take that away from meGeorge GERSHWIN – SummertimeCole PORTER – Too Darn HotBob THIELE – What A Wonderful WorldDuke ELLINGTON – CaravanKamil BĚHOUNEK – Má láska je jazz \ndélka: 75 minut bez přestávky \n\nTento tip na kulturní akci v Tábor najdete v přehledu na nasejiznimorava.cz kde na jednom místě shromažďujeme desítky dalších koncertů\, festivalů\, divadelních představení i komunitních událostí z celého regionu i z celé ČR. Přehled je přehledně řazený\, pravidelně aktualizovaný a umožní vám rychle najít přesně to\, co vás zajímá – od velkých open-air akcí až po menší lokální programy. Každý si tak snadno vybere podle svého vkusu i času. Pokud vás některá akce zaujme\, nezapomeňte si včas zajistit vstupenky; stačí kliknout na detail události a budete bezpečně přesměrováni na oficiálního prodejce vstupenek..
URL:https://nasejiznimorava.cz/event/hvezdy-swingu-vivat-glenn-miller-2/
LOCATION:Univerzita\, Tábor\, Univerzita\, Tábor\, Česká republika
CATEGORIES:Koncert
ATTACH;FMTTYPE=image/jpeg:https://nasejiznimorava.cz/wp-content/uploads/2025/11/320-23dcce9c68184c6cbfbd0836925a5ef6.jpg
END:VEVENT
BEGIN:VEVENT
DTSTART;TZID=Europe/Prague:20260215T170000
DTEND;TZID=Europe/Prague:20260215T200000
DTSTAMP:20260421T124911
CREATED:20251228T120238Z
LAST-MODIFIED:20251228T120242Z
UID:41174-1771174800-1771185600@nasejiznimorava.cz
SUMMARY:ISLA LOCA - BIKE O’Clock & Vašek Kolář
DESCRIPTION:ISLA LOCA – BIKE O’Clock & Vašek Kolář se uskuteční dne 2026-02-15 v 17:00 v Tábor\, Střelnice – spolkový dům. \n🎟️ Koupit vstupenku \n\nZveme vás na promítání filmu Isla Loca\, ve kterém se bikeři Ondra Šenk\, Damjan Siriški a Vašek Kolář vydali na ostrov Fuerteventura za cílem ultimátního bikového dobrodružství. \nBěhem intenzivního týdne na ostrově zažili úžasné sjezdy v sopečné krajině a prozkoumávali tajemné opuštěné komplexy v pobřežních městech. Z tohoto intenzivního výletu byl vytvořen film Isla Loca\, který si budete moct za přítomnosti Ondrise\, Vashi a Damexe užít a po promítání budou kluci povídat o tom\, co všechno během tohoto bikového dobrodružství zažili a jaké peripetie museli zdolávat. Podpultových historek z tohoto projektu mají kluci dostatek a velmi rádi vám představí ultimátní bikerské hřiště\, kterým je ostrov Fuerteventura. \nProgram: \n– promítání filmu Isla Loca – extrémní biking na ostrově (45min) \n– povídání Ondris\, Vasha a Damex o natáčení filmu \n– soutěž o ceny \n– autogramiáda\, rozdávání podpisových kartiček\, merch \n\nTento tip na kulturní akci v Tábor najdete v přehledu na nasejiznimorava.cz kde na jednom místě shromažďujeme desítky dalších koncertů\, festivalů\, divadelních představení i komunitních událostí z celého regionu i z celé ČR. Přehled je přehledně řazený\, pravidelně aktualizovaný a umožní vám rychle najít přesně to\, co vás zajímá – od velkých open-air akcí až po menší lokální programy. Každý si tak snadno vybere podle svého vkusu i času. Pokud vás některá akce zaujme\, nezapomeňte si včas zajistit vstupenky; stačí kliknout na detail události a budete bezpečně přesměrováni na oficiálního prodejce vstupenek..
URL:https://nasejiznimorava.cz/event/isla-loca-bike-oclock-vasek-kolar-4/
LOCATION:Střelnice – spolkový dům\, Tábor\, Střelnice - spolkový dům\, Tábor\, Česká republika
CATEGORIES:Zábava
ATTACH;FMTTYPE=image/jpeg:https://nasejiznimorava.cz/wp-content/uploads/2025/12/320-62de4fca33e64ecea4447fa7f580cba8.jpg
END:VEVENT
BEGIN:VEVENT
DTSTART;TZID=Europe/Prague:20260119T190000
DTEND;TZID=Europe/Prague:20260119T220000
DTSTAMP:20260421T124911
CREATED:20251112T202742Z
LAST-MODIFIED:20251112T202759Z
UID:39029-1768849200-1768860000@nasejiznimorava.cz
SUMMARY:Martin Hranáč - CRAZY SHOW - Tábor
DESCRIPTION:Martin Hranáč – CRAZY SHOW – Tábor se uskuteční dne 2026-01-19 v 19:00 v Tábor\, Hotel Palcát. \n🎟️ Koupit vstupenku \n\nChcete vstoupit do světa humoru a improvizace? Tak je CRAZY SHOW právě pro VÁS! Připravte se na nezapomenutelný večer plný smíchu s Martinem Hranáčem – komikem\, hercem\, číšníkem a optimistou\, který svým jedinečným smyslem pro humor baví lidi na sociálních sítích. Martinův příběh číšníka a jeho každodenní zážitky z gastronomie se stávají zábavným vyprávěním\, které osloví naprosto všechny. \nKaždé vystoupení je unikátní a plné improvizace\, protože Martin miluje improvizaci a scénáře mění v průběhu večera\, což občas vykolejí jeho sestru Štěpánku Šmídovou\, která mu dělá skvělou společnost během celé show. Všechny scénky a historky vychází z Martinových zkušeností a zážitků\, jak profesního\, tak soukromého života. Jeho humor je nekorektní\, sebeironický a nebojí se jít na hranu – právě to dělá jeho show nezapomenutelnou! \nNenechte si ujít tento jedinečný zážitek! Vstupenky v prodeji! \nPořad není vhodný mladším 15 let! \n\nTento tip na kulturní akci v Tábor najdete v přehledu na nasejiznimorava.cz kde na jednom místě shromažďujeme desítky dalších koncertů\, festivalů\, divadelních představení i komunitních událostí z celého regionu i z celé ČR. Přehled je přehledně řazený\, pravidelně aktualizovaný a umožní vám rychle najít přesně to\, co vás zajímá – od velkých open-air akcí až po menší lokální programy. Každý si tak snadno vybere podle svého vkusu i času. Pokud vás některá akce zaujme\, nezapomeňte si včas zajistit vstupenky; stačí kliknout na detail události a budete bezpečně přesměrováni na oficiálního prodejce vstupenek..
URL:https://nasejiznimorava.cz/event/martin-hranac-crazy-show-tabor-2/
LOCATION:Hotel Palcát\, Tábor\, Hotel Palcát\, Tábor\, Česká republika
CATEGORIES:Zábava
ATTACH;FMTTYPE=image/jpeg:https://nasejiznimorava.cz/wp-content/uploads/2025/11/320-fb0b175585d54645ba06fe3575a101b1.jpg
END:VEVENT
BEGIN:VEVENT
DTSTART;TZID=Europe/Prague:20251219T200000
DTEND;TZID=Europe/Prague:20251219T230000
DTSTAMP:20260421T124911
CREATED:20251111T130347Z
LAST-MODIFIED:20251111T130347Z
UID:36548-1766174400-1766185200@nasejiznimorava.cz
SUMMARY:Retro Dance Párty
DESCRIPTION:Retro Dance Párty se uskuteční dne 2025-12-19 v 20:00 v Tábor\, Hotel Palcát. \n🎟️ Koupit vstupenku \n\nV rámci našeho největšího turné\, které bude zakončeno 20. 11. 2026 v O2 universum v Praze\, se vracíme do Tábora! \nRETRO DANCE PÁRTY je šestihodinový disco ples těch největších hitů od sedmdesátých let až po milénium. Zkrátka od Abby přes Modern Talking až po Rihannu. \nPřijďte klidně v džínech\, ale nejlépe retro! Nejlepší dobové kostýmy budou odměněny v naší velké soutěži. Hlavní cenou jsou dvě vstupenky na naši mega show do O2 universa! \nTěšit se můžete na skvělý zvuk\, retro fotokoutek\, opět nový rozsáhlejší světelný park a hity našeho mládí v originálních verzích. \nNa místě budou k dispozici vstupenky v jednotné ceně 350 Kč bez garance sezení.  \nDoba je zlá\, tak tancujme\, dokud můžeme! \n  \n  \n\nTento tip na kulturní akci v Tábor najdete v přehledu na nasejiznimorava.cz kde na jednom místě shromažďujeme desítky dalších koncertů\, festivalů\, divadelních představení i komunitních událostí z celého regionu i z celé ČR. Přehled je přehledně řazený\, pravidelně aktualizovaný a umožní vám rychle najít přesně to\, co vás zajímá – od velkých open-air akcí až po menší lokální programy. Každý si tak snadno vybere podle svého vkusu i času. Pokud vás některá akce zaujme\, nezapomeňte si včas zajistit vstupenky; stačí kliknout na detail události a budete bezpečně přesměrováni na oficiálního prodejce vstupenek..
URL:https://nasejiznimorava.cz/event/retro-dance-party/
LOCATION:Hotel Palcát\, Tábor\, Hotel Palcát\, Tábor\, Česká republika
CATEGORIES:Zábava
ATTACH;FMTTYPE=image/jpeg:https://nasejiznimorava.cz/wp-content/uploads/2025/11/320-ae4de1d7371b4192b05ebacde8bd66ea.jpg
END:VEVENT
BEGIN:VEVENT
DTSTART;TZID=Europe/Prague:20251216T190000
DTEND;TZID=Europe/Prague:20251216T220000
DTSTAMP:20260421T124911
CREATED:20251111T122958Z
LAST-MODIFIED:20251111T122958Z
UID:35785-1765911600-1765922400@nasejiznimorava.cz
SUMMARY:Jakub Smolík - Vánoční koncert
DESCRIPTION:Jakub Smolík – Vánoční koncert se uskuteční dne 2025-12-16 v 19:00 v Tábor\, Hotel Palcát. \n🎟️ Koupit vstupenku \n\nJakub Smolík – vánoční koncert s kapelou v hotelu Palcát v Táboře v úterý 16. prosince 2025. \nMůžete se těšit na vánoční písně i největší hity\, promítání\, vtipné historky\, prostě večer plný písní a zábavy. \n\nTento tip na kulturní akci v Tábor najdete v přehledu na nasejiznimorava.cz kde na jednom místě shromažďujeme desítky dalších koncertů\, festivalů\, divadelních představení i komunitních událostí z celého regionu i z celé ČR. Přehled je přehledně řazený\, pravidelně aktualizovaný a umožní vám rychle najít přesně to\, co vás zajímá – od velkých open-air akcí až po menší lokální programy. Každý si tak snadno vybere podle svého vkusu i času. Pokud vás některá akce zaujme\, nezapomeňte si včas zajistit vstupenky; stačí kliknout na detail události a budete bezpečně přesměrováni na oficiálního prodejce vstupenek..
URL:https://nasejiznimorava.cz/event/jakub-smolik-vanocni-koncert/
LOCATION:Hotel Palcát\, Tábor\, Hotel Palcát\, Tábor\, Česká republika
CATEGORIES:Koncert
ATTACH;FMTTYPE=image/jpeg:https://nasejiznimorava.cz/wp-content/uploads/2025/11/320-7dd3a86cf6f94783aef31e017b955b2b.jpg
END:VEVENT
BEGIN:VEVENT
DTSTART;TZID=Europe/Prague:20251208T190000
DTEND;TZID=Europe/Prague:20251208T220000
DTSTAMP:20260421T124911
CREATED:20251111T132037Z
LAST-MODIFIED:20251111T132037Z
UID:36964-1765220400-1765231200@nasejiznimorava.cz
SUMMARY:Hudba Coldplay při svíčkách
DESCRIPTION:Hudba Coldplay při svíčkách se uskuteční dne 2025-12-08 v 19:00 v Tábor\, Hotel Palcát. \n🎟️ Koupit vstupenku \n\nNenechte si ujít večer plný energie a emocí\, kde zazní ty největší hity britské kapely Coldplay. Světlo stovky svíček vytvoří nezapomenutelnou atmosféru tohoto jedinečného koncertu. \nProgram v podání smyčcového kvarteta nabídne výběr těch nejznámějších skladeb Coldplay\, včetně hitů jako „Fix You“\, „Yellow“ či „Viva La Vida“\, které si získaly srdce fanoušků po celém světě. \nTento koncert přinese víc než jen hudbu; stovky svíček rozzáří prostor a vytvoří atmosféru plnou emocí\, melancholie a nezapomenutelných melodií\, které vás vezmou na hudební cestu s Coldplay. \nAkce je přístupná od 12 let. Každý účastník musí předložit platnou vstupenku  zakoupenou výhradně v síti SMS ticket. \n\nTento tip na kulturní akci v Tábor najdete v přehledu na nasejiznimorava.cz kde na jednom místě shromažďujeme desítky dalších koncertů\, festivalů\, divadelních představení i komunitních událostí z celého regionu i z celé ČR. Přehled je přehledně řazený\, pravidelně aktualizovaný a umožní vám rychle najít přesně to\, co vás zajímá – od velkých open-air akcí až po menší lokální programy. Každý si tak snadno vybere podle svého vkusu i času. Pokud vás některá akce zaujme\, nezapomeňte si včas zajistit vstupenky; stačí kliknout na detail události a budete bezpečně přesměrováni na oficiálního prodejce vstupenek..
URL:https://nasejiznimorava.cz/event/hudba-coldplay-pri-svickach-4/
LOCATION:Hotel Palcát\, Tábor\, Hotel Palcát\, Tábor\, Česká republika
CATEGORIES:Koncert
ATTACH;FMTTYPE=image/jpeg:https://nasejiznimorava.cz/wp-content/uploads/2025/11/320-63afcdab16b5425196dd0a841032cd85.jpg
END:VEVENT
BEGIN:VEVENT
DTSTART;TZID=Europe/Prague:20251202T190000
DTEND;TZID=Europe/Prague:20251202T220000
DTSTAMP:20260421T124911
CREATED:20251111T123740Z
LAST-MODIFIED:20251111T123740Z
UID:36093-1764702000-1764712800@nasejiznimorava.cz
SUMMARY:Martin Hranáč - CRAZY SHOW - Tábor
DESCRIPTION:Martin Hranáč – CRAZY SHOW – Tábor se uskuteční dne 2025-12-02 v 19:00 v Tábor\, Hotel Palcát. \n🎟️ Koupit vstupenku \n\nChcete vstoupit do světa humoru a improvizace? Tak je CRAZY SHOW právě pro VÁS! Připravte se na nezapomenutelný večer plný smíchu s Martinem Hranáčem – komikem\, hercem\, číšníkem a optimistou\, který svým jedinečným smyslem pro humor baví lidi na sociálních sítích. Martinův příběh číšníka a jeho každodenní zážitky z gastronomie se stávají zábavným vyprávěním\, které osloví naprosto všechny. \nKaždé vystoupení je unikátní a plné improvizace\, protože Martin miluje improvizaci a scénáře mění v průběhu večera\, což občas vykolejí jeho sestru Štěpánku Šmídovou\, která mu dělá skvělou společnost během celé show. Všechny scénky a historky vychází z Martinových zkušeností a zážitků\, jak profesního\, tak soukromého života. Jeho humor je nekorektní\, sebeironický a nebojí se jít na hranu – právě to dělá jeho show nezapomenutelnou! \nNenechte si ujít tento jedinečný zážitek! Vstupenky v prodeji! \nPořad není vhodný mladším 15 let! \nhttps://www.standupshow.cz/ \n\nTento tip na kulturní akci v Tábor najdete v přehledu na nasejiznimorava.cz kde na jednom místě shromažďujeme desítky dalších koncertů\, festivalů\, divadelních představení i komunitních událostí z celého regionu i z celé ČR. Přehled je přehledně řazený\, pravidelně aktualizovaný a umožní vám rychle najít přesně to\, co vás zajímá – od velkých open-air akcí až po menší lokální programy. Každý si tak snadno vybere podle svého vkusu i času. Pokud vás některá akce zaujme\, nezapomeňte si včas zajistit vstupenky; stačí kliknout na detail události a budete bezpečně přesměrováni na oficiálního prodejce vstupenek..
URL:https://nasejiznimorava.cz/event/martin-hranac-crazy-show-tabor/
LOCATION:Hotel Palcát\, Tábor\, Hotel Palcát\, Tábor\, Česká republika
CATEGORIES:Zábava
ATTACH;FMTTYPE=image/jpeg:https://nasejiznimorava.cz/wp-content/uploads/2025/11/320-10aade16199c4e13bca44b5fd315afad.jpg
END:VEVENT
BEGIN:VEVENT
DTSTART;TZID=Europe/Prague:20251129T190000
DTEND;TZID=Europe/Prague:20251129T220000
DTSTAMP:20260421T124911
CREATED:20251111T132004Z
LAST-MODIFIED:20251111T132004Z
UID:36948-1764442800-1764453600@nasejiznimorava.cz
SUMMARY:Maturitní ples - 4.A - OA Tábor
DESCRIPTION:Maturitní ples – 4.A – OA Tábor se uskuteční dne 2025-11-29 v 19:00 v Tábor\, Hotel Palcát. \n🎟️ Koupit vstupenku \n\nPřipoutejte se – čeká vás nezapomenutelný let kolem světa!Zveme vás na maturitní ples třídy 4.A\, který vás během jediného večera provede různými kouty planety. \nTěšit se můžete na:✦ slavnostní nástup maturantů✦ originální předtančení✦ mezinárodní atmosféru✦ bohatou tombolu✦ půlnoční překvapení✦ afterparty plnou energie \nPřijďte s námi oslavit konec jedné cesty a začátek nové – ve velkém stylu!Srdcem z Tábora\, duší z celého světa. \n\nTento tip na kulturní akci v Tábor najdete v přehledu na nasejiznimorava.cz kde na jednom místě shromažďujeme desítky dalších koncertů\, festivalů\, divadelních představení i komunitních událostí z celého regionu i z celé ČR. Přehled je přehledně řazený\, pravidelně aktualizovaný a umožní vám rychle najít přesně to\, co vás zajímá – od velkých open-air akcí až po menší lokální programy. Každý si tak snadno vybere podle svého vkusu i času. Pokud vás některá akce zaujme\, nezapomeňte si včas zajistit vstupenky; stačí kliknout na detail události a budete bezpečně přesměrováni na oficiálního prodejce vstupenek..
URL:https://nasejiznimorava.cz/event/maturitni-ples-4-a-oa-tabor/
LOCATION:Hotel Palcát\, Tábor\, Hotel Palcát\, Tábor\, Česká republika
CATEGORIES:Zábava
ATTACH;FMTTYPE=image/jpeg:https://nasejiznimorava.cz/wp-content/uploads/2025/11/320-1ccfa688ec2045eea1e565fa5cb79ffe.jpg
END:VEVENT
BEGIN:VEVENT
DTSTART;TZID=Europe/Prague:20251128T190000
DTEND;TZID=Europe/Prague:20251128T220000
DTSTAMP:20260421T124911
CREATED:20251111T160918Z
LAST-MODIFIED:20251111T160919Z
UID:38152-1764356400-1764367200@nasejiznimorava.cz
SUMMARY:Vilém Veverka\, Kateřina Englichová\, Karolína Berková
DESCRIPTION:Vilém Veverka\, Kateřina Englichová\, Karolína Berková se uskuteční dne 2025-11-28 v 19:00 v Tábor\, Kostel Sv. Filipa a Jakuba. \n🎟️ Koupit vstupenku \n\nTáborská rodačka\, mezzosopranistka Karolína Berková vystoupí spolu s harfenistkou Kateřinou Englichovou. Spojení s Vilémem Veverkou slibuje skvělý hudební zážitek. \n\nTento tip na kulturní akci v Tábor najdete v přehledu na nasejiznimorava.cz kde na jednom místě shromažďujeme desítky dalších koncertů\, festivalů\, divadelních představení i komunitních událostí z celého regionu i z celé ČR. Přehled je přehledně řazený\, pravidelně aktualizovaný a umožní vám rychle najít přesně to\, co vás zajímá – od velkých open-air akcí až po menší lokální programy. Každý si tak snadno vybere podle svého vkusu i času. Pokud vás některá akce zaujme\, nezapomeňte si včas zajistit vstupenky; stačí kliknout na detail události a budete bezpečně přesměrováni na oficiálního prodejce vstupenek..
URL:https://nasejiznimorava.cz/event/vilem-veverka-katerina-englichova-karolina-berkova/
LOCATION:Kostel Sv. Filipa a Jakuba\, Tábor\, Kostel Sv. Filipa a Jakuba\, Tábor\, Česká republika
CATEGORIES:Koncert
ATTACH;FMTTYPE=image/jpeg:https://nasejiznimorava.cz/wp-content/uploads/2025/11/320-b6cbd375bda342499e17329c21444613.jpg
END:VEVENT
BEGIN:VEVENT
DTSTART;TZID=Europe/Prague:20251119T200000
DTEND;TZID=Europe/Prague:20251119T230000
DTSTAMP:20260421T124911
CREATED:20251111T124017Z
LAST-MODIFIED:20251111T124018Z
UID:36193-1763582400-1763593200@nasejiznimorava.cz
SUMMARY:Souboj Klavírů v Táboře
DESCRIPTION:Souboj Klavírů v Táboře se uskuteční dne 2025-11-19 v 20:00 v Tábor\, Hotel Palcát. \n🎟️ Koupit vstupenku \n\nZveme vás na jedinečný koncert dvou výjimečných klavíristů a hudebních skladatelů – Ondřeje Brzobohatého a Ondřeje Brouska! Tito celoživotní přátelé spojí své hudební mistrovství na pódiu v táborském hotelu Palcát! Přijďte si užít večer plný virtuózní klavírní hry a nezapomenutelných melodií! \nJak by zněla „Osudová“\, kdyby byl Beethoven optimista? Proč pláčeme při banálním filmovém dialogu? Co je to „nevhodná“ hudba? Že se u klasické hudby nedá pořádně zasmát? Může mít „Souboj klavírů“ vítěze? \nNa tyto otázky vám stylově odpoví duo Brousek – Brzobohatý\, které připravilo nezapomenutelný večer plný hudebních vtipů s dvěma klavíry. \n„Celé představení si můžete naplno vychutnat\, díky korunnímu klenotu mezi koncertními klavíry C. Bechstein D 282.Tímto děkujeme našemu partnerovi C. Bechstein – www.bechstein.com za podporu akce.“ \n\nTento tip na kulturní akci v Tábor najdete v přehledu na nasejiznimorava.cz kde na jednom místě shromažďujeme desítky dalších koncertů\, festivalů\, divadelních představení i komunitních událostí z celého regionu i z celé ČR. Přehled je přehledně řazený\, pravidelně aktualizovaný a umožní vám rychle najít přesně to\, co vás zajímá – od velkých open-air akcí až po menší lokální programy. Každý si tak snadno vybere podle svého vkusu i času. Pokud vás některá akce zaujme\, nezapomeňte si včas zajistit vstupenky; stačí kliknout na detail události a budete bezpečně přesměrováni na oficiálního prodejce vstupenek..
URL:https://nasejiznimorava.cz/event/souboj-klaviru-v-tabore/
LOCATION:Hotel Palcát\, Tábor\, Hotel Palcát\, Tábor\, Česká republika
CATEGORIES:Koncert
ATTACH;FMTTYPE=image/jpeg:https://nasejiznimorava.cz/wp-content/uploads/2025/11/320-a6a56d0df9a147b0818d47ee826d7592.jpg
END:VEVENT
BEGIN:VEVENT
DTSTART;TZID=Europe/Prague:20251118T190000
DTEND;TZID=Europe/Prague:20251118T220000
DTSTAMP:20260421T124911
CREATED:20251111T122113Z
LAST-MODIFIED:20251111T122114Z
UID:35610-1763492400-1763503200@nasejiznimorava.cz
SUMMARY:Halina Pawlowská - Manuál zralé ženy | Tábor
DESCRIPTION:Halina Pawlowská – Manuál zralé ženy | Tábor se uskuteční dne 2025-11-18 v 19:00 v Tábor\, Hotel Palcát. \n🎟️ Koupit vstupenku \n\nHALINA PAWLOWSKÁ – MANUÁL ZRALÉ ŽENYJedinečná talk-show Haliny Pawlowské míří do Tábora! \nHalina Pawlowská je spisovatelka a scénáristka\, ale i výborná vypravěčka. Její zájezdové pořady jsou nabité humorem a nebrání se ani diskuzím s přítomným publikem. Její pořady mají výborný divácký ohlas. \nChcete být obletovaná\, krásná\, věčně mladá? Poslechněte si milostné příběhy\, které vás inspirují\, zasmějte se erotickým zkušenostem ostatních\, samy se zeptejte na všechno\, co vás zajímá a nechte si poradit! A hlavně se přijďte zasmát! \nManuál zralé ženy je určen ženám od dvanácti do sta let\, je ale i pro muže\, protože právě díky manuálu budou lépe rozumět svým partnerkám a možná i sami sobě. Není nic špatného na tom být zralá žena\, i když slovo „zralá“ mi připomíná sýr\, u kterého je nejvyšší čas ho zkonzumovat… \nZralost je báječná! Buď z toho důvodu\, že si můžete gratulovat\, že jste se dožili už pěkného počtu let\, a nebo proto\, že jste sice ještě velice mladí\, ale jste jedinci s moudrým pohledem na svět. \n\nTento tip na kulturní akci v Tábor najdete v přehledu na nasejiznimorava.cz kde na jednom místě shromažďujeme desítky dalších koncertů\, festivalů\, divadelních představení i komunitních událostí z celého regionu i z celé ČR. Přehled je přehledně řazený\, pravidelně aktualizovaný a umožní vám rychle najít přesně to\, co vás zajímá – od velkých open-air akcí až po menší lokální programy. Každý si tak snadno vybere podle svého vkusu i času. Pokud vás některá akce zaujme\, nezapomeňte si včas zajistit vstupenky; stačí kliknout na detail události a budete bezpečně přesměrováni na oficiálního prodejce vstupenek..
URL:https://nasejiznimorava.cz/event/halina-pawlowska-manual-zrale-zeny-tabor/
LOCATION:Hotel Palcát\, Tábor\, Hotel Palcát\, Tábor\, Česká republika
CATEGORIES:Zábava
ATTACH;FMTTYPE=image/jpeg:https://nasejiznimorava.cz/wp-content/uploads/2025/11/320-ae0ecbbd6d4740b8ad55348f38c682e6.jpg
END:VEVENT
BEGIN:VEVENT
DTSTART;TZID=Europe/Prague:20251113T190000
DTEND;TZID=Europe/Prague:20251113T220000
DTSTAMP:20260421T124911
CREATED:20251111T155539Z
LAST-MODIFIED:20251111T155540Z
UID:37948-1763060400-1763071200@nasejiznimorava.cz
SUMMARY:Jan Mráček & Jiří Vodička
DESCRIPTION:Jan Mráček & Jiří Vodička se uskuteční dne 2025-11-13 v 19:00 v Tábor\, Gotický sál Husitského muzea. \n🎟️ Koupit vstupenku \n\nDva mistři\, jedno pódium: Vodička & Mráček – Symfonie dokonalosti. To je nový\, unikátní projekt houslistů Jiřího Vodičky a Jana Mráčka. \nAčkoliv každý z nich září jedinečnou energií a projevem\, jejich společné průsečíky a vzájemné pochopení pro hudbu vytváří strhující harmonii. Toto spojení dvou ojedinělých hráčů slibuje večer plný virtuozity\, vášně a nezapomenutelných hudebních okamžiků. Nenechte si ujít jedinečnou příležitost vidět a slyšet tyto houslové velikány pohromadě! \n\nTento tip na kulturní akci v Tábor najdete v přehledu na nasejiznimorava.cz kde na jednom místě shromažďujeme desítky dalších koncertů\, festivalů\, divadelních představení i komunitních událostí z celého regionu i z celé ČR. Přehled je přehledně řazený\, pravidelně aktualizovaný a umožní vám rychle najít přesně to\, co vás zajímá – od velkých open-air akcí až po menší lokální programy. Každý si tak snadno vybere podle svého vkusu i času. Pokud vás některá akce zaujme\, nezapomeňte si včas zajistit vstupenky; stačí kliknout na detail události a budete bezpečně přesměrováni na oficiálního prodejce vstupenek..
URL:https://nasejiznimorava.cz/event/jan-mracek-jiri-vodicka/
LOCATION:Gotický sál Husitského muzea\, Tábor\, Gotický sál Husitského muzea\, Tábor\, Česká republika
CATEGORIES:Koncert
ATTACH;FMTTYPE=image/jpeg:https://nasejiznimorava.cz/wp-content/uploads/2025/11/320-07cb457ad49d4db38ce4d36c9d2abe44.jpg
END:VEVENT
END:VCALENDAR