BEGIN:VCALENDAR
VERSION:2.0
PRODID:-// „Objev místa, kde se dobře pije, krásně spí a skvěle žije“  - ECPv6.15.20//NONSGML v1.0//EN
CALSCALE:GREGORIAN
METHOD:PUBLISH
X-WR-CALNAME: „Objev místa, kde se dobře pije, krásně spí a skvěle žije“ 
X-ORIGINAL-URL:https://nasejiznimorava.cz
X-WR-CALDESC:Akce na  „Objev místa, kde se dobře pije, krásně spí a skvěle žije“ 
REFRESH-INTERVAL;VALUE=DURATION:PT1H
X-Robots-Tag:noindex
X-PUBLISHED-TTL:PT1H
BEGIN:VTIMEZONE
TZID:Europe/Prague
BEGIN:DAYLIGHT
TZOFFSETFROM:+0100
TZOFFSETTO:+0200
TZNAME:CEST
DTSTART:20250330T010000
END:DAYLIGHT
BEGIN:STANDARD
TZOFFSETFROM:+0200
TZOFFSETTO:+0100
TZNAME:CET
DTSTART:20251026T010000
END:STANDARD
BEGIN:DAYLIGHT
TZOFFSETFROM:+0100
TZOFFSETTO:+0200
TZNAME:CEST
DTSTART:20260329T010000
END:DAYLIGHT
BEGIN:STANDARD
TZOFFSETFROM:+0200
TZOFFSETTO:+0100
TZNAME:CET
DTSTART:20261025T010000
END:STANDARD
BEGIN:DAYLIGHT
TZOFFSETFROM:+0100
TZOFFSETTO:+0200
TZNAME:CEST
DTSTART:20270328T010000
END:DAYLIGHT
BEGIN:STANDARD
TZOFFSETFROM:+0200
TZOFFSETTO:+0100
TZNAME:CET
DTSTART:20271031T010000
END:STANDARD
END:VTIMEZONE
BEGIN:VEVENT
DTSTART;TZID=Europe/Prague:20260207T190000
DTEND;TZID=Europe/Prague:20260207T220000
DTSTAMP:20260421T125614
CREATED:20251211T053940Z
LAST-MODIFIED:20251211T053941Z
UID:39777-1770490800-1770501600@nasejiznimorava.cz
SUMMARY:Vivaldi - Čtvero ročních dob
DESCRIPTION:Vivaldi – Čtvero ročních dob se uskuteční dne 2026-02-07 v 19:00 v Karlovy Vary\, Hotel Thermal. \n🎟️ Koupit vstupenku \n\nNenechte si ujít jedinečný koncert\, kde zazní nesmrtelné dílo klasické hudby –Čtvero ročních dob od italského skladatele Antonia Vivaldiho. Tento výjimečný večer nabídne podání smyčcového kvartetu\, který přenese posluchače do světa Vivaldiho hudební magie. \nTěšte se na neopakovatelnou atmosféru koncertní síně naplněné očekáváním\, kde vás zvuky smyčccových nástrojů zavedou do krásného světa přírodních cyklů\, jak je zachytil mistr Vivaldi. V tomto provedení kvartetu zažijete jarní svěžest\, letní radost\, podzimní klid i zimní mrazivou krásu. \nTento koncert nabídne víc než jen hudbu. Sál ozáří stovky svíček\, které vytvoří magickou atmosféru a dokonale doplní Vivaldiho mistrovské dílo. Spojení hudby a světla zajistí nezapomenutelný večer plný emocí. \nAkce je přístupná od 12 let. Každý účastník musí předložit platnou vstupenku  zakoupenou výhradně v síti smsticket. \n\nTento tip na kulturní akci v Karlovy Vary najdete v přehledu na nasejiznimorava.cz kde na jednom místě shromažďujeme desítky dalších koncertů\, festivalů\, divadelních představení i komunitních událostí z celého regionu i z celé ČR. Přehled je přehledně řazený\, pravidelně aktualizovaný a umožní vám rychle najít přesně to\, co vás zajímá – od velkých open-air akcí až po menší lokální programy. Každý si tak snadno vybere podle svého vkusu i času. Pokud vás některá akce zaujme\, nezapomeňte si včas zajistit vstupenky; stačí kliknout na detail události a budete bezpečně přesměrováni na oficiálního prodejce vstupenek..
URL:https://nasejiznimorava.cz/event/vivaldi-ctvero-rocnich-dob/
LOCATION:Hotel Thermal\, Karlovy Vary\, Hotel Thermal\, Karlovy Vary\, Česká republika
CATEGORIES:Koncert
ATTACH;FMTTYPE=image/jpeg:https://nasejiznimorava.cz/wp-content/uploads/2025/12/320-052084b719f04c6b906d1b839796c529.jpg
END:VEVENT
END:VCALENDAR