BEGIN:VCALENDAR
VERSION:2.0
PRODID:-// „Objev místa, kde se dobře pije, krásně spí a skvěle žije“  - ECPv6.15.20//NONSGML v1.0//EN
CALSCALE:GREGORIAN
METHOD:PUBLISH
X-WR-CALNAME: „Objev místa, kde se dobře pije, krásně spí a skvěle žije“ 
X-ORIGINAL-URL:https://nasejiznimorava.cz
X-WR-CALDESC:Akce na  „Objev místa, kde se dobře pije, krásně spí a skvěle žije“ 
REFRESH-INTERVAL;VALUE=DURATION:PT1H
X-Robots-Tag:noindex
X-PUBLISHED-TTL:PT1H
BEGIN:VTIMEZONE
TZID:Europe/Prague
BEGIN:DAYLIGHT
TZOFFSETFROM:+0100
TZOFFSETTO:+0200
TZNAME:CEST
DTSTART:20250330T010000
END:DAYLIGHT
BEGIN:STANDARD
TZOFFSETFROM:+0200
TZOFFSETTO:+0100
TZNAME:CET
DTSTART:20251026T010000
END:STANDARD
BEGIN:DAYLIGHT
TZOFFSETFROM:+0100
TZOFFSETTO:+0200
TZNAME:CEST
DTSTART:20260329T010000
END:DAYLIGHT
BEGIN:STANDARD
TZOFFSETFROM:+0200
TZOFFSETTO:+0100
TZNAME:CET
DTSTART:20261025T010000
END:STANDARD
BEGIN:DAYLIGHT
TZOFFSETFROM:+0100
TZOFFSETTO:+0200
TZNAME:CEST
DTSTART:20270328T010000
END:DAYLIGHT
BEGIN:STANDARD
TZOFFSETFROM:+0200
TZOFFSETTO:+0100
TZNAME:CET
DTSTART:20271031T010000
END:STANDARD
END:VTIMEZONE
BEGIN:VEVENT
DTSTART;TZID=Europe/Prague:20260523T100000
DTEND;TZID=Europe/Prague:20260523T130000
DTSTAMP:20260420T003405
CREATED:20260209T141408Z
LAST-MODIFIED:20260209T141409Z
UID:42084-1779530400-1779541200@nasejiznimorava.cz
SUMMARY:Za vínem na Podluží
DESCRIPTION:Za vínem na Podluží se uskuteční dne 2026-05-23 v 10:00 v Tvrdonice\, Tvrdonice a Kostice. \n🎟️ Koupit vstupenku \n\nObce Tvrdonice a Kostice ležící v samotném srdci Podluží\, nepatří svou rozlohou vinic k velikánům. Avšak vína zdejších vinařů dosahují výborných kvalit\, o čem svědčí úspěchy na tuzemských i zahraničních výstavách. Své sklepy otevře na 18 drobných i profi vinařů\, z obou obcí. Naleznete zde i vína pod značkou BIO. Přijdte si sami udělat názor na kvalitu zdejších vín. Ochutnat místní speciality\, zdejší praženou kávu\, pivo ze Slovácka\, či delikatesy ze samotné Calabrie. Z dobrým vínem a písničkou na rtech při cimbálové muzice\, či jiné živé produkci. V ceně vstupenky je zahrnut i převoz mezi sklepy koňským povozem. \n\nTento tip na kulturní akci v Tvrdonice najdete v přehledu na nasejiznimorava.cz kde na jednom místě shromažďujeme desítky dalších koncertů\, festivalů\, divadelních představení i komunitních událostí z celého regionu i z celé ČR. Přehled je přehledně řazený\, pravidelně aktualizovaný a umožní vám rychle najít přesně to\, co vás zajímá – od velkých open-air akcí až po menší lokální programy. Každý si tak snadno vybere podle svého vkusu i času. Pokud vás některá akce zaujme\, nezapomeňte si včas zajistit vstupenky; stačí kliknout na detail události a budete bezpečně přesměrováni na oficiálního prodejce vstupenek..
URL:https://nasejiznimorava.cz/event/za-vinem-na-podluzi/
LOCATION:Tvrdonice a Kostice\, Tvrdonice\, Tvrdonice a Kostice\, Tvrdonice\, Česká republika
CATEGORIES:Festival
ATTACH;FMTTYPE=image/jpeg:https://nasejiznimorava.cz/wp-content/uploads/2026/02/320-4fbe9b5d48c342199ef38d6e1855da85.jpg
END:VEVENT
END:VCALENDAR