BEGIN:VCALENDAR
VERSION:2.0
PRODID:-// „Objev místa, kde se dobře pije, krásně spí a skvěle žije“  - ECPv6.15.20//NONSGML v1.0//EN
CALSCALE:GREGORIAN
METHOD:PUBLISH
X-WR-CALNAME: „Objev místa, kde se dobře pije, krásně spí a skvěle žije“ 
X-ORIGINAL-URL:https://nasejiznimorava.cz
X-WR-CALDESC:Akce na  „Objev místa, kde se dobře pije, krásně spí a skvěle žije“ 
REFRESH-INTERVAL;VALUE=DURATION:PT1H
X-Robots-Tag:noindex
X-PUBLISHED-TTL:PT1H
BEGIN:VTIMEZONE
TZID:Europe/Prague
BEGIN:DAYLIGHT
TZOFFSETFROM:+0100
TZOFFSETTO:+0200
TZNAME:CEST
DTSTART:20250330T010000
END:DAYLIGHT
BEGIN:STANDARD
TZOFFSETFROM:+0200
TZOFFSETTO:+0100
TZNAME:CET
DTSTART:20251026T010000
END:STANDARD
BEGIN:DAYLIGHT
TZOFFSETFROM:+0100
TZOFFSETTO:+0200
TZNAME:CEST
DTSTART:20260329T010000
END:DAYLIGHT
BEGIN:STANDARD
TZOFFSETFROM:+0200
TZOFFSETTO:+0100
TZNAME:CET
DTSTART:20261025T010000
END:STANDARD
BEGIN:DAYLIGHT
TZOFFSETFROM:+0100
TZOFFSETTO:+0200
TZNAME:CEST
DTSTART:20270328T010000
END:DAYLIGHT
BEGIN:STANDARD
TZOFFSETFROM:+0200
TZOFFSETTO:+0100
TZNAME:CET
DTSTART:20271031T010000
END:STANDARD
END:VTIMEZONE
BEGIN:VEVENT
DTSTART;TZID=Europe/Prague:20260505T190000
DTEND;TZID=Europe/Prague:20260505T220000
DTSTAMP:20260420T021645
CREATED:20260117T173244Z
LAST-MODIFIED:20260117T173245Z
UID:41752-1778007600-1778018400@nasejiznimorava.cz
SUMMARY:Hudba Coldplay při svíčkách
DESCRIPTION:Hudba Coldplay při svíčkách se uskuteční dne 2026-05-05 v 19:00 v Valašské Meziříčí\, Kulturní zařízení. \n🎟️ Koupit vstupenku \n\nNenechte si ujít večer plný energie a emocí\, kde zazní ty největší hity britské kapely Coldplay. Světlo stovky svíček vytvoří nezapomenutelnou atmosféru tohoto jedinečného koncertu. \nProgram v podání smyčcového kvarteta nabídne výběr těch nejznámějších skladeb Coldplay\, včetně hitů jako „Fix You“\, „Yellow“ či „Viva La Vida“\, které si získaly srdce fanoušků po celém světě. \nTento koncert přinese víc než jen hudbu; stovky svíček rozzáří prostor a vytvoří atmosféru plnou emocí\, melancholie a nezapomenutelných melodií\, které vás vezmou na hudební cestu s Coldplay. \nAkce je přístupná od 12 let. Každý účastník musí předložit platnou vstupenku  zakoupenou výhradně v síti smsticket. \n\nTento tip na kulturní akci v Valašské Meziříčí najdete v přehledu na nasejiznimorava.cz kde na jednom místě shromažďujeme desítky dalších koncertů\, festivalů\, divadelních představení i komunitních událostí z celého regionu i z celé ČR. Přehled je přehledně řazený\, pravidelně aktualizovaný a umožní vám rychle najít přesně to\, co vás zajímá – od velkých open-air akcí až po menší lokální programy. Každý si tak snadno vybere podle svého vkusu i času. Pokud vás některá akce zaujme\, nezapomeňte si včas zajistit vstupenky; stačí kliknout na detail události a budete bezpečně přesměrováni na oficiálního prodejce vstupenek..
URL:https://nasejiznimorava.cz/event/hudba-coldplay-pri-svickach-16/
LOCATION:Kulturní zařízení\, Valašské Meziříčí\, Kulturní zařízení\, Valašské Meziříčí\, Česká republika
CATEGORIES:Koncert
ATTACH;FMTTYPE=image/jpeg:https://nasejiznimorava.cz/wp-content/uploads/2026/01/320-4659107a44004a1d8346efe02d1617e4.jpg
END:VEVENT
BEGIN:VEVENT
DTSTART;TZID=Europe/Prague:20261017T190000
DTEND;TZID=Europe/Prague:20261017T220000
DTSTAMP:20260420T021645
CREATED:20251217T151333Z
LAST-MODIFIED:20251217T151334Z
UID:40655-1792263600-1792274400@nasejiznimorava.cz
SUMMARY:Travesti show Divoké kočky ve Valašském Meziřičí
DESCRIPTION:Travesti show Divoké kočky ve Valašském Meziřičí se uskuteční dne 2026-10-17 v 19:00 v Valašské Meziříčí\, Kulturní dům. \n🎟️ Koupit vstupenku \n\nTravesti skupina Divoké kočky z Ostravy přijíždí v rámci svého turné se svým novým programem opět do Valašského Meziřičí\, kde vystoupí v sobotu 17.10.2026 od 19:00 na sále kulturního domu Hrachovec. Délka programu s přestávkou 180 min. \nCelovečerní zábavný program je plný nezapomenutelných legračních scének\, písniček\, známých zpěvaček\, krásných kostýmů\, situačního humoru a hlavně smíchu a je vhodný jak pro ženské tak pánské publikum. Jejich vystoupení se těší stálé větší oblibě a tak si každý divák přijde na své. Přijdte se sami přesvědčit\, že na travesti představení není nic špatného a v podání ostravských umělců se budete určitě dobře bavit. \nDivoké kočky jezdí se svým programem na valašsko pravidelně a proto se těší opět na úžasné místní publikum\, atmosféru a skvělý večer. Na závěr programu Vám členové souboru ukážou svou pravou tvář. \n\nTento tip na kulturní akci v Valašské Meziříčí najdete v přehledu na nasejiznimorava.cz kde na jednom místě shromažďujeme desítky dalších koncertů\, festivalů\, divadelních představení i komunitních událostí z celého regionu i z celé ČR. Přehled je přehledně řazený\, pravidelně aktualizovaný a umožní vám rychle najít přesně to\, co vás zajímá – od velkých open-air akcí až po menší lokální programy. Každý si tak snadno vybere podle svého vkusu i času. Pokud vás některá akce zaujme\, nezapomeňte si včas zajistit vstupenky; stačí kliknout na detail události a budete bezpečně přesměrováni na oficiálního prodejce vstupenek..
URL:https://nasejiznimorava.cz/event/travesti-show-divoke-kocky-ve-valasskem-mezirici/
LOCATION:Kulturní dům\, Valašské Meziříčí\, Kulturní dům\, Valašské Meziříčí\, Česká republika
CATEGORIES:Zábava
ATTACH;FMTTYPE=image/jpeg:https://nasejiznimorava.cz/wp-content/uploads/2025/12/320-71d25587e17b4c48b977cdb812ae74fd.jpg
END:VEVENT
END:VCALENDAR