BEGIN:VCALENDAR
VERSION:2.0
PRODID:-// „Objev místa, kde se dobře pije, krásně spí a skvěle žije“  - ECPv6.15.20//NONSGML v1.0//EN
CALSCALE:GREGORIAN
METHOD:PUBLISH
X-WR-CALNAME: „Objev místa, kde se dobře pije, krásně spí a skvěle žije“ 
X-ORIGINAL-URL:https://nasejiznimorava.cz
X-WR-CALDESC:Akce na  „Objev místa, kde se dobře pije, krásně spí a skvěle žije“ 
REFRESH-INTERVAL;VALUE=DURATION:PT1H
X-Robots-Tag:noindex
X-PUBLISHED-TTL:PT1H
BEGIN:VTIMEZONE
TZID:Europe/Prague
BEGIN:DAYLIGHT
TZOFFSETFROM:+0100
TZOFFSETTO:+0200
TZNAME:CEST
DTSTART:20250330T010000
END:DAYLIGHT
BEGIN:STANDARD
TZOFFSETFROM:+0200
TZOFFSETTO:+0100
TZNAME:CET
DTSTART:20251026T010000
END:STANDARD
BEGIN:DAYLIGHT
TZOFFSETFROM:+0100
TZOFFSETTO:+0200
TZNAME:CEST
DTSTART:20260329T010000
END:DAYLIGHT
BEGIN:STANDARD
TZOFFSETFROM:+0200
TZOFFSETTO:+0100
TZNAME:CET
DTSTART:20261025T010000
END:STANDARD
BEGIN:DAYLIGHT
TZOFFSETFROM:+0100
TZOFFSETTO:+0200
TZNAME:CEST
DTSTART:20270328T010000
END:DAYLIGHT
BEGIN:STANDARD
TZOFFSETFROM:+0200
TZOFFSETTO:+0100
TZNAME:CET
DTSTART:20271031T010000
END:STANDARD
END:VTIMEZONE
BEGIN:VEVENT
DTSTART;TZID=Europe/Prague:20260520T190000
DTEND;TZID=Europe/Prague:20260520T220000
DTSTAMP:20260420T021507
CREATED:20251111T133844Z
LAST-MODIFIED:20251111T133844Z
UID:37322-1779303600-1779314400@nasejiznimorava.cz
SUMMARY:Muzikály Josefa Vojtka ve Zlíně
DESCRIPTION:Muzikály Josefa Vojtka ve Zlíně se uskuteční dne 2026-05-20 v 19:00 v Zlín\, Kongresové centrum. \n🎟️ Koupit vstupenku \n\nPro velký zájem jsme přidali další termín ve Zlíně! \n„MUZIKÁLY JOSEFA VOJTKA – Tak trochu rockově“ \nNenechte si ujít jedinečnou možnost zažít vystoupení jednoho z nejvýraznějších hlasů české rockové a muzikálové scény. Za doprovodu známé kapely Charlie Band zazní  písně z muzikálů ve kterých Josef Vojtek účinkoval. Tři Mušketýři\, Angelika\, Kleopatra\, Hamlet\, Dracula\, a mnoho dalších. Připravte se na velkolepý zážitek\, kde se srdce rockera potká s vášní pro muzikály.  \n\nTento tip na kulturní akci v Zlín najdete v přehledu na nasejiznimorava.cz kde na jednom místě shromažďujeme desítky dalších koncertů\, festivalů\, divadelních představení i komunitních událostí z celého regionu i z celé ČR. Přehled je přehledně řazený\, pravidelně aktualizovaný a umožní vám rychle najít přesně to\, co vás zajímá – od velkých open-air akcí až po menší lokální programy. Každý si tak snadno vybere podle svého vkusu i času. Pokud vás některá akce zaujme\, nezapomeňte si včas zajistit vstupenky; stačí kliknout na detail události a budete bezpečně přesměrováni na oficiálního prodejce vstupenek..
URL:https://nasejiznimorava.cz/event/muzikaly-josefa-vojtka-ve-zline/
LOCATION:Kongresové centrum\, Zlín\, Kongresové centrum\, Zlín\, Česká republika
CATEGORIES:Koncert
ATTACH;FMTTYPE=image/jpeg:https://nasejiznimorava.cz/wp-content/uploads/2025/11/320-067a31b1845f42a58c12c6e57bf98a47.jpg
END:VEVENT
BEGIN:VEVENT
DTSTART;TZID=Europe/Prague:20260618T190000
DTEND;TZID=Europe/Prague:20260618T220000
DTSTAMP:20260420T021507
CREATED:20260123T180321Z
LAST-MODIFIED:20260123T180328Z
UID:41933-1781809200-1781820000@nasejiznimorava.cz
SUMMARY:Hudba Bridgerton při svíčkách
DESCRIPTION:Hudba Bridgerton při svíčkách se uskuteční dne 2026-06-18 v 19:00 v Zlín\, Kongresové centrum. \n🎟️ Koupit vstupenku \n\nNenechte si ujít večer plný romantiky a elegance\, kde zazní ty nejznámější melodie a písně z oblíbeného seriálu Bridgerton. Světlo stovky svíček vytvoří okouzlující atmosféru koncertu. \nProgram v jedinečném provedení smyčcového kvarteta představí výběr hudebních skladeb z tohoto populárního seriálu\, inspirovaných klasickými díly i moderními popovými melodiemi\, které si získaly srdce diváků po celém světě. \nTento koncert nabídne víc než jen hudbu; stovky svíček rozzáří prostor a vytvoří atmosféru plnou noblesy\, romantiky a neodolatelného kouzla historické doby. \nAkce je přístupná od 12 let. Každý účastník musí předložit platnou vstupenku  zakoupenou výhradně v síti smsticket. \n\nTento tip na kulturní akci v Zlín najdete v přehledu na nasejiznimorava.cz kde na jednom místě shromažďujeme desítky dalších koncertů\, festivalů\, divadelních představení i komunitních událostí z celého regionu i z celé ČR. Přehled je přehledně řazený\, pravidelně aktualizovaný a umožní vám rychle najít přesně to\, co vás zajímá – od velkých open-air akcí až po menší lokální programy. Každý si tak snadno vybere podle svého vkusu i času. Pokud vás některá akce zaujme\, nezapomeňte si včas zajistit vstupenky; stačí kliknout na detail události a budete bezpečně přesměrováni na oficiálního prodejce vstupenek..
URL:https://nasejiznimorava.cz/event/hudba-bridgerton-pri-svickach-30/
LOCATION:Kongresové centrum\, Zlín\, Kongresové centrum\, Zlín\, Česká republika
CATEGORIES:Koncert
ATTACH;FMTTYPE=image/jpeg:https://nasejiznimorava.cz/wp-content/uploads/2026/01/320-5c9c6a06bd8a4d9c878e17898c1b1d3d.jpg
END:VEVENT
BEGIN:VEVENT
DTSTART;TZID=Europe/Prague:20261016T190000
DTEND;TZID=Europe/Prague:20261016T220000
DTSTAMP:20260420T021507
CREATED:20251129T071718Z
LAST-MODIFIED:20251129T071719Z
UID:39436-1792177200-1792188000@nasejiznimorava.cz
SUMMARY:Baťman - Divadlo Na Jezerce
DESCRIPTION:Baťman – Divadlo Na Jezerce se uskuteční dne 2026-10-16 v 19:00 v Zlín\, Malá scéna Zlín. \n🎟️ Koupit vstupenku \n\nScéna: Jan Balcar. Kostýmy: Hana Soukupová. Hudba: Václav Tobrman. Pohybová spolupráce: Martin Pacek. Režie: Petr Vacek. \n  \nDavid Suchařípa\, Ivo Šmoldas\, Miluše Šplechtová\, Jan Řezníček\, Martin Leták\, Ondřej Dvořák\, Johana Jedličková \n  \nAutorská inscenace o „ševci“\, který dobyl svět. Fenomén úspěchu a solidnosti. O životě a podnikatelském zdaru zakladatele obuvnického impéria. Jak zásady Tomáše Bati ovlivnily celý svět… \n \n\nTento tip na kulturní akci v Zlín najdete v přehledu na nasejiznimorava.cz kde na jednom místě shromažďujeme desítky dalších koncertů\, festivalů\, divadelních představení i komunitních událostí z celého regionu i z celé ČR. Přehled je přehledně řazený\, pravidelně aktualizovaný a umožní vám rychle najít přesně to\, co vás zajímá – od velkých open-air akcí až po menší lokální programy. Každý si tak snadno vybere podle svého vkusu i času. Pokud vás některá akce zaujme\, nezapomeňte si včas zajistit vstupenky; stačí kliknout na detail události a budete bezpečně přesměrováni na oficiálního prodejce vstupenek..
URL:https://nasejiznimorava.cz/event/batman-divadlo-na-jezerce/
LOCATION:Malá scéna Zlín\, Zlín\, Malá scéna Zlín\, Zlín\, Česká republika
CATEGORIES:Divadlo
ATTACH;FMTTYPE=image/jpeg:https://nasejiznimorava.cz/wp-content/uploads/2025/11/320-edeeb0dfa16249bc90f533b4d0785d7b.jpg
END:VEVENT
BEGIN:VEVENT
DTSTART;TZID=Europe/Prague:20261017T190000
DTEND;TZID=Europe/Prague:20261017T220000
DTSTAMP:20260420T021507
CREATED:20251129T071719Z
LAST-MODIFIED:20251129T071719Z
UID:39439-1792263600-1792274400@nasejiznimorava.cz
SUMMARY:Baťman - Divadlo Na Jezerce
DESCRIPTION:Baťman – Divadlo Na Jezerce se uskuteční dne 2026-10-17 v 19:00 v Zlín\, Malá scéna Zlín. \n🎟️ Koupit vstupenku \n\nScéna: Jan Balcar. Kostýmy: Hana Soukupová. Hudba: Václav Tobrman. Pohybová spolupráce: Martin Pacek. Režie: Petr Vacek. \n  \nDavid Suchařípa\, Ivo Šmoldas\, Miluše Šplechtová\, Jan Řezníček\, Martin Leták\, Ondřej Dvořák\, Johana Jedličková \n  \nAutorská inscenace o „ševci“\, který dobyl svět. Fenomén úspěchu a solidnosti. O životě a podnikatelském zdaru zakladatele obuvnického impéria. Jak zásady Tomáše Bati ovlivnily celý svět… \n\nTento tip na kulturní akci v Zlín najdete v přehledu na nasejiznimorava.cz kde na jednom místě shromažďujeme desítky dalších koncertů\, festivalů\, divadelních představení i komunitních událostí z celého regionu i z celé ČR. Přehled je přehledně řazený\, pravidelně aktualizovaný a umožní vám rychle najít přesně to\, co vás zajímá – od velkých open-air akcí až po menší lokální programy. Každý si tak snadno vybere podle svého vkusu i času. Pokud vás některá akce zaujme\, nezapomeňte si včas zajistit vstupenky; stačí kliknout na detail události a budete bezpečně přesměrováni na oficiálního prodejce vstupenek..
URL:https://nasejiznimorava.cz/event/batman-divadlo-na-jezerce-2/
LOCATION:Malá scéna Zlín\, Zlín\, Malá scéna Zlín\, Zlín\, Česká republika
CATEGORIES:Divadlo
ATTACH;FMTTYPE=image/jpeg:https://nasejiznimorava.cz/wp-content/uploads/2025/11/320-af14a025fcaf468b92215ebe27ddbd02.jpg
END:VEVENT
END:VCALENDAR